BEGIN:VCALENDAR
VERSION:2.0
PRODID:-//Angebote für Seniorinnen und Senioren im Bezirk Eimsbüttel - ECPv6.15.18//NONSGML v1.0//EN
CALSCALE:GREGORIAN
METHOD:PUBLISH
X-WR-CALNAME:Angebote für Seniorinnen und Senioren im Bezirk Eimsbüttel
X-ORIGINAL-URL:https://eimsbuettel-senioren.de
X-WR-CALDESC:Veranstaltungen für Angebote für Seniorinnen und Senioren im Bezirk Eimsbüttel
REFRESH-INTERVAL;VALUE=DURATION:PT1H
X-Robots-Tag:noindex
X-PUBLISHED-TTL:PT1H
BEGIN:VTIMEZONE
TZID:Europe/Berlin
BEGIN:DAYLIGHT
TZOFFSETFROM:+0100
TZOFFSETTO:+0200
TZNAME:CEST
DTSTART:20250330T010000
END:DAYLIGHT
BEGIN:STANDARD
TZOFFSETFROM:+0200
TZOFFSETTO:+0100
TZNAME:CET
DTSTART:20251026T010000
END:STANDARD
BEGIN:DAYLIGHT
TZOFFSETFROM:+0100
TZOFFSETTO:+0200
TZNAME:CEST
DTSTART:20260329T010000
END:DAYLIGHT
BEGIN:STANDARD
TZOFFSETFROM:+0200
TZOFFSETTO:+0100
TZNAME:CET
DTSTART:20261025T010000
END:STANDARD
BEGIN:DAYLIGHT
TZOFFSETFROM:+0100
TZOFFSETTO:+0200
TZNAME:CEST
DTSTART:20270328T010000
END:DAYLIGHT
BEGIN:STANDARD
TZOFFSETFROM:+0200
TZOFFSETTO:+0100
TZNAME:CET
DTSTART:20271031T010000
END:STANDARD
END:VTIMEZONE
BEGIN:VEVENT
DTSTART;TZID=Europe/Berlin:20260424T100000
DTEND;TZID=Europe/Berlin:20260424T120000
DTSTAMP:20260423T163018
CREATED:20231116T220928Z
LAST-MODIFIED:20250629T125130Z
UID:10009736-1777024800-1777032000@eimsbuettel-senioren.de
SUMMARY:Englisch
DESCRIPTION:Englisch für Anfänger von 10:00 bis 12:00 Uhr\, \nFr. Crato und Fr. Schreiber
URL:https://eimsbuettel-senioren.de/angebot/englisch-fuer-anfaenger/2026-04-24/
LOCATION:Ev.- Luth. Kirchengemeinde Eidelstedt (Elisabethkirche)\, Eidelstedter Dorfstraße 27\, Hamburg\, Hamburg\, 22527\, Deutschland
CATEGORIES:Bildung / Seminar,Religion
ORGANIZER;CN="Diakon Uwe Loose":MAILTO:loose@kirchengemeinde-eidelstedt.de
END:VEVENT
BEGIN:VEVENT
DTSTART;TZID=Europe/Berlin:20260501T100000
DTEND;TZID=Europe/Berlin:20260501T120000
DTSTAMP:20260423T163018
CREATED:20231116T220928Z
LAST-MODIFIED:20250629T125130Z
UID:10009737-1777629600-1777636800@eimsbuettel-senioren.de
SUMMARY:Englisch
DESCRIPTION:Englisch für Anfänger von 10:00 bis 12:00 Uhr\, \nFr. Crato und Fr. Schreiber
URL:https://eimsbuettel-senioren.de/angebot/englisch-fuer-anfaenger/2026-05-01/
LOCATION:Ev.- Luth. Kirchengemeinde Eidelstedt (Elisabethkirche)\, Eidelstedter Dorfstraße 27\, Hamburg\, Hamburg\, 22527\, Deutschland
CATEGORIES:Bildung / Seminar,Religion
ORGANIZER;CN="Diakon Uwe Loose":MAILTO:loose@kirchengemeinde-eidelstedt.de
END:VEVENT
BEGIN:VEVENT
DTSTART;TZID=Europe/Berlin:20260508T100000
DTEND;TZID=Europe/Berlin:20260508T120000
DTSTAMP:20260423T163018
CREATED:20231116T220928Z
LAST-MODIFIED:20250629T125130Z
UID:10009738-1778234400-1778241600@eimsbuettel-senioren.de
SUMMARY:Englisch
DESCRIPTION:Englisch für Anfänger von 10:00 bis 12:00 Uhr\, \nFr. Crato und Fr. Schreiber
URL:https://eimsbuettel-senioren.de/angebot/englisch-fuer-anfaenger/2026-05-08/
LOCATION:Ev.- Luth. Kirchengemeinde Eidelstedt (Elisabethkirche)\, Eidelstedter Dorfstraße 27\, Hamburg\, Hamburg\, 22527\, Deutschland
CATEGORIES:Bildung / Seminar,Religion
ORGANIZER;CN="Diakon Uwe Loose":MAILTO:loose@kirchengemeinde-eidelstedt.de
END:VEVENT
BEGIN:VEVENT
DTSTART;TZID=Europe/Berlin:20260515T100000
DTEND;TZID=Europe/Berlin:20260515T120000
DTSTAMP:20260423T163018
CREATED:20231116T220928Z
LAST-MODIFIED:20250629T125130Z
UID:10009739-1778839200-1778846400@eimsbuettel-senioren.de
SUMMARY:Englisch
DESCRIPTION:Englisch für Anfänger von 10:00 bis 12:00 Uhr\, \nFr. Crato und Fr. Schreiber
URL:https://eimsbuettel-senioren.de/angebot/englisch-fuer-anfaenger/2026-05-15/
LOCATION:Ev.- Luth. Kirchengemeinde Eidelstedt (Elisabethkirche)\, Eidelstedter Dorfstraße 27\, Hamburg\, Hamburg\, 22527\, Deutschland
CATEGORIES:Bildung / Seminar,Religion
ORGANIZER;CN="Diakon Uwe Loose":MAILTO:loose@kirchengemeinde-eidelstedt.de
END:VEVENT
BEGIN:VEVENT
DTSTART;TZID=Europe/Berlin:20260522T100000
DTEND;TZID=Europe/Berlin:20260522T120000
DTSTAMP:20260423T163018
CREATED:20231116T220928Z
LAST-MODIFIED:20250629T125130Z
UID:10009740-1779444000-1779451200@eimsbuettel-senioren.de
SUMMARY:Englisch
DESCRIPTION:Englisch für Anfänger von 10:00 bis 12:00 Uhr\, \nFr. Crato und Fr. Schreiber
URL:https://eimsbuettel-senioren.de/angebot/englisch-fuer-anfaenger/2026-05-22/
LOCATION:Ev.- Luth. Kirchengemeinde Eidelstedt (Elisabethkirche)\, Eidelstedter Dorfstraße 27\, Hamburg\, Hamburg\, 22527\, Deutschland
CATEGORIES:Bildung / Seminar,Religion
ORGANIZER;CN="Diakon Uwe Loose":MAILTO:loose@kirchengemeinde-eidelstedt.de
END:VEVENT
BEGIN:VEVENT
DTSTART;TZID=Europe/Berlin:20260529T100000
DTEND;TZID=Europe/Berlin:20260529T120000
DTSTAMP:20260423T163018
CREATED:20231116T220928Z
LAST-MODIFIED:20250629T125130Z
UID:10009741-1780048800-1780056000@eimsbuettel-senioren.de
SUMMARY:Englisch
DESCRIPTION:Englisch für Anfänger von 10:00 bis 12:00 Uhr\, \nFr. Crato und Fr. Schreiber
URL:https://eimsbuettel-senioren.de/angebot/englisch-fuer-anfaenger/2026-05-29/
LOCATION:Ev.- Luth. Kirchengemeinde Eidelstedt (Elisabethkirche)\, Eidelstedter Dorfstraße 27\, Hamburg\, Hamburg\, 22527\, Deutschland
CATEGORIES:Bildung / Seminar,Religion
ORGANIZER;CN="Diakon Uwe Loose":MAILTO:loose@kirchengemeinde-eidelstedt.de
END:VEVENT
BEGIN:VEVENT
DTSTART;TZID=Europe/Berlin:20260605T100000
DTEND;TZID=Europe/Berlin:20260605T120000
DTSTAMP:20260423T163018
CREATED:20231116T220928Z
LAST-MODIFIED:20250629T125130Z
UID:10009742-1780653600-1780660800@eimsbuettel-senioren.de
SUMMARY:Englisch
DESCRIPTION:Englisch für Anfänger von 10:00 bis 12:00 Uhr\, \nFr. Crato und Fr. Schreiber
URL:https://eimsbuettel-senioren.de/angebot/englisch-fuer-anfaenger/2026-06-05/
LOCATION:Ev.- Luth. Kirchengemeinde Eidelstedt (Elisabethkirche)\, Eidelstedter Dorfstraße 27\, Hamburg\, Hamburg\, 22527\, Deutschland
CATEGORIES:Bildung / Seminar,Religion
ORGANIZER;CN="Diakon Uwe Loose":MAILTO:loose@kirchengemeinde-eidelstedt.de
END:VEVENT
BEGIN:VEVENT
DTSTART;TZID=Europe/Berlin:20260612T100000
DTEND;TZID=Europe/Berlin:20260612T120000
DTSTAMP:20260423T163018
CREATED:20231116T220928Z
LAST-MODIFIED:20250629T125130Z
UID:10009743-1781258400-1781265600@eimsbuettel-senioren.de
SUMMARY:Englisch
DESCRIPTION:Englisch für Anfänger von 10:00 bis 12:00 Uhr\, \nFr. Crato und Fr. Schreiber
URL:https://eimsbuettel-senioren.de/angebot/englisch-fuer-anfaenger/2026-06-12/
LOCATION:Ev.- Luth. Kirchengemeinde Eidelstedt (Elisabethkirche)\, Eidelstedter Dorfstraße 27\, Hamburg\, Hamburg\, 22527\, Deutschland
CATEGORIES:Bildung / Seminar,Religion
ORGANIZER;CN="Diakon Uwe Loose":MAILTO:loose@kirchengemeinde-eidelstedt.de
END:VEVENT
BEGIN:VEVENT
DTSTART;TZID=Europe/Berlin:20260619T100000
DTEND;TZID=Europe/Berlin:20260619T120000
DTSTAMP:20260423T163018
CREATED:20231116T220928Z
LAST-MODIFIED:20250629T125130Z
UID:10009744-1781863200-1781870400@eimsbuettel-senioren.de
SUMMARY:Englisch
DESCRIPTION:Englisch für Anfänger von 10:00 bis 12:00 Uhr\, \nFr. Crato und Fr. Schreiber
URL:https://eimsbuettel-senioren.de/angebot/englisch-fuer-anfaenger/2026-06-19/
LOCATION:Ev.- Luth. Kirchengemeinde Eidelstedt (Elisabethkirche)\, Eidelstedter Dorfstraße 27\, Hamburg\, Hamburg\, 22527\, Deutschland
CATEGORIES:Bildung / Seminar,Religion
ORGANIZER;CN="Diakon Uwe Loose":MAILTO:loose@kirchengemeinde-eidelstedt.de
END:VEVENT
BEGIN:VEVENT
DTSTART;TZID=Europe/Berlin:20260626T100000
DTEND;TZID=Europe/Berlin:20260626T120000
DTSTAMP:20260423T163018
CREATED:20231116T220928Z
LAST-MODIFIED:20250629T125130Z
UID:10009745-1782468000-1782475200@eimsbuettel-senioren.de
SUMMARY:Englisch
DESCRIPTION:Englisch für Anfänger von 10:00 bis 12:00 Uhr\, \nFr. Crato und Fr. Schreiber
URL:https://eimsbuettel-senioren.de/angebot/englisch-fuer-anfaenger/2026-06-26/
LOCATION:Ev.- Luth. Kirchengemeinde Eidelstedt (Elisabethkirche)\, Eidelstedter Dorfstraße 27\, Hamburg\, Hamburg\, 22527\, Deutschland
CATEGORIES:Bildung / Seminar,Religion
ORGANIZER;CN="Diakon Uwe Loose":MAILTO:loose@kirchengemeinde-eidelstedt.de
END:VEVENT
BEGIN:VEVENT
DTSTART;TZID=Europe/Berlin:20260703T100000
DTEND;TZID=Europe/Berlin:20260703T120000
DTSTAMP:20260423T163018
CREATED:20231116T220928Z
LAST-MODIFIED:20250629T125130Z
UID:10009746-1783072800-1783080000@eimsbuettel-senioren.de
SUMMARY:Englisch
DESCRIPTION:Englisch für Anfänger von 10:00 bis 12:00 Uhr\, \nFr. Crato und Fr. Schreiber
URL:https://eimsbuettel-senioren.de/angebot/englisch-fuer-anfaenger/2026-07-03/
LOCATION:Ev.- Luth. Kirchengemeinde Eidelstedt (Elisabethkirche)\, Eidelstedter Dorfstraße 27\, Hamburg\, Hamburg\, 22527\, Deutschland
CATEGORIES:Bildung / Seminar,Religion
ORGANIZER;CN="Diakon Uwe Loose":MAILTO:loose@kirchengemeinde-eidelstedt.de
END:VEVENT
BEGIN:VEVENT
DTSTART;TZID=Europe/Berlin:20260710T100000
DTEND;TZID=Europe/Berlin:20260710T120000
DTSTAMP:20260423T163018
CREATED:20231116T220928Z
LAST-MODIFIED:20250629T125130Z
UID:10009747-1783677600-1783684800@eimsbuettel-senioren.de
SUMMARY:Englisch
DESCRIPTION:Englisch für Anfänger von 10:00 bis 12:00 Uhr\, \nFr. Crato und Fr. Schreiber
URL:https://eimsbuettel-senioren.de/angebot/englisch-fuer-anfaenger/2026-07-10/
LOCATION:Ev.- Luth. Kirchengemeinde Eidelstedt (Elisabethkirche)\, Eidelstedter Dorfstraße 27\, Hamburg\, Hamburg\, 22527\, Deutschland
CATEGORIES:Bildung / Seminar,Religion
ORGANIZER;CN="Diakon Uwe Loose":MAILTO:loose@kirchengemeinde-eidelstedt.de
END:VEVENT
BEGIN:VEVENT
DTSTART;TZID=Europe/Berlin:20260717T100000
DTEND;TZID=Europe/Berlin:20260717T120000
DTSTAMP:20260423T163018
CREATED:20231116T220928Z
LAST-MODIFIED:20250629T125130Z
UID:10009748-1784282400-1784289600@eimsbuettel-senioren.de
SUMMARY:Englisch
DESCRIPTION:Englisch für Anfänger von 10:00 bis 12:00 Uhr\, \nFr. Crato und Fr. Schreiber
URL:https://eimsbuettel-senioren.de/angebot/englisch-fuer-anfaenger/2026-07-17/
LOCATION:Ev.- Luth. Kirchengemeinde Eidelstedt (Elisabethkirche)\, Eidelstedter Dorfstraße 27\, Hamburg\, Hamburg\, 22527\, Deutschland
CATEGORIES:Bildung / Seminar,Religion
ORGANIZER;CN="Diakon Uwe Loose":MAILTO:loose@kirchengemeinde-eidelstedt.de
END:VEVENT
BEGIN:VEVENT
DTSTART;TZID=Europe/Berlin:20260724T100000
DTEND;TZID=Europe/Berlin:20260724T120000
DTSTAMP:20260423T163018
CREATED:20231116T220928Z
LAST-MODIFIED:20250629T125130Z
UID:10009749-1784887200-1784894400@eimsbuettel-senioren.de
SUMMARY:Englisch
DESCRIPTION:Englisch für Anfänger von 10:00 bis 12:00 Uhr\, \nFr. Crato und Fr. Schreiber
URL:https://eimsbuettel-senioren.de/angebot/englisch-fuer-anfaenger/2026-07-24/
LOCATION:Ev.- Luth. Kirchengemeinde Eidelstedt (Elisabethkirche)\, Eidelstedter Dorfstraße 27\, Hamburg\, Hamburg\, 22527\, Deutschland
CATEGORIES:Bildung / Seminar,Religion
ORGANIZER;CN="Diakon Uwe Loose":MAILTO:loose@kirchengemeinde-eidelstedt.de
END:VEVENT
BEGIN:VEVENT
DTSTART;TZID=Europe/Berlin:20260731T100000
DTEND;TZID=Europe/Berlin:20260731T120000
DTSTAMP:20260423T163018
CREATED:20231116T220928Z
LAST-MODIFIED:20250629T125130Z
UID:10009750-1785492000-1785499200@eimsbuettel-senioren.de
SUMMARY:Englisch
DESCRIPTION:Englisch für Anfänger von 10:00 bis 12:00 Uhr\, \nFr. Crato und Fr. Schreiber
URL:https://eimsbuettel-senioren.de/angebot/englisch-fuer-anfaenger/2026-07-31/
LOCATION:Ev.- Luth. Kirchengemeinde Eidelstedt (Elisabethkirche)\, Eidelstedter Dorfstraße 27\, Hamburg\, Hamburg\, 22527\, Deutschland
CATEGORIES:Bildung / Seminar,Religion
ORGANIZER;CN="Diakon Uwe Loose":MAILTO:loose@kirchengemeinde-eidelstedt.de
END:VEVENT
BEGIN:VEVENT
DTSTART;TZID=Europe/Berlin:20260807T100000
DTEND;TZID=Europe/Berlin:20260807T120000
DTSTAMP:20260423T163018
CREATED:20231116T220928Z
LAST-MODIFIED:20250629T125130Z
UID:10009751-1786096800-1786104000@eimsbuettel-senioren.de
SUMMARY:Englisch
DESCRIPTION:Englisch für Anfänger von 10:00 bis 12:00 Uhr\, \nFr. Crato und Fr. Schreiber
URL:https://eimsbuettel-senioren.de/angebot/englisch-fuer-anfaenger/2026-08-07/
LOCATION:Ev.- Luth. Kirchengemeinde Eidelstedt (Elisabethkirche)\, Eidelstedter Dorfstraße 27\, Hamburg\, Hamburg\, 22527\, Deutschland
CATEGORIES:Bildung / Seminar,Religion
ORGANIZER;CN="Diakon Uwe Loose":MAILTO:loose@kirchengemeinde-eidelstedt.de
END:VEVENT
BEGIN:VEVENT
DTSTART;TZID=Europe/Berlin:20260814T100000
DTEND;TZID=Europe/Berlin:20260814T120000
DTSTAMP:20260423T163018
CREATED:20231116T220928Z
LAST-MODIFIED:20250629T125130Z
UID:10009752-1786701600-1786708800@eimsbuettel-senioren.de
SUMMARY:Englisch
DESCRIPTION:Englisch für Anfänger von 10:00 bis 12:00 Uhr\, \nFr. Crato und Fr. Schreiber
URL:https://eimsbuettel-senioren.de/angebot/englisch-fuer-anfaenger/2026-08-14/
LOCATION:Ev.- Luth. Kirchengemeinde Eidelstedt (Elisabethkirche)\, Eidelstedter Dorfstraße 27\, Hamburg\, Hamburg\, 22527\, Deutschland
CATEGORIES:Bildung / Seminar,Religion
ORGANIZER;CN="Diakon Uwe Loose":MAILTO:loose@kirchengemeinde-eidelstedt.de
END:VEVENT
BEGIN:VEVENT
DTSTART;TZID=Europe/Berlin:20260821T100000
DTEND;TZID=Europe/Berlin:20260821T120000
DTSTAMP:20260423T163018
CREATED:20231116T220928Z
LAST-MODIFIED:20250629T125130Z
UID:10009753-1787306400-1787313600@eimsbuettel-senioren.de
SUMMARY:Englisch
DESCRIPTION:Englisch für Anfänger von 10:00 bis 12:00 Uhr\, \nFr. Crato und Fr. Schreiber
URL:https://eimsbuettel-senioren.de/angebot/englisch-fuer-anfaenger/2026-08-21/
LOCATION:Ev.- Luth. Kirchengemeinde Eidelstedt (Elisabethkirche)\, Eidelstedter Dorfstraße 27\, Hamburg\, Hamburg\, 22527\, Deutschland
CATEGORIES:Bildung / Seminar,Religion
ORGANIZER;CN="Diakon Uwe Loose":MAILTO:loose@kirchengemeinde-eidelstedt.de
END:VEVENT
BEGIN:VEVENT
DTSTART;TZID=Europe/Berlin:20260828T100000
DTEND;TZID=Europe/Berlin:20260828T120000
DTSTAMP:20260423T163018
CREATED:20231116T220928Z
LAST-MODIFIED:20250629T125130Z
UID:10009754-1787911200-1787918400@eimsbuettel-senioren.de
SUMMARY:Englisch
DESCRIPTION:Englisch für Anfänger von 10:00 bis 12:00 Uhr\, \nFr. Crato und Fr. Schreiber
URL:https://eimsbuettel-senioren.de/angebot/englisch-fuer-anfaenger/2026-08-28/
LOCATION:Ev.- Luth. Kirchengemeinde Eidelstedt (Elisabethkirche)\, Eidelstedter Dorfstraße 27\, Hamburg\, Hamburg\, 22527\, Deutschland
CATEGORIES:Bildung / Seminar,Religion
ORGANIZER;CN="Diakon Uwe Loose":MAILTO:loose@kirchengemeinde-eidelstedt.de
END:VEVENT
BEGIN:VEVENT
DTSTART;TZID=Europe/Berlin:20260904T100000
DTEND;TZID=Europe/Berlin:20260904T120000
DTSTAMP:20260423T163018
CREATED:20231116T220928Z
LAST-MODIFIED:20250629T125130Z
UID:10009755-1788516000-1788523200@eimsbuettel-senioren.de
SUMMARY:Englisch
DESCRIPTION:Englisch für Anfänger von 10:00 bis 12:00 Uhr\, \nFr. Crato und Fr. Schreiber
URL:https://eimsbuettel-senioren.de/angebot/englisch-fuer-anfaenger/2026-09-04/
LOCATION:Ev.- Luth. Kirchengemeinde Eidelstedt (Elisabethkirche)\, Eidelstedter Dorfstraße 27\, Hamburg\, Hamburg\, 22527\, Deutschland
CATEGORIES:Bildung / Seminar,Religion
ORGANIZER;CN="Diakon Uwe Loose":MAILTO:loose@kirchengemeinde-eidelstedt.de
END:VEVENT
BEGIN:VEVENT
DTSTART;TZID=Europe/Berlin:20260911T100000
DTEND;TZID=Europe/Berlin:20260911T120000
DTSTAMP:20260423T163018
CREATED:20231116T220928Z
LAST-MODIFIED:20250629T125130Z
UID:10009756-1789120800-1789128000@eimsbuettel-senioren.de
SUMMARY:Englisch
DESCRIPTION:Englisch für Anfänger von 10:00 bis 12:00 Uhr\, \nFr. Crato und Fr. Schreiber
URL:https://eimsbuettel-senioren.de/angebot/englisch-fuer-anfaenger/2026-09-11/
LOCATION:Ev.- Luth. Kirchengemeinde Eidelstedt (Elisabethkirche)\, Eidelstedter Dorfstraße 27\, Hamburg\, Hamburg\, 22527\, Deutschland
CATEGORIES:Bildung / Seminar,Religion
ORGANIZER;CN="Diakon Uwe Loose":MAILTO:loose@kirchengemeinde-eidelstedt.de
END:VEVENT
BEGIN:VEVENT
DTSTART;TZID=Europe/Berlin:20260918T100000
DTEND;TZID=Europe/Berlin:20260918T120000
DTSTAMP:20260423T163018
CREATED:20231116T220928Z
LAST-MODIFIED:20250629T125130Z
UID:10009757-1789725600-1789732800@eimsbuettel-senioren.de
SUMMARY:Englisch
DESCRIPTION:Englisch für Anfänger von 10:00 bis 12:00 Uhr\, \nFr. Crato und Fr. Schreiber
URL:https://eimsbuettel-senioren.de/angebot/englisch-fuer-anfaenger/2026-09-18/
LOCATION:Ev.- Luth. Kirchengemeinde Eidelstedt (Elisabethkirche)\, Eidelstedter Dorfstraße 27\, Hamburg\, Hamburg\, 22527\, Deutschland
CATEGORIES:Bildung / Seminar,Religion
ORGANIZER;CN="Diakon Uwe Loose":MAILTO:loose@kirchengemeinde-eidelstedt.de
END:VEVENT
BEGIN:VEVENT
DTSTART;TZID=Europe/Berlin:20260925T100000
DTEND;TZID=Europe/Berlin:20260925T120000
DTSTAMP:20260423T163018
CREATED:20231116T220928Z
LAST-MODIFIED:20250629T125130Z
UID:10009758-1790330400-1790337600@eimsbuettel-senioren.de
SUMMARY:Englisch
DESCRIPTION:Englisch für Anfänger von 10:00 bis 12:00 Uhr\, \nFr. Crato und Fr. Schreiber
URL:https://eimsbuettel-senioren.de/angebot/englisch-fuer-anfaenger/2026-09-25/
LOCATION:Ev.- Luth. Kirchengemeinde Eidelstedt (Elisabethkirche)\, Eidelstedter Dorfstraße 27\, Hamburg\, Hamburg\, 22527\, Deutschland
CATEGORIES:Bildung / Seminar,Religion
ORGANIZER;CN="Diakon Uwe Loose":MAILTO:loose@kirchengemeinde-eidelstedt.de
END:VEVENT
BEGIN:VEVENT
DTSTART;TZID=Europe/Berlin:20261002T100000
DTEND;TZID=Europe/Berlin:20261002T120000
DTSTAMP:20260423T163018
CREATED:20231116T220928Z
LAST-MODIFIED:20250629T125130Z
UID:10009759-1790935200-1790942400@eimsbuettel-senioren.de
SUMMARY:Englisch
DESCRIPTION:Englisch für Anfänger von 10:00 bis 12:00 Uhr\, \nFr. Crato und Fr. Schreiber
URL:https://eimsbuettel-senioren.de/angebot/englisch-fuer-anfaenger/2026-10-02/
LOCATION:Ev.- Luth. Kirchengemeinde Eidelstedt (Elisabethkirche)\, Eidelstedter Dorfstraße 27\, Hamburg\, Hamburg\, 22527\, Deutschland
CATEGORIES:Bildung / Seminar,Religion
ORGANIZER;CN="Diakon Uwe Loose":MAILTO:loose@kirchengemeinde-eidelstedt.de
END:VEVENT
BEGIN:VEVENT
DTSTART;TZID=Europe/Berlin:20261009T100000
DTEND;TZID=Europe/Berlin:20261009T120000
DTSTAMP:20260423T163018
CREATED:20231116T220928Z
LAST-MODIFIED:20250629T125130Z
UID:10009760-1791540000-1791547200@eimsbuettel-senioren.de
SUMMARY:Englisch
DESCRIPTION:Englisch für Anfänger von 10:00 bis 12:00 Uhr\, \nFr. Crato und Fr. Schreiber
URL:https://eimsbuettel-senioren.de/angebot/englisch-fuer-anfaenger/2026-10-09/
LOCATION:Ev.- Luth. Kirchengemeinde Eidelstedt (Elisabethkirche)\, Eidelstedter Dorfstraße 27\, Hamburg\, Hamburg\, 22527\, Deutschland
CATEGORIES:Bildung / Seminar,Religion
ORGANIZER;CN="Diakon Uwe Loose":MAILTO:loose@kirchengemeinde-eidelstedt.de
END:VEVENT
BEGIN:VEVENT
DTSTART;TZID=Europe/Berlin:20261016T100000
DTEND;TZID=Europe/Berlin:20261016T120000
DTSTAMP:20260423T163018
CREATED:20231116T220928Z
LAST-MODIFIED:20250629T125130Z
UID:10009761-1792144800-1792152000@eimsbuettel-senioren.de
SUMMARY:Englisch
DESCRIPTION:Englisch für Anfänger von 10:00 bis 12:00 Uhr\, \nFr. Crato und Fr. Schreiber
URL:https://eimsbuettel-senioren.de/angebot/englisch-fuer-anfaenger/2026-10-16/
LOCATION:Ev.- Luth. Kirchengemeinde Eidelstedt (Elisabethkirche)\, Eidelstedter Dorfstraße 27\, Hamburg\, Hamburg\, 22527\, Deutschland
CATEGORIES:Bildung / Seminar,Religion
ORGANIZER;CN="Diakon Uwe Loose":MAILTO:loose@kirchengemeinde-eidelstedt.de
END:VEVENT
BEGIN:VEVENT
DTSTART;TZID=Europe/Berlin:20261023T100000
DTEND;TZID=Europe/Berlin:20261023T120000
DTSTAMP:20260423T163018
CREATED:20231116T220928Z
LAST-MODIFIED:20250629T125130Z
UID:10009762-1792749600-1792756800@eimsbuettel-senioren.de
SUMMARY:Englisch
DESCRIPTION:Englisch für Anfänger von 10:00 bis 12:00 Uhr\, \nFr. Crato und Fr. Schreiber
URL:https://eimsbuettel-senioren.de/angebot/englisch-fuer-anfaenger/2026-10-23/
LOCATION:Ev.- Luth. Kirchengemeinde Eidelstedt (Elisabethkirche)\, Eidelstedter Dorfstraße 27\, Hamburg\, Hamburg\, 22527\, Deutschland
CATEGORIES:Bildung / Seminar,Religion
ORGANIZER;CN="Diakon Uwe Loose":MAILTO:loose@kirchengemeinde-eidelstedt.de
END:VEVENT
BEGIN:VEVENT
DTSTART;TZID=Europe/Berlin:20261030T100000
DTEND;TZID=Europe/Berlin:20261030T120000
DTSTAMP:20260423T163018
CREATED:20231116T220928Z
LAST-MODIFIED:20250629T125130Z
UID:10009763-1793354400-1793361600@eimsbuettel-senioren.de
SUMMARY:Englisch
DESCRIPTION:Englisch für Anfänger von 10:00 bis 12:00 Uhr\, \nFr. Crato und Fr. Schreiber
URL:https://eimsbuettel-senioren.de/angebot/englisch-fuer-anfaenger/2026-10-30/
LOCATION:Ev.- Luth. Kirchengemeinde Eidelstedt (Elisabethkirche)\, Eidelstedter Dorfstraße 27\, Hamburg\, Hamburg\, 22527\, Deutschland
CATEGORIES:Bildung / Seminar,Religion
ORGANIZER;CN="Diakon Uwe Loose":MAILTO:loose@kirchengemeinde-eidelstedt.de
END:VEVENT
BEGIN:VEVENT
DTSTART;TZID=Europe/Berlin:20261106T100000
DTEND;TZID=Europe/Berlin:20261106T120000
DTSTAMP:20260423T163018
CREATED:20231116T220928Z
LAST-MODIFIED:20250629T125130Z
UID:10009764-1793959200-1793966400@eimsbuettel-senioren.de
SUMMARY:Englisch
DESCRIPTION:Englisch für Anfänger von 10:00 bis 12:00 Uhr\, \nFr. Crato und Fr. Schreiber
URL:https://eimsbuettel-senioren.de/angebot/englisch-fuer-anfaenger/2026-11-06/
LOCATION:Ev.- Luth. Kirchengemeinde Eidelstedt (Elisabethkirche)\, Eidelstedter Dorfstraße 27\, Hamburg\, Hamburg\, 22527\, Deutschland
CATEGORIES:Bildung / Seminar,Religion
ORGANIZER;CN="Diakon Uwe Loose":MAILTO:loose@kirchengemeinde-eidelstedt.de
END:VEVENT
BEGIN:VEVENT
DTSTART;TZID=Europe/Berlin:20261113T100000
DTEND;TZID=Europe/Berlin:20261113T120000
DTSTAMP:20260423T163018
CREATED:20231116T220928Z
LAST-MODIFIED:20250629T125130Z
UID:10009765-1794564000-1794571200@eimsbuettel-senioren.de
SUMMARY:Englisch
DESCRIPTION:Englisch für Anfänger von 10:00 bis 12:00 Uhr\, \nFr. Crato und Fr. Schreiber
URL:https://eimsbuettel-senioren.de/angebot/englisch-fuer-anfaenger/2026-11-13/
LOCATION:Ev.- Luth. Kirchengemeinde Eidelstedt (Elisabethkirche)\, Eidelstedter Dorfstraße 27\, Hamburg\, Hamburg\, 22527\, Deutschland
CATEGORIES:Bildung / Seminar,Religion
ORGANIZER;CN="Diakon Uwe Loose":MAILTO:loose@kirchengemeinde-eidelstedt.de
END:VEVENT
END:VCALENDAR