BEGIN:VCALENDAR
VERSION:2.0
PRODID:-//Angebote für Seniorinnen und Senioren im Bezirk Eimsbüttel - ECPv6.15.18//NONSGML v1.0//EN
CALSCALE:GREGORIAN
METHOD:PUBLISH
X-WR-CALNAME:Angebote für Seniorinnen und Senioren im Bezirk Eimsbüttel
X-ORIGINAL-URL:https://eimsbuettel-senioren.de
X-WR-CALDESC:Veranstaltungen für Angebote für Seniorinnen und Senioren im Bezirk Eimsbüttel
REFRESH-INTERVAL;VALUE=DURATION:PT1H
X-Robots-Tag:noindex
X-PUBLISHED-TTL:PT1H
BEGIN:VTIMEZONE
TZID:Europe/Berlin
BEGIN:DAYLIGHT
TZOFFSETFROM:+0100
TZOFFSETTO:+0200
TZNAME:CEST
DTSTART:20250330T010000
END:DAYLIGHT
BEGIN:STANDARD
TZOFFSETFROM:+0200
TZOFFSETTO:+0100
TZNAME:CET
DTSTART:20251026T010000
END:STANDARD
BEGIN:DAYLIGHT
TZOFFSETFROM:+0100
TZOFFSETTO:+0200
TZNAME:CEST
DTSTART:20260329T010000
END:DAYLIGHT
BEGIN:STANDARD
TZOFFSETFROM:+0200
TZOFFSETTO:+0100
TZNAME:CET
DTSTART:20261025T010000
END:STANDARD
BEGIN:DAYLIGHT
TZOFFSETFROM:+0100
TZOFFSETTO:+0200
TZNAME:CEST
DTSTART:20270328T010000
END:DAYLIGHT
BEGIN:STANDARD
TZOFFSETFROM:+0200
TZOFFSETTO:+0100
TZNAME:CET
DTSTART:20271031T010000
END:STANDARD
END:VTIMEZONE
BEGIN:VEVENT
DTSTART;TZID=Europe/Berlin:20260423T140000
DTEND;TZID=Europe/Berlin:20260423T150000
DTSTAMP:20260421T120652
CREATED:20231110T094427Z
LAST-MODIFIED:20260116T132319Z
UID:10001827-1776952800-1776956400@eimsbuettel-senioren.de
SUMMARY:AWO-Seniorenberatung
DESCRIPTION:Beratung für Senioren von Monika Dwinger AWO \nJeden Donnerstag von 14:00 bis 15:00 Uhr bei Fragen rund ums Alter (z.B. Pflegeversicherung\, Wohnen\, Gesundheit). \nTermine möglichst nach vorheriger Absprache: 040 – 43096713 \n  \n 
URL:https://eimsbuettel-senioren.de/angebot/awo-seniorenberatung/2026-04-23/
LOCATION:Lenzsiedlung Beratungsbüro/Salon\, Julius-Vosseler-Str. 193\, Hamburg\, 22527
CATEGORIES:Beratung
ORGANIZER;CN="Monika Bla%C3%9F":MAILTO:buergerhaus@lenzsiedlungev.de
END:VEVENT
BEGIN:VEVENT
DTSTART;TZID=Europe/Berlin:20260430T140000
DTEND;TZID=Europe/Berlin:20260430T150000
DTSTAMP:20260421T120652
CREATED:20231110T094427Z
LAST-MODIFIED:20260116T132319Z
UID:10001828-1777557600-1777561200@eimsbuettel-senioren.de
SUMMARY:AWO-Seniorenberatung
DESCRIPTION:Beratung für Senioren von Monika Dwinger AWO \nJeden Donnerstag von 14:00 bis 15:00 Uhr bei Fragen rund ums Alter (z.B. Pflegeversicherung\, Wohnen\, Gesundheit). \nTermine möglichst nach vorheriger Absprache: 040 – 43096713 \n  \n 
URL:https://eimsbuettel-senioren.de/angebot/awo-seniorenberatung/2026-04-30/
LOCATION:Lenzsiedlung Beratungsbüro/Salon\, Julius-Vosseler-Str. 193\, Hamburg\, 22527
CATEGORIES:Beratung
ORGANIZER;CN="Monika Bla%C3%9F":MAILTO:buergerhaus@lenzsiedlungev.de
END:VEVENT
BEGIN:VEVENT
DTSTART;TZID=Europe/Berlin:20260507T140000
DTEND;TZID=Europe/Berlin:20260507T150000
DTSTAMP:20260421T120652
CREATED:20231110T094427Z
LAST-MODIFIED:20260116T132319Z
UID:10001829-1778162400-1778166000@eimsbuettel-senioren.de
SUMMARY:AWO-Seniorenberatung
DESCRIPTION:Beratung für Senioren von Monika Dwinger AWO \nJeden Donnerstag von 14:00 bis 15:00 Uhr bei Fragen rund ums Alter (z.B. Pflegeversicherung\, Wohnen\, Gesundheit). \nTermine möglichst nach vorheriger Absprache: 040 – 43096713 \n  \n 
URL:https://eimsbuettel-senioren.de/angebot/awo-seniorenberatung/2026-05-07/
LOCATION:Lenzsiedlung Beratungsbüro/Salon\, Julius-Vosseler-Str. 193\, Hamburg\, 22527
CATEGORIES:Beratung
ORGANIZER;CN="Monika Bla%C3%9F":MAILTO:buergerhaus@lenzsiedlungev.de
END:VEVENT
BEGIN:VEVENT
DTSTART;TZID=Europe/Berlin:20260514T140000
DTEND;TZID=Europe/Berlin:20260514T150000
DTSTAMP:20260421T120652
CREATED:20231110T094427Z
LAST-MODIFIED:20260116T132319Z
UID:10001830-1778767200-1778770800@eimsbuettel-senioren.de
SUMMARY:AWO-Seniorenberatung
DESCRIPTION:Beratung für Senioren von Monika Dwinger AWO \nJeden Donnerstag von 14:00 bis 15:00 Uhr bei Fragen rund ums Alter (z.B. Pflegeversicherung\, Wohnen\, Gesundheit). \nTermine möglichst nach vorheriger Absprache: 040 – 43096713 \n  \n 
URL:https://eimsbuettel-senioren.de/angebot/awo-seniorenberatung/2026-05-14/
LOCATION:Lenzsiedlung Beratungsbüro/Salon\, Julius-Vosseler-Str. 193\, Hamburg\, 22527
CATEGORIES:Beratung
ORGANIZER;CN="Monika Bla%C3%9F":MAILTO:buergerhaus@lenzsiedlungev.de
END:VEVENT
BEGIN:VEVENT
DTSTART;TZID=Europe/Berlin:20260521T140000
DTEND;TZID=Europe/Berlin:20260521T150000
DTSTAMP:20260421T120652
CREATED:20231110T094427Z
LAST-MODIFIED:20260116T132319Z
UID:10001831-1779372000-1779375600@eimsbuettel-senioren.de
SUMMARY:AWO-Seniorenberatung
DESCRIPTION:Beratung für Senioren von Monika Dwinger AWO \nJeden Donnerstag von 14:00 bis 15:00 Uhr bei Fragen rund ums Alter (z.B. Pflegeversicherung\, Wohnen\, Gesundheit). \nTermine möglichst nach vorheriger Absprache: 040 – 43096713 \n  \n 
URL:https://eimsbuettel-senioren.de/angebot/awo-seniorenberatung/2026-05-21/
LOCATION:Lenzsiedlung Beratungsbüro/Salon\, Julius-Vosseler-Str. 193\, Hamburg\, 22527
CATEGORIES:Beratung
ORGANIZER;CN="Monika Bla%C3%9F":MAILTO:buergerhaus@lenzsiedlungev.de
END:VEVENT
BEGIN:VEVENT
DTSTART;TZID=Europe/Berlin:20260528T140000
DTEND;TZID=Europe/Berlin:20260528T150000
DTSTAMP:20260421T120652
CREATED:20231110T094427Z
LAST-MODIFIED:20260116T132319Z
UID:10001832-1779976800-1779980400@eimsbuettel-senioren.de
SUMMARY:AWO-Seniorenberatung
DESCRIPTION:Beratung für Senioren von Monika Dwinger AWO \nJeden Donnerstag von 14:00 bis 15:00 Uhr bei Fragen rund ums Alter (z.B. Pflegeversicherung\, Wohnen\, Gesundheit). \nTermine möglichst nach vorheriger Absprache: 040 – 43096713 \n  \n 
URL:https://eimsbuettel-senioren.de/angebot/awo-seniorenberatung/2026-05-28/
LOCATION:Lenzsiedlung Beratungsbüro/Salon\, Julius-Vosseler-Str. 193\, Hamburg\, 22527
CATEGORIES:Beratung
ORGANIZER;CN="Monika Bla%C3%9F":MAILTO:buergerhaus@lenzsiedlungev.de
END:VEVENT
BEGIN:VEVENT
DTSTART;TZID=Europe/Berlin:20260604T140000
DTEND;TZID=Europe/Berlin:20260604T150000
DTSTAMP:20260421T120652
CREATED:20231110T094427Z
LAST-MODIFIED:20260116T132319Z
UID:10001833-1780581600-1780585200@eimsbuettel-senioren.de
SUMMARY:AWO-Seniorenberatung
DESCRIPTION:Beratung für Senioren von Monika Dwinger AWO \nJeden Donnerstag von 14:00 bis 15:00 Uhr bei Fragen rund ums Alter (z.B. Pflegeversicherung\, Wohnen\, Gesundheit). \nTermine möglichst nach vorheriger Absprache: 040 – 43096713 \n  \n 
URL:https://eimsbuettel-senioren.de/angebot/awo-seniorenberatung/2026-06-04/
LOCATION:Lenzsiedlung Beratungsbüro/Salon\, Julius-Vosseler-Str. 193\, Hamburg\, 22527
CATEGORIES:Beratung
ORGANIZER;CN="Monika Bla%C3%9F":MAILTO:buergerhaus@lenzsiedlungev.de
END:VEVENT
BEGIN:VEVENT
DTSTART;TZID=Europe/Berlin:20260611T140000
DTEND;TZID=Europe/Berlin:20260611T150000
DTSTAMP:20260421T120652
CREATED:20231110T094427Z
LAST-MODIFIED:20260116T132319Z
UID:10001834-1781186400-1781190000@eimsbuettel-senioren.de
SUMMARY:AWO-Seniorenberatung
DESCRIPTION:Beratung für Senioren von Monika Dwinger AWO \nJeden Donnerstag von 14:00 bis 15:00 Uhr bei Fragen rund ums Alter (z.B. Pflegeversicherung\, Wohnen\, Gesundheit). \nTermine möglichst nach vorheriger Absprache: 040 – 43096713 \n  \n 
URL:https://eimsbuettel-senioren.de/angebot/awo-seniorenberatung/2026-06-11/
LOCATION:Lenzsiedlung Beratungsbüro/Salon\, Julius-Vosseler-Str. 193\, Hamburg\, 22527
CATEGORIES:Beratung
ORGANIZER;CN="Monika Bla%C3%9F":MAILTO:buergerhaus@lenzsiedlungev.de
END:VEVENT
BEGIN:VEVENT
DTSTART;TZID=Europe/Berlin:20260618T140000
DTEND;TZID=Europe/Berlin:20260618T150000
DTSTAMP:20260421T120652
CREATED:20231110T094427Z
LAST-MODIFIED:20260116T132319Z
UID:10001835-1781791200-1781794800@eimsbuettel-senioren.de
SUMMARY:AWO-Seniorenberatung
DESCRIPTION:Beratung für Senioren von Monika Dwinger AWO \nJeden Donnerstag von 14:00 bis 15:00 Uhr bei Fragen rund ums Alter (z.B. Pflegeversicherung\, Wohnen\, Gesundheit). \nTermine möglichst nach vorheriger Absprache: 040 – 43096713 \n  \n 
URL:https://eimsbuettel-senioren.de/angebot/awo-seniorenberatung/2026-06-18/
LOCATION:Lenzsiedlung Beratungsbüro/Salon\, Julius-Vosseler-Str. 193\, Hamburg\, 22527
CATEGORIES:Beratung
ORGANIZER;CN="Monika Bla%C3%9F":MAILTO:buergerhaus@lenzsiedlungev.de
END:VEVENT
BEGIN:VEVENT
DTSTART;TZID=Europe/Berlin:20260625T140000
DTEND;TZID=Europe/Berlin:20260625T150000
DTSTAMP:20260421T120652
CREATED:20231110T094427Z
LAST-MODIFIED:20260116T132319Z
UID:10001836-1782396000-1782399600@eimsbuettel-senioren.de
SUMMARY:AWO-Seniorenberatung
DESCRIPTION:Beratung für Senioren von Monika Dwinger AWO \nJeden Donnerstag von 14:00 bis 15:00 Uhr bei Fragen rund ums Alter (z.B. Pflegeversicherung\, Wohnen\, Gesundheit). \nTermine möglichst nach vorheriger Absprache: 040 – 43096713 \n  \n 
URL:https://eimsbuettel-senioren.de/angebot/awo-seniorenberatung/2026-06-25/
LOCATION:Lenzsiedlung Beratungsbüro/Salon\, Julius-Vosseler-Str. 193\, Hamburg\, 22527
CATEGORIES:Beratung
ORGANIZER;CN="Monika Bla%C3%9F":MAILTO:buergerhaus@lenzsiedlungev.de
END:VEVENT
BEGIN:VEVENT
DTSTART;TZID=Europe/Berlin:20260702T140000
DTEND;TZID=Europe/Berlin:20260702T150000
DTSTAMP:20260421T120652
CREATED:20231110T094427Z
LAST-MODIFIED:20260116T132319Z
UID:10001837-1783000800-1783004400@eimsbuettel-senioren.de
SUMMARY:AWO-Seniorenberatung
DESCRIPTION:Beratung für Senioren von Monika Dwinger AWO \nJeden Donnerstag von 14:00 bis 15:00 Uhr bei Fragen rund ums Alter (z.B. Pflegeversicherung\, Wohnen\, Gesundheit). \nTermine möglichst nach vorheriger Absprache: 040 – 43096713 \n  \n 
URL:https://eimsbuettel-senioren.de/angebot/awo-seniorenberatung/2026-07-02/
LOCATION:Lenzsiedlung Beratungsbüro/Salon\, Julius-Vosseler-Str. 193\, Hamburg\, 22527
CATEGORIES:Beratung
ORGANIZER;CN="Monika Bla%C3%9F":MAILTO:buergerhaus@lenzsiedlungev.de
END:VEVENT
BEGIN:VEVENT
DTSTART;TZID=Europe/Berlin:20260709T140000
DTEND;TZID=Europe/Berlin:20260709T150000
DTSTAMP:20260421T120652
CREATED:20231110T094427Z
LAST-MODIFIED:20260116T132319Z
UID:10001838-1783605600-1783609200@eimsbuettel-senioren.de
SUMMARY:AWO-Seniorenberatung
DESCRIPTION:Beratung für Senioren von Monika Dwinger AWO \nJeden Donnerstag von 14:00 bis 15:00 Uhr bei Fragen rund ums Alter (z.B. Pflegeversicherung\, Wohnen\, Gesundheit). \nTermine möglichst nach vorheriger Absprache: 040 – 43096713 \n  \n 
URL:https://eimsbuettel-senioren.de/angebot/awo-seniorenberatung/2026-07-09/
LOCATION:Lenzsiedlung Beratungsbüro/Salon\, Julius-Vosseler-Str. 193\, Hamburg\, 22527
CATEGORIES:Beratung
ORGANIZER;CN="Monika Bla%C3%9F":MAILTO:buergerhaus@lenzsiedlungev.de
END:VEVENT
BEGIN:VEVENT
DTSTART;TZID=Europe/Berlin:20260716T140000
DTEND;TZID=Europe/Berlin:20260716T150000
DTSTAMP:20260421T120652
CREATED:20231110T094427Z
LAST-MODIFIED:20260116T132319Z
UID:10001839-1784210400-1784214000@eimsbuettel-senioren.de
SUMMARY:AWO-Seniorenberatung
DESCRIPTION:Beratung für Senioren von Monika Dwinger AWO \nJeden Donnerstag von 14:00 bis 15:00 Uhr bei Fragen rund ums Alter (z.B. Pflegeversicherung\, Wohnen\, Gesundheit). \nTermine möglichst nach vorheriger Absprache: 040 – 43096713 \n  \n 
URL:https://eimsbuettel-senioren.de/angebot/awo-seniorenberatung/2026-07-16/
LOCATION:Lenzsiedlung Beratungsbüro/Salon\, Julius-Vosseler-Str. 193\, Hamburg\, 22527
CATEGORIES:Beratung
ORGANIZER;CN="Monika Bla%C3%9F":MAILTO:buergerhaus@lenzsiedlungev.de
END:VEVENT
BEGIN:VEVENT
DTSTART;TZID=Europe/Berlin:20260723T140000
DTEND;TZID=Europe/Berlin:20260723T150000
DTSTAMP:20260421T120652
CREATED:20231110T094427Z
LAST-MODIFIED:20260116T132319Z
UID:10001840-1784815200-1784818800@eimsbuettel-senioren.de
SUMMARY:AWO-Seniorenberatung
DESCRIPTION:Beratung für Senioren von Monika Dwinger AWO \nJeden Donnerstag von 14:00 bis 15:00 Uhr bei Fragen rund ums Alter (z.B. Pflegeversicherung\, Wohnen\, Gesundheit). \nTermine möglichst nach vorheriger Absprache: 040 – 43096713 \n  \n 
URL:https://eimsbuettel-senioren.de/angebot/awo-seniorenberatung/2026-07-23/
LOCATION:Lenzsiedlung Beratungsbüro/Salon\, Julius-Vosseler-Str. 193\, Hamburg\, 22527
CATEGORIES:Beratung
ORGANIZER;CN="Monika Bla%C3%9F":MAILTO:buergerhaus@lenzsiedlungev.de
END:VEVENT
BEGIN:VEVENT
DTSTART;TZID=Europe/Berlin:20260730T140000
DTEND;TZID=Europe/Berlin:20260730T150000
DTSTAMP:20260421T120652
CREATED:20231110T094427Z
LAST-MODIFIED:20260116T132319Z
UID:10001841-1785420000-1785423600@eimsbuettel-senioren.de
SUMMARY:AWO-Seniorenberatung
DESCRIPTION:Beratung für Senioren von Monika Dwinger AWO \nJeden Donnerstag von 14:00 bis 15:00 Uhr bei Fragen rund ums Alter (z.B. Pflegeversicherung\, Wohnen\, Gesundheit). \nTermine möglichst nach vorheriger Absprache: 040 – 43096713 \n  \n 
URL:https://eimsbuettel-senioren.de/angebot/awo-seniorenberatung/2026-07-30/
LOCATION:Lenzsiedlung Beratungsbüro/Salon\, Julius-Vosseler-Str. 193\, Hamburg\, 22527
CATEGORIES:Beratung
ORGANIZER;CN="Monika Bla%C3%9F":MAILTO:buergerhaus@lenzsiedlungev.de
END:VEVENT
BEGIN:VEVENT
DTSTART;TZID=Europe/Berlin:20260806T140000
DTEND;TZID=Europe/Berlin:20260806T150000
DTSTAMP:20260421T120652
CREATED:20231110T094427Z
LAST-MODIFIED:20260116T132319Z
UID:10001842-1786024800-1786028400@eimsbuettel-senioren.de
SUMMARY:AWO-Seniorenberatung
DESCRIPTION:Beratung für Senioren von Monika Dwinger AWO \nJeden Donnerstag von 14:00 bis 15:00 Uhr bei Fragen rund ums Alter (z.B. Pflegeversicherung\, Wohnen\, Gesundheit). \nTermine möglichst nach vorheriger Absprache: 040 – 43096713 \n  \n 
URL:https://eimsbuettel-senioren.de/angebot/awo-seniorenberatung/2026-08-06/
LOCATION:Lenzsiedlung Beratungsbüro/Salon\, Julius-Vosseler-Str. 193\, Hamburg\, 22527
CATEGORIES:Beratung
ORGANIZER;CN="Monika Bla%C3%9F":MAILTO:buergerhaus@lenzsiedlungev.de
END:VEVENT
BEGIN:VEVENT
DTSTART;TZID=Europe/Berlin:20260813T140000
DTEND;TZID=Europe/Berlin:20260813T150000
DTSTAMP:20260421T120652
CREATED:20231110T094427Z
LAST-MODIFIED:20260116T132319Z
UID:10001843-1786629600-1786633200@eimsbuettel-senioren.de
SUMMARY:AWO-Seniorenberatung
DESCRIPTION:Beratung für Senioren von Monika Dwinger AWO \nJeden Donnerstag von 14:00 bis 15:00 Uhr bei Fragen rund ums Alter (z.B. Pflegeversicherung\, Wohnen\, Gesundheit). \nTermine möglichst nach vorheriger Absprache: 040 – 43096713 \n  \n 
URL:https://eimsbuettel-senioren.de/angebot/awo-seniorenberatung/2026-08-13/
LOCATION:Lenzsiedlung Beratungsbüro/Salon\, Julius-Vosseler-Str. 193\, Hamburg\, 22527
CATEGORIES:Beratung
ORGANIZER;CN="Monika Bla%C3%9F":MAILTO:buergerhaus@lenzsiedlungev.de
END:VEVENT
BEGIN:VEVENT
DTSTART;TZID=Europe/Berlin:20260820T140000
DTEND;TZID=Europe/Berlin:20260820T150000
DTSTAMP:20260421T120652
CREATED:20231110T094427Z
LAST-MODIFIED:20260116T132319Z
UID:10001844-1787234400-1787238000@eimsbuettel-senioren.de
SUMMARY:AWO-Seniorenberatung
DESCRIPTION:Beratung für Senioren von Monika Dwinger AWO \nJeden Donnerstag von 14:00 bis 15:00 Uhr bei Fragen rund ums Alter (z.B. Pflegeversicherung\, Wohnen\, Gesundheit). \nTermine möglichst nach vorheriger Absprache: 040 – 43096713 \n  \n 
URL:https://eimsbuettel-senioren.de/angebot/awo-seniorenberatung/2026-08-20/
LOCATION:Lenzsiedlung Beratungsbüro/Salon\, Julius-Vosseler-Str. 193\, Hamburg\, 22527
CATEGORIES:Beratung
ORGANIZER;CN="Monika Bla%C3%9F":MAILTO:buergerhaus@lenzsiedlungev.de
END:VEVENT
BEGIN:VEVENT
DTSTART;TZID=Europe/Berlin:20260827T140000
DTEND;TZID=Europe/Berlin:20260827T150000
DTSTAMP:20260421T120652
CREATED:20231110T094427Z
LAST-MODIFIED:20260116T132319Z
UID:10001845-1787839200-1787842800@eimsbuettel-senioren.de
SUMMARY:AWO-Seniorenberatung
DESCRIPTION:Beratung für Senioren von Monika Dwinger AWO \nJeden Donnerstag von 14:00 bis 15:00 Uhr bei Fragen rund ums Alter (z.B. Pflegeversicherung\, Wohnen\, Gesundheit). \nTermine möglichst nach vorheriger Absprache: 040 – 43096713 \n  \n 
URL:https://eimsbuettel-senioren.de/angebot/awo-seniorenberatung/2026-08-27/
LOCATION:Lenzsiedlung Beratungsbüro/Salon\, Julius-Vosseler-Str. 193\, Hamburg\, 22527
CATEGORIES:Beratung
ORGANIZER;CN="Monika Bla%C3%9F":MAILTO:buergerhaus@lenzsiedlungev.de
END:VEVENT
BEGIN:VEVENT
DTSTART;TZID=Europe/Berlin:20260903T140000
DTEND;TZID=Europe/Berlin:20260903T150000
DTSTAMP:20260421T120652
CREATED:20231110T094427Z
LAST-MODIFIED:20260116T132319Z
UID:10001846-1788444000-1788447600@eimsbuettel-senioren.de
SUMMARY:AWO-Seniorenberatung
DESCRIPTION:Beratung für Senioren von Monika Dwinger AWO \nJeden Donnerstag von 14:00 bis 15:00 Uhr bei Fragen rund ums Alter (z.B. Pflegeversicherung\, Wohnen\, Gesundheit). \nTermine möglichst nach vorheriger Absprache: 040 – 43096713 \n  \n 
URL:https://eimsbuettel-senioren.de/angebot/awo-seniorenberatung/2026-09-03/
LOCATION:Lenzsiedlung Beratungsbüro/Salon\, Julius-Vosseler-Str. 193\, Hamburg\, 22527
CATEGORIES:Beratung
ORGANIZER;CN="Monika Bla%C3%9F":MAILTO:buergerhaus@lenzsiedlungev.de
END:VEVENT
BEGIN:VEVENT
DTSTART;TZID=Europe/Berlin:20260910T140000
DTEND;TZID=Europe/Berlin:20260910T150000
DTSTAMP:20260421T120652
CREATED:20231110T094427Z
LAST-MODIFIED:20260116T132319Z
UID:10001847-1789048800-1789052400@eimsbuettel-senioren.de
SUMMARY:AWO-Seniorenberatung
DESCRIPTION:Beratung für Senioren von Monika Dwinger AWO \nJeden Donnerstag von 14:00 bis 15:00 Uhr bei Fragen rund ums Alter (z.B. Pflegeversicherung\, Wohnen\, Gesundheit). \nTermine möglichst nach vorheriger Absprache: 040 – 43096713 \n  \n 
URL:https://eimsbuettel-senioren.de/angebot/awo-seniorenberatung/2026-09-10/
LOCATION:Lenzsiedlung Beratungsbüro/Salon\, Julius-Vosseler-Str. 193\, Hamburg\, 22527
CATEGORIES:Beratung
ORGANIZER;CN="Monika Bla%C3%9F":MAILTO:buergerhaus@lenzsiedlungev.de
END:VEVENT
BEGIN:VEVENT
DTSTART;TZID=Europe/Berlin:20260917T140000
DTEND;TZID=Europe/Berlin:20260917T150000
DTSTAMP:20260421T120652
CREATED:20231110T094427Z
LAST-MODIFIED:20260116T132319Z
UID:10001848-1789653600-1789657200@eimsbuettel-senioren.de
SUMMARY:AWO-Seniorenberatung
DESCRIPTION:Beratung für Senioren von Monika Dwinger AWO \nJeden Donnerstag von 14:00 bis 15:00 Uhr bei Fragen rund ums Alter (z.B. Pflegeversicherung\, Wohnen\, Gesundheit). \nTermine möglichst nach vorheriger Absprache: 040 – 43096713 \n  \n 
URL:https://eimsbuettel-senioren.de/angebot/awo-seniorenberatung/2026-09-17/
LOCATION:Lenzsiedlung Beratungsbüro/Salon\, Julius-Vosseler-Str. 193\, Hamburg\, 22527
CATEGORIES:Beratung
ORGANIZER;CN="Monika Bla%C3%9F":MAILTO:buergerhaus@lenzsiedlungev.de
END:VEVENT
BEGIN:VEVENT
DTSTART;TZID=Europe/Berlin:20260924T140000
DTEND;TZID=Europe/Berlin:20260924T150000
DTSTAMP:20260421T120652
CREATED:20231110T094427Z
LAST-MODIFIED:20260116T132319Z
UID:10001849-1790258400-1790262000@eimsbuettel-senioren.de
SUMMARY:AWO-Seniorenberatung
DESCRIPTION:Beratung für Senioren von Monika Dwinger AWO \nJeden Donnerstag von 14:00 bis 15:00 Uhr bei Fragen rund ums Alter (z.B. Pflegeversicherung\, Wohnen\, Gesundheit). \nTermine möglichst nach vorheriger Absprache: 040 – 43096713 \n  \n 
URL:https://eimsbuettel-senioren.de/angebot/awo-seniorenberatung/2026-09-24/
LOCATION:Lenzsiedlung Beratungsbüro/Salon\, Julius-Vosseler-Str. 193\, Hamburg\, 22527
CATEGORIES:Beratung
ORGANIZER;CN="Monika Bla%C3%9F":MAILTO:buergerhaus@lenzsiedlungev.de
END:VEVENT
BEGIN:VEVENT
DTSTART;TZID=Europe/Berlin:20261001T140000
DTEND;TZID=Europe/Berlin:20261001T150000
DTSTAMP:20260421T120652
CREATED:20231110T094427Z
LAST-MODIFIED:20260116T132319Z
UID:10001850-1790863200-1790866800@eimsbuettel-senioren.de
SUMMARY:AWO-Seniorenberatung
DESCRIPTION:Beratung für Senioren von Monika Dwinger AWO \nJeden Donnerstag von 14:00 bis 15:00 Uhr bei Fragen rund ums Alter (z.B. Pflegeversicherung\, Wohnen\, Gesundheit). \nTermine möglichst nach vorheriger Absprache: 040 – 43096713 \n  \n 
URL:https://eimsbuettel-senioren.de/angebot/awo-seniorenberatung/2026-10-01/
LOCATION:Lenzsiedlung Beratungsbüro/Salon\, Julius-Vosseler-Str. 193\, Hamburg\, 22527
CATEGORIES:Beratung
ORGANIZER;CN="Monika Bla%C3%9F":MAILTO:buergerhaus@lenzsiedlungev.de
END:VEVENT
BEGIN:VEVENT
DTSTART;TZID=Europe/Berlin:20261008T140000
DTEND;TZID=Europe/Berlin:20261008T150000
DTSTAMP:20260421T120652
CREATED:20231110T094427Z
LAST-MODIFIED:20260116T132319Z
UID:10001851-1791468000-1791471600@eimsbuettel-senioren.de
SUMMARY:AWO-Seniorenberatung
DESCRIPTION:Beratung für Senioren von Monika Dwinger AWO \nJeden Donnerstag von 14:00 bis 15:00 Uhr bei Fragen rund ums Alter (z.B. Pflegeversicherung\, Wohnen\, Gesundheit). \nTermine möglichst nach vorheriger Absprache: 040 – 43096713 \n  \n 
URL:https://eimsbuettel-senioren.de/angebot/awo-seniorenberatung/2026-10-08/
LOCATION:Lenzsiedlung Beratungsbüro/Salon\, Julius-Vosseler-Str. 193\, Hamburg\, 22527
CATEGORIES:Beratung
ORGANIZER;CN="Monika Bla%C3%9F":MAILTO:buergerhaus@lenzsiedlungev.de
END:VEVENT
BEGIN:VEVENT
DTSTART;TZID=Europe/Berlin:20261015T140000
DTEND;TZID=Europe/Berlin:20261015T150000
DTSTAMP:20260421T120652
CREATED:20231110T094427Z
LAST-MODIFIED:20260116T132319Z
UID:10001852-1792072800-1792076400@eimsbuettel-senioren.de
SUMMARY:AWO-Seniorenberatung
DESCRIPTION:Beratung für Senioren von Monika Dwinger AWO \nJeden Donnerstag von 14:00 bis 15:00 Uhr bei Fragen rund ums Alter (z.B. Pflegeversicherung\, Wohnen\, Gesundheit). \nTermine möglichst nach vorheriger Absprache: 040 – 43096713 \n  \n 
URL:https://eimsbuettel-senioren.de/angebot/awo-seniorenberatung/2026-10-15/
LOCATION:Lenzsiedlung Beratungsbüro/Salon\, Julius-Vosseler-Str. 193\, Hamburg\, 22527
CATEGORIES:Beratung
ORGANIZER;CN="Monika Bla%C3%9F":MAILTO:buergerhaus@lenzsiedlungev.de
END:VEVENT
BEGIN:VEVENT
DTSTART;TZID=Europe/Berlin:20261022T140000
DTEND;TZID=Europe/Berlin:20261022T150000
DTSTAMP:20260421T120652
CREATED:20231110T094427Z
LAST-MODIFIED:20260116T132319Z
UID:10001853-1792677600-1792681200@eimsbuettel-senioren.de
SUMMARY:AWO-Seniorenberatung
DESCRIPTION:Beratung für Senioren von Monika Dwinger AWO \nJeden Donnerstag von 14:00 bis 15:00 Uhr bei Fragen rund ums Alter (z.B. Pflegeversicherung\, Wohnen\, Gesundheit). \nTermine möglichst nach vorheriger Absprache: 040 – 43096713 \n  \n 
URL:https://eimsbuettel-senioren.de/angebot/awo-seniorenberatung/2026-10-22/
LOCATION:Lenzsiedlung Beratungsbüro/Salon\, Julius-Vosseler-Str. 193\, Hamburg\, 22527
CATEGORIES:Beratung
ORGANIZER;CN="Monika Bla%C3%9F":MAILTO:buergerhaus@lenzsiedlungev.de
END:VEVENT
BEGIN:VEVENT
DTSTART;TZID=Europe/Berlin:20261029T140000
DTEND;TZID=Europe/Berlin:20261029T150000
DTSTAMP:20260421T120652
CREATED:20231110T094427Z
LAST-MODIFIED:20260116T132319Z
UID:10001854-1793282400-1793286000@eimsbuettel-senioren.de
SUMMARY:AWO-Seniorenberatung
DESCRIPTION:Beratung für Senioren von Monika Dwinger AWO \nJeden Donnerstag von 14:00 bis 15:00 Uhr bei Fragen rund ums Alter (z.B. Pflegeversicherung\, Wohnen\, Gesundheit). \nTermine möglichst nach vorheriger Absprache: 040 – 43096713 \n  \n 
URL:https://eimsbuettel-senioren.de/angebot/awo-seniorenberatung/2026-10-29/
LOCATION:Lenzsiedlung Beratungsbüro/Salon\, Julius-Vosseler-Str. 193\, Hamburg\, 22527
CATEGORIES:Beratung
ORGANIZER;CN="Monika Bla%C3%9F":MAILTO:buergerhaus@lenzsiedlungev.de
END:VEVENT
BEGIN:VEVENT
DTSTART;TZID=Europe/Berlin:20261105T140000
DTEND;TZID=Europe/Berlin:20261105T150000
DTSTAMP:20260421T120652
CREATED:20231110T094427Z
LAST-MODIFIED:20260116T132319Z
UID:10001855-1793887200-1793890800@eimsbuettel-senioren.de
SUMMARY:AWO-Seniorenberatung
DESCRIPTION:Beratung für Senioren von Monika Dwinger AWO \nJeden Donnerstag von 14:00 bis 15:00 Uhr bei Fragen rund ums Alter (z.B. Pflegeversicherung\, Wohnen\, Gesundheit). \nTermine möglichst nach vorheriger Absprache: 040 – 43096713 \n  \n 
URL:https://eimsbuettel-senioren.de/angebot/awo-seniorenberatung/2026-11-05/
LOCATION:Lenzsiedlung Beratungsbüro/Salon\, Julius-Vosseler-Str. 193\, Hamburg\, 22527
CATEGORIES:Beratung
ORGANIZER;CN="Monika Bla%C3%9F":MAILTO:buergerhaus@lenzsiedlungev.de
END:VEVENT
BEGIN:VEVENT
DTSTART;TZID=Europe/Berlin:20261112T140000
DTEND;TZID=Europe/Berlin:20261112T150000
DTSTAMP:20260421T120652
CREATED:20231110T094427Z
LAST-MODIFIED:20260116T132319Z
UID:10001856-1794492000-1794495600@eimsbuettel-senioren.de
SUMMARY:AWO-Seniorenberatung
DESCRIPTION:Beratung für Senioren von Monika Dwinger AWO \nJeden Donnerstag von 14:00 bis 15:00 Uhr bei Fragen rund ums Alter (z.B. Pflegeversicherung\, Wohnen\, Gesundheit). \nTermine möglichst nach vorheriger Absprache: 040 – 43096713 \n  \n 
URL:https://eimsbuettel-senioren.de/angebot/awo-seniorenberatung/2026-11-12/
LOCATION:Lenzsiedlung Beratungsbüro/Salon\, Julius-Vosseler-Str. 193\, Hamburg\, 22527
CATEGORIES:Beratung
ORGANIZER;CN="Monika Bla%C3%9F":MAILTO:buergerhaus@lenzsiedlungev.de
END:VEVENT
END:VCALENDAR