BEGIN:VCALENDAR
VERSION:2.0
PRODID:-//Angebote für Seniorinnen und Senioren im Bezirk Eimsbüttel - ECPv6.15.18//NONSGML v1.0//EN
CALSCALE:GREGORIAN
METHOD:PUBLISH
X-WR-CALNAME:Angebote für Seniorinnen und Senioren im Bezirk Eimsbüttel
X-ORIGINAL-URL:https://eimsbuettel-senioren.de
X-WR-CALDESC:Veranstaltungen für Angebote für Seniorinnen und Senioren im Bezirk Eimsbüttel
REFRESH-INTERVAL;VALUE=DURATION:PT1H
X-Robots-Tag:noindex
X-PUBLISHED-TTL:PT1H
BEGIN:VTIMEZONE
TZID:Europe/Berlin
BEGIN:DAYLIGHT
TZOFFSETFROM:+0100
TZOFFSETTO:+0200
TZNAME:CEST
DTSTART:20250330T010000
END:DAYLIGHT
BEGIN:STANDARD
TZOFFSETFROM:+0200
TZOFFSETTO:+0100
TZNAME:CET
DTSTART:20251026T010000
END:STANDARD
BEGIN:DAYLIGHT
TZOFFSETFROM:+0100
TZOFFSETTO:+0200
TZNAME:CEST
DTSTART:20260329T010000
END:DAYLIGHT
BEGIN:STANDARD
TZOFFSETFROM:+0200
TZOFFSETTO:+0100
TZNAME:CET
DTSTART:20261025T010000
END:STANDARD
BEGIN:DAYLIGHT
TZOFFSETFROM:+0100
TZOFFSETTO:+0200
TZNAME:CEST
DTSTART:20270328T010000
END:DAYLIGHT
BEGIN:STANDARD
TZOFFSETFROM:+0200
TZOFFSETTO:+0100
TZNAME:CET
DTSTART:20271031T010000
END:STANDARD
BEGIN:DAYLIGHT
TZOFFSETFROM:+0100
TZOFFSETTO:+0200
TZNAME:CEST
DTSTART:20280326T010000
END:DAYLIGHT
BEGIN:STANDARD
TZOFFSETFROM:+0200
TZOFFSETTO:+0100
TZNAME:CET
DTSTART:20281029T010000
END:STANDARD
END:VTIMEZONE
BEGIN:VEVENT
DTSTART;TZID=Europe/Berlin:20260422T150000
DTEND;TZID=Europe/Berlin:20260422T170000
DTSTAMP:20260420T162603
CREATED:20260129T091431Z
LAST-MODIFIED:20260129T091431Z
UID:10052570-1776870000-1776877200@eimsbuettel-senioren.de
SUMMARY:Klönkaffe
DESCRIPTION:Jeden zweiten Mittwoch im Monat treffen sich mehrere Nachbarn zum Klönkaffe im Bürgerhaus Stellingen im Spannskamp 43\, direkt hinter der Polizei. Wir freuen uns über weitere Teilnehmer*innen.\nDieser Termin ist nicht zu verwechseln mit dem Dienstags Kaffee im Quartier Spannskamp.
URL:https://eimsbuettel-senioren.de/angebot/kloenkaffe/2026-04-22/
LOCATION:Bürgerhaus Stellingen e.V.\, Spannskamp 43\, Hamburg\, Hamburg\, 22527\, Deutschland
CATEGORIES:Essen / Trinken,Spiel / Gesellschaft
END:VEVENT
BEGIN:VEVENT
DTSTART;TZID=Europe/Berlin:20260506T150000
DTEND;TZID=Europe/Berlin:20260506T170000
DTSTAMP:20260420T162603
CREATED:20260129T091431Z
LAST-MODIFIED:20260129T091431Z
UID:10052571-1778079600-1778086800@eimsbuettel-senioren.de
SUMMARY:Klönkaffe
DESCRIPTION:Jeden zweiten Mittwoch im Monat treffen sich mehrere Nachbarn zum Klönkaffe im Bürgerhaus Stellingen im Spannskamp 43\, direkt hinter der Polizei. Wir freuen uns über weitere Teilnehmer*innen.\nDieser Termin ist nicht zu verwechseln mit dem Dienstags Kaffee im Quartier Spannskamp.
URL:https://eimsbuettel-senioren.de/angebot/kloenkaffe/2026-05-06/
LOCATION:Bürgerhaus Stellingen e.V.\, Spannskamp 43\, Hamburg\, Hamburg\, 22527\, Deutschland
CATEGORIES:Essen / Trinken,Spiel / Gesellschaft
END:VEVENT
BEGIN:VEVENT
DTSTART;TZID=Europe/Berlin:20260520T150000
DTEND;TZID=Europe/Berlin:20260520T170000
DTSTAMP:20260420T162603
CREATED:20260129T091431Z
LAST-MODIFIED:20260129T091431Z
UID:10052572-1779289200-1779296400@eimsbuettel-senioren.de
SUMMARY:Klönkaffe
DESCRIPTION:Jeden zweiten Mittwoch im Monat treffen sich mehrere Nachbarn zum Klönkaffe im Bürgerhaus Stellingen im Spannskamp 43\, direkt hinter der Polizei. Wir freuen uns über weitere Teilnehmer*innen.\nDieser Termin ist nicht zu verwechseln mit dem Dienstags Kaffee im Quartier Spannskamp.
URL:https://eimsbuettel-senioren.de/angebot/kloenkaffe/2026-05-20/
LOCATION:Bürgerhaus Stellingen e.V.\, Spannskamp 43\, Hamburg\, Hamburg\, 22527\, Deutschland
CATEGORIES:Essen / Trinken,Spiel / Gesellschaft
END:VEVENT
BEGIN:VEVENT
DTSTART;TZID=Europe/Berlin:20260603T150000
DTEND;TZID=Europe/Berlin:20260603T170000
DTSTAMP:20260420T162603
CREATED:20260129T091431Z
LAST-MODIFIED:20260129T091431Z
UID:10052573-1780498800-1780506000@eimsbuettel-senioren.de
SUMMARY:Klönkaffe
DESCRIPTION:Jeden zweiten Mittwoch im Monat treffen sich mehrere Nachbarn zum Klönkaffe im Bürgerhaus Stellingen im Spannskamp 43\, direkt hinter der Polizei. Wir freuen uns über weitere Teilnehmer*innen.\nDieser Termin ist nicht zu verwechseln mit dem Dienstags Kaffee im Quartier Spannskamp.
URL:https://eimsbuettel-senioren.de/angebot/kloenkaffe/2026-06-03/
LOCATION:Bürgerhaus Stellingen e.V.\, Spannskamp 43\, Hamburg\, Hamburg\, 22527\, Deutschland
CATEGORIES:Essen / Trinken,Spiel / Gesellschaft
END:VEVENT
BEGIN:VEVENT
DTSTART;TZID=Europe/Berlin:20260617T150000
DTEND;TZID=Europe/Berlin:20260617T170000
DTSTAMP:20260420T162603
CREATED:20260129T091431Z
LAST-MODIFIED:20260129T091431Z
UID:10052574-1781708400-1781715600@eimsbuettel-senioren.de
SUMMARY:Klönkaffe
DESCRIPTION:Jeden zweiten Mittwoch im Monat treffen sich mehrere Nachbarn zum Klönkaffe im Bürgerhaus Stellingen im Spannskamp 43\, direkt hinter der Polizei. Wir freuen uns über weitere Teilnehmer*innen.\nDieser Termin ist nicht zu verwechseln mit dem Dienstags Kaffee im Quartier Spannskamp.
URL:https://eimsbuettel-senioren.de/angebot/kloenkaffe/2026-06-17/
LOCATION:Bürgerhaus Stellingen e.V.\, Spannskamp 43\, Hamburg\, Hamburg\, 22527\, Deutschland
CATEGORIES:Essen / Trinken,Spiel / Gesellschaft
END:VEVENT
BEGIN:VEVENT
DTSTART;TZID=Europe/Berlin:20260701T150000
DTEND;TZID=Europe/Berlin:20260701T170000
DTSTAMP:20260420T162603
CREATED:20260129T091431Z
LAST-MODIFIED:20260129T091431Z
UID:10052575-1782918000-1782925200@eimsbuettel-senioren.de
SUMMARY:Klönkaffe
DESCRIPTION:Jeden zweiten Mittwoch im Monat treffen sich mehrere Nachbarn zum Klönkaffe im Bürgerhaus Stellingen im Spannskamp 43\, direkt hinter der Polizei. Wir freuen uns über weitere Teilnehmer*innen.\nDieser Termin ist nicht zu verwechseln mit dem Dienstags Kaffee im Quartier Spannskamp.
URL:https://eimsbuettel-senioren.de/angebot/kloenkaffe/2026-07-01/
LOCATION:Bürgerhaus Stellingen e.V.\, Spannskamp 43\, Hamburg\, Hamburg\, 22527\, Deutschland
CATEGORIES:Essen / Trinken,Spiel / Gesellschaft
END:VEVENT
BEGIN:VEVENT
DTSTART;TZID=Europe/Berlin:20260715T150000
DTEND;TZID=Europe/Berlin:20260715T170000
DTSTAMP:20260420T162603
CREATED:20260129T091431Z
LAST-MODIFIED:20260129T091431Z
UID:10052576-1784127600-1784134800@eimsbuettel-senioren.de
SUMMARY:Klönkaffe
DESCRIPTION:Jeden zweiten Mittwoch im Monat treffen sich mehrere Nachbarn zum Klönkaffe im Bürgerhaus Stellingen im Spannskamp 43\, direkt hinter der Polizei. Wir freuen uns über weitere Teilnehmer*innen.\nDieser Termin ist nicht zu verwechseln mit dem Dienstags Kaffee im Quartier Spannskamp.
URL:https://eimsbuettel-senioren.de/angebot/kloenkaffe/2026-07-15/
LOCATION:Bürgerhaus Stellingen e.V.\, Spannskamp 43\, Hamburg\, Hamburg\, 22527\, Deutschland
CATEGORIES:Essen / Trinken,Spiel / Gesellschaft
END:VEVENT
BEGIN:VEVENT
DTSTART;TZID=Europe/Berlin:20260729T150000
DTEND;TZID=Europe/Berlin:20260729T170000
DTSTAMP:20260420T162603
CREATED:20260129T091431Z
LAST-MODIFIED:20260129T091431Z
UID:10052577-1785337200-1785344400@eimsbuettel-senioren.de
SUMMARY:Klönkaffe
DESCRIPTION:Jeden zweiten Mittwoch im Monat treffen sich mehrere Nachbarn zum Klönkaffe im Bürgerhaus Stellingen im Spannskamp 43\, direkt hinter der Polizei. Wir freuen uns über weitere Teilnehmer*innen.\nDieser Termin ist nicht zu verwechseln mit dem Dienstags Kaffee im Quartier Spannskamp.
URL:https://eimsbuettel-senioren.de/angebot/kloenkaffe/2026-07-29/
LOCATION:Bürgerhaus Stellingen e.V.\, Spannskamp 43\, Hamburg\, Hamburg\, 22527\, Deutschland
CATEGORIES:Essen / Trinken,Spiel / Gesellschaft
END:VEVENT
BEGIN:VEVENT
DTSTART;TZID=Europe/Berlin:20260812T150000
DTEND;TZID=Europe/Berlin:20260812T170000
DTSTAMP:20260420T162603
CREATED:20260129T091431Z
LAST-MODIFIED:20260129T091431Z
UID:10052578-1786546800-1786554000@eimsbuettel-senioren.de
SUMMARY:Klönkaffe
DESCRIPTION:Jeden zweiten Mittwoch im Monat treffen sich mehrere Nachbarn zum Klönkaffe im Bürgerhaus Stellingen im Spannskamp 43\, direkt hinter der Polizei. Wir freuen uns über weitere Teilnehmer*innen.\nDieser Termin ist nicht zu verwechseln mit dem Dienstags Kaffee im Quartier Spannskamp.
URL:https://eimsbuettel-senioren.de/angebot/kloenkaffe/2026-08-12/
LOCATION:Bürgerhaus Stellingen e.V.\, Spannskamp 43\, Hamburg\, Hamburg\, 22527\, Deutschland
CATEGORIES:Essen / Trinken,Spiel / Gesellschaft
END:VEVENT
BEGIN:VEVENT
DTSTART;TZID=Europe/Berlin:20260826T150000
DTEND;TZID=Europe/Berlin:20260826T170000
DTSTAMP:20260420T162603
CREATED:20260129T091431Z
LAST-MODIFIED:20260129T091431Z
UID:10052579-1787756400-1787763600@eimsbuettel-senioren.de
SUMMARY:Klönkaffe
DESCRIPTION:Jeden zweiten Mittwoch im Monat treffen sich mehrere Nachbarn zum Klönkaffe im Bürgerhaus Stellingen im Spannskamp 43\, direkt hinter der Polizei. Wir freuen uns über weitere Teilnehmer*innen.\nDieser Termin ist nicht zu verwechseln mit dem Dienstags Kaffee im Quartier Spannskamp.
URL:https://eimsbuettel-senioren.de/angebot/kloenkaffe/2026-08-26/
LOCATION:Bürgerhaus Stellingen e.V.\, Spannskamp 43\, Hamburg\, Hamburg\, 22527\, Deutschland
CATEGORIES:Essen / Trinken,Spiel / Gesellschaft
END:VEVENT
BEGIN:VEVENT
DTSTART;TZID=Europe/Berlin:20260909T150000
DTEND;TZID=Europe/Berlin:20260909T170000
DTSTAMP:20260420T162603
CREATED:20260129T091431Z
LAST-MODIFIED:20260129T091431Z
UID:10052580-1788966000-1788973200@eimsbuettel-senioren.de
SUMMARY:Klönkaffe
DESCRIPTION:Jeden zweiten Mittwoch im Monat treffen sich mehrere Nachbarn zum Klönkaffe im Bürgerhaus Stellingen im Spannskamp 43\, direkt hinter der Polizei. Wir freuen uns über weitere Teilnehmer*innen.\nDieser Termin ist nicht zu verwechseln mit dem Dienstags Kaffee im Quartier Spannskamp.
URL:https://eimsbuettel-senioren.de/angebot/kloenkaffe/2026-09-09/
LOCATION:Bürgerhaus Stellingen e.V.\, Spannskamp 43\, Hamburg\, Hamburg\, 22527\, Deutschland
CATEGORIES:Essen / Trinken,Spiel / Gesellschaft
END:VEVENT
BEGIN:VEVENT
DTSTART;TZID=Europe/Berlin:20260923T150000
DTEND;TZID=Europe/Berlin:20260923T170000
DTSTAMP:20260420T162603
CREATED:20260129T091431Z
LAST-MODIFIED:20260129T091431Z
UID:10052581-1790175600-1790182800@eimsbuettel-senioren.de
SUMMARY:Klönkaffe
DESCRIPTION:Jeden zweiten Mittwoch im Monat treffen sich mehrere Nachbarn zum Klönkaffe im Bürgerhaus Stellingen im Spannskamp 43\, direkt hinter der Polizei. Wir freuen uns über weitere Teilnehmer*innen.\nDieser Termin ist nicht zu verwechseln mit dem Dienstags Kaffee im Quartier Spannskamp.
URL:https://eimsbuettel-senioren.de/angebot/kloenkaffe/2026-09-23/
LOCATION:Bürgerhaus Stellingen e.V.\, Spannskamp 43\, Hamburg\, Hamburg\, 22527\, Deutschland
CATEGORIES:Essen / Trinken,Spiel / Gesellschaft
END:VEVENT
BEGIN:VEVENT
DTSTART;TZID=Europe/Berlin:20261007T150000
DTEND;TZID=Europe/Berlin:20261007T170000
DTSTAMP:20260420T162603
CREATED:20260129T091431Z
LAST-MODIFIED:20260129T091431Z
UID:10052582-1791385200-1791392400@eimsbuettel-senioren.de
SUMMARY:Klönkaffe
DESCRIPTION:Jeden zweiten Mittwoch im Monat treffen sich mehrere Nachbarn zum Klönkaffe im Bürgerhaus Stellingen im Spannskamp 43\, direkt hinter der Polizei. Wir freuen uns über weitere Teilnehmer*innen.\nDieser Termin ist nicht zu verwechseln mit dem Dienstags Kaffee im Quartier Spannskamp.
URL:https://eimsbuettel-senioren.de/angebot/kloenkaffe/2026-10-07/
LOCATION:Bürgerhaus Stellingen e.V.\, Spannskamp 43\, Hamburg\, Hamburg\, 22527\, Deutschland
CATEGORIES:Essen / Trinken,Spiel / Gesellschaft
END:VEVENT
BEGIN:VEVENT
DTSTART;TZID=Europe/Berlin:20261021T150000
DTEND;TZID=Europe/Berlin:20261021T170000
DTSTAMP:20260420T162603
CREATED:20260129T091431Z
LAST-MODIFIED:20260129T091431Z
UID:10052583-1792594800-1792602000@eimsbuettel-senioren.de
SUMMARY:Klönkaffe
DESCRIPTION:Jeden zweiten Mittwoch im Monat treffen sich mehrere Nachbarn zum Klönkaffe im Bürgerhaus Stellingen im Spannskamp 43\, direkt hinter der Polizei. Wir freuen uns über weitere Teilnehmer*innen.\nDieser Termin ist nicht zu verwechseln mit dem Dienstags Kaffee im Quartier Spannskamp.
URL:https://eimsbuettel-senioren.de/angebot/kloenkaffe/2026-10-21/
LOCATION:Bürgerhaus Stellingen e.V.\, Spannskamp 43\, Hamburg\, Hamburg\, 22527\, Deutschland
CATEGORIES:Essen / Trinken,Spiel / Gesellschaft
END:VEVENT
BEGIN:VEVENT
DTSTART;TZID=Europe/Berlin:20261104T150000
DTEND;TZID=Europe/Berlin:20261104T170000
DTSTAMP:20260420T162603
CREATED:20260129T091431Z
LAST-MODIFIED:20260129T091431Z
UID:10052584-1793804400-1793811600@eimsbuettel-senioren.de
SUMMARY:Klönkaffe
DESCRIPTION:Jeden zweiten Mittwoch im Monat treffen sich mehrere Nachbarn zum Klönkaffe im Bürgerhaus Stellingen im Spannskamp 43\, direkt hinter der Polizei. Wir freuen uns über weitere Teilnehmer*innen.\nDieser Termin ist nicht zu verwechseln mit dem Dienstags Kaffee im Quartier Spannskamp.
URL:https://eimsbuettel-senioren.de/angebot/kloenkaffe/2026-11-04/
LOCATION:Bürgerhaus Stellingen e.V.\, Spannskamp 43\, Hamburg\, Hamburg\, 22527\, Deutschland
CATEGORIES:Essen / Trinken,Spiel / Gesellschaft
END:VEVENT
BEGIN:VEVENT
DTSTART;TZID=Europe/Berlin:20261118T150000
DTEND;TZID=Europe/Berlin:20261118T170000
DTSTAMP:20260420T162603
CREATED:20260129T091431Z
LAST-MODIFIED:20260129T091431Z
UID:10052585-1795014000-1795021200@eimsbuettel-senioren.de
SUMMARY:Klönkaffe
DESCRIPTION:Jeden zweiten Mittwoch im Monat treffen sich mehrere Nachbarn zum Klönkaffe im Bürgerhaus Stellingen im Spannskamp 43\, direkt hinter der Polizei. Wir freuen uns über weitere Teilnehmer*innen.\nDieser Termin ist nicht zu verwechseln mit dem Dienstags Kaffee im Quartier Spannskamp.
URL:https://eimsbuettel-senioren.de/angebot/kloenkaffe/2026-11-18/
LOCATION:Bürgerhaus Stellingen e.V.\, Spannskamp 43\, Hamburg\, Hamburg\, 22527\, Deutschland
CATEGORIES:Essen / Trinken,Spiel / Gesellschaft
END:VEVENT
BEGIN:VEVENT
DTSTART;TZID=Europe/Berlin:20261202T150000
DTEND;TZID=Europe/Berlin:20261202T170000
DTSTAMP:20260420T162603
CREATED:20260129T091431Z
LAST-MODIFIED:20260129T091431Z
UID:10052586-1796223600-1796230800@eimsbuettel-senioren.de
SUMMARY:Klönkaffe
DESCRIPTION:Jeden zweiten Mittwoch im Monat treffen sich mehrere Nachbarn zum Klönkaffe im Bürgerhaus Stellingen im Spannskamp 43\, direkt hinter der Polizei. Wir freuen uns über weitere Teilnehmer*innen.\nDieser Termin ist nicht zu verwechseln mit dem Dienstags Kaffee im Quartier Spannskamp.
URL:https://eimsbuettel-senioren.de/angebot/kloenkaffe/2026-12-02/
LOCATION:Bürgerhaus Stellingen e.V.\, Spannskamp 43\, Hamburg\, Hamburg\, 22527\, Deutschland
CATEGORIES:Essen / Trinken,Spiel / Gesellschaft
END:VEVENT
BEGIN:VEVENT
DTSTART;TZID=Europe/Berlin:20261216T150000
DTEND;TZID=Europe/Berlin:20261216T170000
DTSTAMP:20260420T162603
CREATED:20260129T091431Z
LAST-MODIFIED:20260129T091431Z
UID:10052587-1797433200-1797440400@eimsbuettel-senioren.de
SUMMARY:Klönkaffe
DESCRIPTION:Jeden zweiten Mittwoch im Monat treffen sich mehrere Nachbarn zum Klönkaffe im Bürgerhaus Stellingen im Spannskamp 43\, direkt hinter der Polizei. Wir freuen uns über weitere Teilnehmer*innen.\nDieser Termin ist nicht zu verwechseln mit dem Dienstags Kaffee im Quartier Spannskamp.
URL:https://eimsbuettel-senioren.de/angebot/kloenkaffe/2026-12-16/
LOCATION:Bürgerhaus Stellingen e.V.\, Spannskamp 43\, Hamburg\, Hamburg\, 22527\, Deutschland
CATEGORIES:Essen / Trinken,Spiel / Gesellschaft
END:VEVENT
BEGIN:VEVENT
DTSTART;TZID=Europe/Berlin:20261230T150000
DTEND;TZID=Europe/Berlin:20261230T170000
DTSTAMP:20260420T162603
CREATED:20260129T091431Z
LAST-MODIFIED:20260129T091431Z
UID:10052588-1798642800-1798650000@eimsbuettel-senioren.de
SUMMARY:Klönkaffe
DESCRIPTION:Jeden zweiten Mittwoch im Monat treffen sich mehrere Nachbarn zum Klönkaffe im Bürgerhaus Stellingen im Spannskamp 43\, direkt hinter der Polizei. Wir freuen uns über weitere Teilnehmer*innen.\nDieser Termin ist nicht zu verwechseln mit dem Dienstags Kaffee im Quartier Spannskamp.
URL:https://eimsbuettel-senioren.de/angebot/kloenkaffe/2026-12-30/
LOCATION:Bürgerhaus Stellingen e.V.\, Spannskamp 43\, Hamburg\, Hamburg\, 22527\, Deutschland
CATEGORIES:Essen / Trinken,Spiel / Gesellschaft
END:VEVENT
BEGIN:VEVENT
DTSTART;TZID=Europe/Berlin:20270113T150000
DTEND;TZID=Europe/Berlin:20270113T170000
DTSTAMP:20260420T162603
CREATED:20260129T091431Z
LAST-MODIFIED:20260129T091431Z
UID:10052589-1799852400-1799859600@eimsbuettel-senioren.de
SUMMARY:Klönkaffe
DESCRIPTION:Jeden zweiten Mittwoch im Monat treffen sich mehrere Nachbarn zum Klönkaffe im Bürgerhaus Stellingen im Spannskamp 43\, direkt hinter der Polizei. Wir freuen uns über weitere Teilnehmer*innen.\nDieser Termin ist nicht zu verwechseln mit dem Dienstags Kaffee im Quartier Spannskamp.
URL:https://eimsbuettel-senioren.de/angebot/kloenkaffe/2027-01-13/
LOCATION:Bürgerhaus Stellingen e.V.\, Spannskamp 43\, Hamburg\, Hamburg\, 22527\, Deutschland
CATEGORIES:Essen / Trinken,Spiel / Gesellschaft
END:VEVENT
BEGIN:VEVENT
DTSTART;TZID=Europe/Berlin:20270127T150000
DTEND;TZID=Europe/Berlin:20270127T170000
DTSTAMP:20260420T162603
CREATED:20260129T091431Z
LAST-MODIFIED:20260129T091431Z
UID:10052590-1801062000-1801069200@eimsbuettel-senioren.de
SUMMARY:Klönkaffe
DESCRIPTION:Jeden zweiten Mittwoch im Monat treffen sich mehrere Nachbarn zum Klönkaffe im Bürgerhaus Stellingen im Spannskamp 43\, direkt hinter der Polizei. Wir freuen uns über weitere Teilnehmer*innen.\nDieser Termin ist nicht zu verwechseln mit dem Dienstags Kaffee im Quartier Spannskamp.
URL:https://eimsbuettel-senioren.de/angebot/kloenkaffe/2027-01-27/
LOCATION:Bürgerhaus Stellingen e.V.\, Spannskamp 43\, Hamburg\, Hamburg\, 22527\, Deutschland
CATEGORIES:Essen / Trinken,Spiel / Gesellschaft
END:VEVENT
BEGIN:VEVENT
DTSTART;TZID=Europe/Berlin:20270210T150000
DTEND;TZID=Europe/Berlin:20270210T170000
DTSTAMP:20260420T162603
CREATED:20260129T091431Z
LAST-MODIFIED:20260129T091431Z
UID:10052591-1802271600-1802278800@eimsbuettel-senioren.de
SUMMARY:Klönkaffe
DESCRIPTION:Jeden zweiten Mittwoch im Monat treffen sich mehrere Nachbarn zum Klönkaffe im Bürgerhaus Stellingen im Spannskamp 43\, direkt hinter der Polizei. Wir freuen uns über weitere Teilnehmer*innen.\nDieser Termin ist nicht zu verwechseln mit dem Dienstags Kaffee im Quartier Spannskamp.
URL:https://eimsbuettel-senioren.de/angebot/kloenkaffe/2027-02-10/
LOCATION:Bürgerhaus Stellingen e.V.\, Spannskamp 43\, Hamburg\, Hamburg\, 22527\, Deutschland
CATEGORIES:Essen / Trinken,Spiel / Gesellschaft
END:VEVENT
BEGIN:VEVENT
DTSTART;TZID=Europe/Berlin:20270224T150000
DTEND;TZID=Europe/Berlin:20270224T170000
DTSTAMP:20260420T162603
CREATED:20260129T091431Z
LAST-MODIFIED:20260129T091431Z
UID:10052592-1803481200-1803488400@eimsbuettel-senioren.de
SUMMARY:Klönkaffe
DESCRIPTION:Jeden zweiten Mittwoch im Monat treffen sich mehrere Nachbarn zum Klönkaffe im Bürgerhaus Stellingen im Spannskamp 43\, direkt hinter der Polizei. Wir freuen uns über weitere Teilnehmer*innen.\nDieser Termin ist nicht zu verwechseln mit dem Dienstags Kaffee im Quartier Spannskamp.
URL:https://eimsbuettel-senioren.de/angebot/kloenkaffe/2027-02-24/
LOCATION:Bürgerhaus Stellingen e.V.\, Spannskamp 43\, Hamburg\, Hamburg\, 22527\, Deutschland
CATEGORIES:Essen / Trinken,Spiel / Gesellschaft
END:VEVENT
BEGIN:VEVENT
DTSTART;TZID=Europe/Berlin:20270310T150000
DTEND;TZID=Europe/Berlin:20270310T170000
DTSTAMP:20260420T162603
CREATED:20260129T091431Z
LAST-MODIFIED:20260129T091431Z
UID:10052593-1804690800-1804698000@eimsbuettel-senioren.de
SUMMARY:Klönkaffe
DESCRIPTION:Jeden zweiten Mittwoch im Monat treffen sich mehrere Nachbarn zum Klönkaffe im Bürgerhaus Stellingen im Spannskamp 43\, direkt hinter der Polizei. Wir freuen uns über weitere Teilnehmer*innen.\nDieser Termin ist nicht zu verwechseln mit dem Dienstags Kaffee im Quartier Spannskamp.
URL:https://eimsbuettel-senioren.de/angebot/kloenkaffe/2027-03-10/
LOCATION:Bürgerhaus Stellingen e.V.\, Spannskamp 43\, Hamburg\, Hamburg\, 22527\, Deutschland
CATEGORIES:Essen / Trinken,Spiel / Gesellschaft
END:VEVENT
BEGIN:VEVENT
DTSTART;TZID=Europe/Berlin:20270324T150000
DTEND;TZID=Europe/Berlin:20270324T170000
DTSTAMP:20260420T162603
CREATED:20260129T091431Z
LAST-MODIFIED:20260129T091431Z
UID:10052594-1805900400-1805907600@eimsbuettel-senioren.de
SUMMARY:Klönkaffe
DESCRIPTION:Jeden zweiten Mittwoch im Monat treffen sich mehrere Nachbarn zum Klönkaffe im Bürgerhaus Stellingen im Spannskamp 43\, direkt hinter der Polizei. Wir freuen uns über weitere Teilnehmer*innen.\nDieser Termin ist nicht zu verwechseln mit dem Dienstags Kaffee im Quartier Spannskamp.
URL:https://eimsbuettel-senioren.de/angebot/kloenkaffe/2027-03-24/
LOCATION:Bürgerhaus Stellingen e.V.\, Spannskamp 43\, Hamburg\, Hamburg\, 22527\, Deutschland
CATEGORIES:Essen / Trinken,Spiel / Gesellschaft
END:VEVENT
BEGIN:VEVENT
DTSTART;TZID=Europe/Berlin:20270407T150000
DTEND;TZID=Europe/Berlin:20270407T170000
DTSTAMP:20260420T162603
CREATED:20260129T091431Z
LAST-MODIFIED:20260129T091431Z
UID:10052595-1807110000-1807117200@eimsbuettel-senioren.de
SUMMARY:Klönkaffe
DESCRIPTION:Jeden zweiten Mittwoch im Monat treffen sich mehrere Nachbarn zum Klönkaffe im Bürgerhaus Stellingen im Spannskamp 43\, direkt hinter der Polizei. Wir freuen uns über weitere Teilnehmer*innen.\nDieser Termin ist nicht zu verwechseln mit dem Dienstags Kaffee im Quartier Spannskamp.
URL:https://eimsbuettel-senioren.de/angebot/kloenkaffe/2027-04-07/
LOCATION:Bürgerhaus Stellingen e.V.\, Spannskamp 43\, Hamburg\, Hamburg\, 22527\, Deutschland
CATEGORIES:Essen / Trinken,Spiel / Gesellschaft
END:VEVENT
BEGIN:VEVENT
DTSTART;TZID=Europe/Berlin:20270421T150000
DTEND;TZID=Europe/Berlin:20270421T170000
DTSTAMP:20260420T162603
CREATED:20260129T091431Z
LAST-MODIFIED:20260129T091431Z
UID:10052596-1808319600-1808326800@eimsbuettel-senioren.de
SUMMARY:Klönkaffe
DESCRIPTION:Jeden zweiten Mittwoch im Monat treffen sich mehrere Nachbarn zum Klönkaffe im Bürgerhaus Stellingen im Spannskamp 43\, direkt hinter der Polizei. Wir freuen uns über weitere Teilnehmer*innen.\nDieser Termin ist nicht zu verwechseln mit dem Dienstags Kaffee im Quartier Spannskamp.
URL:https://eimsbuettel-senioren.de/angebot/kloenkaffe/2027-04-21/
LOCATION:Bürgerhaus Stellingen e.V.\, Spannskamp 43\, Hamburg\, Hamburg\, 22527\, Deutschland
CATEGORIES:Essen / Trinken,Spiel / Gesellschaft
END:VEVENT
BEGIN:VEVENT
DTSTART;TZID=Europe/Berlin:20270505T150000
DTEND;TZID=Europe/Berlin:20270505T170000
DTSTAMP:20260420T162603
CREATED:20260129T091431Z
LAST-MODIFIED:20260129T091431Z
UID:10052597-1809529200-1809536400@eimsbuettel-senioren.de
SUMMARY:Klönkaffe
DESCRIPTION:Jeden zweiten Mittwoch im Monat treffen sich mehrere Nachbarn zum Klönkaffe im Bürgerhaus Stellingen im Spannskamp 43\, direkt hinter der Polizei. Wir freuen uns über weitere Teilnehmer*innen.\nDieser Termin ist nicht zu verwechseln mit dem Dienstags Kaffee im Quartier Spannskamp.
URL:https://eimsbuettel-senioren.de/angebot/kloenkaffe/2027-05-05/
LOCATION:Bürgerhaus Stellingen e.V.\, Spannskamp 43\, Hamburg\, Hamburg\, 22527\, Deutschland
CATEGORIES:Essen / Trinken,Spiel / Gesellschaft
END:VEVENT
BEGIN:VEVENT
DTSTART;TZID=Europe/Berlin:20270519T150000
DTEND;TZID=Europe/Berlin:20270519T170000
DTSTAMP:20260420T162603
CREATED:20260129T091431Z
LAST-MODIFIED:20260129T091431Z
UID:10052598-1810738800-1810746000@eimsbuettel-senioren.de
SUMMARY:Klönkaffe
DESCRIPTION:Jeden zweiten Mittwoch im Monat treffen sich mehrere Nachbarn zum Klönkaffe im Bürgerhaus Stellingen im Spannskamp 43\, direkt hinter der Polizei. Wir freuen uns über weitere Teilnehmer*innen.\nDieser Termin ist nicht zu verwechseln mit dem Dienstags Kaffee im Quartier Spannskamp.
URL:https://eimsbuettel-senioren.de/angebot/kloenkaffe/2027-05-19/
LOCATION:Bürgerhaus Stellingen e.V.\, Spannskamp 43\, Hamburg\, Hamburg\, 22527\, Deutschland
CATEGORIES:Essen / Trinken,Spiel / Gesellschaft
END:VEVENT
BEGIN:VEVENT
DTSTART;TZID=Europe/Berlin:20270602T150000
DTEND;TZID=Europe/Berlin:20270602T170000
DTSTAMP:20260420T162603
CREATED:20260129T091431Z
LAST-MODIFIED:20260129T091431Z
UID:10052599-1811948400-1811955600@eimsbuettel-senioren.de
SUMMARY:Klönkaffe
DESCRIPTION:Jeden zweiten Mittwoch im Monat treffen sich mehrere Nachbarn zum Klönkaffe im Bürgerhaus Stellingen im Spannskamp 43\, direkt hinter der Polizei. Wir freuen uns über weitere Teilnehmer*innen.\nDieser Termin ist nicht zu verwechseln mit dem Dienstags Kaffee im Quartier Spannskamp.
URL:https://eimsbuettel-senioren.de/angebot/kloenkaffe/2027-06-02/
LOCATION:Bürgerhaus Stellingen e.V.\, Spannskamp 43\, Hamburg\, Hamburg\, 22527\, Deutschland
CATEGORIES:Essen / Trinken,Spiel / Gesellschaft
END:VEVENT
END:VCALENDAR