BEGIN:VCALENDAR
VERSION:2.0
PRODID:-//Angebote für Seniorinnen und Senioren im Bezirk Eimsbüttel - ECPv6.15.18//NONSGML v1.0//EN
CALSCALE:GREGORIAN
METHOD:PUBLISH
X-WR-CALNAME:Angebote für Seniorinnen und Senioren im Bezirk Eimsbüttel
X-ORIGINAL-URL:https://eimsbuettel-senioren.de
X-WR-CALDESC:Veranstaltungen für Angebote für Seniorinnen und Senioren im Bezirk Eimsbüttel
REFRESH-INTERVAL;VALUE=DURATION:PT1H
X-Robots-Tag:noindex
X-PUBLISHED-TTL:PT1H
BEGIN:VTIMEZONE
TZID:Europe/Berlin
BEGIN:DAYLIGHT
TZOFFSETFROM:+0100
TZOFFSETTO:+0200
TZNAME:CEST
DTSTART:20250330T010000
END:DAYLIGHT
BEGIN:STANDARD
TZOFFSETFROM:+0200
TZOFFSETTO:+0100
TZNAME:CET
DTSTART:20251026T010000
END:STANDARD
BEGIN:DAYLIGHT
TZOFFSETFROM:+0100
TZOFFSETTO:+0200
TZNAME:CEST
DTSTART:20260329T010000
END:DAYLIGHT
BEGIN:STANDARD
TZOFFSETFROM:+0200
TZOFFSETTO:+0100
TZNAME:CET
DTSTART:20261025T010000
END:STANDARD
BEGIN:DAYLIGHT
TZOFFSETFROM:+0100
TZOFFSETTO:+0200
TZNAME:CEST
DTSTART:20270328T010000
END:DAYLIGHT
BEGIN:STANDARD
TZOFFSETFROM:+0200
TZOFFSETTO:+0100
TZNAME:CET
DTSTART:20271031T010000
END:STANDARD
END:VTIMEZONE
BEGIN:VEVENT
DTSTART;TZID=Europe/Berlin:20260422T103000
DTEND;TZID=Europe/Berlin:20260422T113000
DTSTAMP:20260419T202054
CREATED:20250908T055647Z
LAST-MODIFIED:20250908T055647Z
UID:10047608-1776853800-1776857400@eimsbuettel-senioren.de
SUMMARY:Mach mit - bleib fit! für Geist und Körper
DESCRIPTION:Bewegungsangebot für Menschen mit Demenz und Zugehörige.
URL:https://eimsbuettel-senioren.de/angebot/mach-mit-bleib-fit-fuer-geist-und-koerper/2026-04-22/
LOCATION:Gemeinschaftsraum von Kirche³\, Hörgensweg 62\, Hamburg\, Hamburg\, 22523\, Deutschland
CATEGORIES:Bewegung / Gesundheit
ORGANIZER;CN="Diakon Uwe Loose":MAILTO:loose@kirchengemeinde-eidelstedt.de
END:VEVENT
BEGIN:VEVENT
DTSTART;TZID=Europe/Berlin:20260429T103000
DTEND;TZID=Europe/Berlin:20260429T113000
DTSTAMP:20260419T202054
CREATED:20250908T055647Z
LAST-MODIFIED:20250908T055647Z
UID:10047609-1777458600-1777462200@eimsbuettel-senioren.de
SUMMARY:Mach mit - bleib fit! für Geist und Körper
DESCRIPTION:Bewegungsangebot für Menschen mit Demenz und Zugehörige.
URL:https://eimsbuettel-senioren.de/angebot/mach-mit-bleib-fit-fuer-geist-und-koerper/2026-04-29/
LOCATION:Gemeinschaftsraum von Kirche³\, Hörgensweg 62\, Hamburg\, Hamburg\, 22523\, Deutschland
CATEGORIES:Bewegung / Gesundheit
ORGANIZER;CN="Diakon Uwe Loose":MAILTO:loose@kirchengemeinde-eidelstedt.de
END:VEVENT
BEGIN:VEVENT
DTSTART;TZID=Europe/Berlin:20260506T103000
DTEND;TZID=Europe/Berlin:20260506T113000
DTSTAMP:20260419T202054
CREATED:20250908T055647Z
LAST-MODIFIED:20250908T055647Z
UID:10047610-1778063400-1778067000@eimsbuettel-senioren.de
SUMMARY:Mach mit - bleib fit! für Geist und Körper
DESCRIPTION:Bewegungsangebot für Menschen mit Demenz und Zugehörige.
URL:https://eimsbuettel-senioren.de/angebot/mach-mit-bleib-fit-fuer-geist-und-koerper/2026-05-06/
LOCATION:Gemeinschaftsraum von Kirche³\, Hörgensweg 62\, Hamburg\, Hamburg\, 22523\, Deutschland
CATEGORIES:Bewegung / Gesundheit
ORGANIZER;CN="Diakon Uwe Loose":MAILTO:loose@kirchengemeinde-eidelstedt.de
END:VEVENT
BEGIN:VEVENT
DTSTART;TZID=Europe/Berlin:20260513T103000
DTEND;TZID=Europe/Berlin:20260513T113000
DTSTAMP:20260419T202054
CREATED:20250908T055647Z
LAST-MODIFIED:20250908T055647Z
UID:10047611-1778668200-1778671800@eimsbuettel-senioren.de
SUMMARY:Mach mit - bleib fit! für Geist und Körper
DESCRIPTION:Bewegungsangebot für Menschen mit Demenz und Zugehörige.
URL:https://eimsbuettel-senioren.de/angebot/mach-mit-bleib-fit-fuer-geist-und-koerper/2026-05-13/
LOCATION:Gemeinschaftsraum von Kirche³\, Hörgensweg 62\, Hamburg\, Hamburg\, 22523\, Deutschland
CATEGORIES:Bewegung / Gesundheit
ORGANIZER;CN="Diakon Uwe Loose":MAILTO:loose@kirchengemeinde-eidelstedt.de
END:VEVENT
BEGIN:VEVENT
DTSTART;TZID=Europe/Berlin:20260520T103000
DTEND;TZID=Europe/Berlin:20260520T113000
DTSTAMP:20260419T202054
CREATED:20250908T055647Z
LAST-MODIFIED:20250908T055647Z
UID:10047612-1779273000-1779276600@eimsbuettel-senioren.de
SUMMARY:Mach mit - bleib fit! für Geist und Körper
DESCRIPTION:Bewegungsangebot für Menschen mit Demenz und Zugehörige.
URL:https://eimsbuettel-senioren.de/angebot/mach-mit-bleib-fit-fuer-geist-und-koerper/2026-05-20/
LOCATION:Gemeinschaftsraum von Kirche³\, Hörgensweg 62\, Hamburg\, Hamburg\, 22523\, Deutschland
CATEGORIES:Bewegung / Gesundheit
ORGANIZER;CN="Diakon Uwe Loose":MAILTO:loose@kirchengemeinde-eidelstedt.de
END:VEVENT
BEGIN:VEVENT
DTSTART;TZID=Europe/Berlin:20260527T103000
DTEND;TZID=Europe/Berlin:20260527T113000
DTSTAMP:20260419T202054
CREATED:20250908T055647Z
LAST-MODIFIED:20250908T055647Z
UID:10047613-1779877800-1779881400@eimsbuettel-senioren.de
SUMMARY:Mach mit - bleib fit! für Geist und Körper
DESCRIPTION:Bewegungsangebot für Menschen mit Demenz und Zugehörige.
URL:https://eimsbuettel-senioren.de/angebot/mach-mit-bleib-fit-fuer-geist-und-koerper/2026-05-27/
LOCATION:Gemeinschaftsraum von Kirche³\, Hörgensweg 62\, Hamburg\, Hamburg\, 22523\, Deutschland
CATEGORIES:Bewegung / Gesundheit
ORGANIZER;CN="Diakon Uwe Loose":MAILTO:loose@kirchengemeinde-eidelstedt.de
END:VEVENT
BEGIN:VEVENT
DTSTART;TZID=Europe/Berlin:20260603T103000
DTEND;TZID=Europe/Berlin:20260603T113000
DTSTAMP:20260419T202054
CREATED:20250908T055647Z
LAST-MODIFIED:20250908T055647Z
UID:10047614-1780482600-1780486200@eimsbuettel-senioren.de
SUMMARY:Mach mit - bleib fit! für Geist und Körper
DESCRIPTION:Bewegungsangebot für Menschen mit Demenz und Zugehörige.
URL:https://eimsbuettel-senioren.de/angebot/mach-mit-bleib-fit-fuer-geist-und-koerper/2026-06-03/
LOCATION:Gemeinschaftsraum von Kirche³\, Hörgensweg 62\, Hamburg\, Hamburg\, 22523\, Deutschland
CATEGORIES:Bewegung / Gesundheit
ORGANIZER;CN="Diakon Uwe Loose":MAILTO:loose@kirchengemeinde-eidelstedt.de
END:VEVENT
BEGIN:VEVENT
DTSTART;TZID=Europe/Berlin:20260610T103000
DTEND;TZID=Europe/Berlin:20260610T113000
DTSTAMP:20260419T202054
CREATED:20250908T055647Z
LAST-MODIFIED:20250908T055647Z
UID:10047615-1781087400-1781091000@eimsbuettel-senioren.de
SUMMARY:Mach mit - bleib fit! für Geist und Körper
DESCRIPTION:Bewegungsangebot für Menschen mit Demenz und Zugehörige.
URL:https://eimsbuettel-senioren.de/angebot/mach-mit-bleib-fit-fuer-geist-und-koerper/2026-06-10/
LOCATION:Gemeinschaftsraum von Kirche³\, Hörgensweg 62\, Hamburg\, Hamburg\, 22523\, Deutschland
CATEGORIES:Bewegung / Gesundheit
ORGANIZER;CN="Diakon Uwe Loose":MAILTO:loose@kirchengemeinde-eidelstedt.de
END:VEVENT
BEGIN:VEVENT
DTSTART;TZID=Europe/Berlin:20260617T103000
DTEND;TZID=Europe/Berlin:20260617T113000
DTSTAMP:20260419T202054
CREATED:20250908T055647Z
LAST-MODIFIED:20250908T055647Z
UID:10047616-1781692200-1781695800@eimsbuettel-senioren.de
SUMMARY:Mach mit - bleib fit! für Geist und Körper
DESCRIPTION:Bewegungsangebot für Menschen mit Demenz und Zugehörige.
URL:https://eimsbuettel-senioren.de/angebot/mach-mit-bleib-fit-fuer-geist-und-koerper/2026-06-17/
LOCATION:Gemeinschaftsraum von Kirche³\, Hörgensweg 62\, Hamburg\, Hamburg\, 22523\, Deutschland
CATEGORIES:Bewegung / Gesundheit
ORGANIZER;CN="Diakon Uwe Loose":MAILTO:loose@kirchengemeinde-eidelstedt.de
END:VEVENT
BEGIN:VEVENT
DTSTART;TZID=Europe/Berlin:20260624T103000
DTEND;TZID=Europe/Berlin:20260624T113000
DTSTAMP:20260419T202054
CREATED:20250908T055647Z
LAST-MODIFIED:20250908T055647Z
UID:10047617-1782297000-1782300600@eimsbuettel-senioren.de
SUMMARY:Mach mit - bleib fit! für Geist und Körper
DESCRIPTION:Bewegungsangebot für Menschen mit Demenz und Zugehörige.
URL:https://eimsbuettel-senioren.de/angebot/mach-mit-bleib-fit-fuer-geist-und-koerper/2026-06-24/
LOCATION:Gemeinschaftsraum von Kirche³\, Hörgensweg 62\, Hamburg\, Hamburg\, 22523\, Deutschland
CATEGORIES:Bewegung / Gesundheit
ORGANIZER;CN="Diakon Uwe Loose":MAILTO:loose@kirchengemeinde-eidelstedt.de
END:VEVENT
BEGIN:VEVENT
DTSTART;TZID=Europe/Berlin:20260701T103000
DTEND;TZID=Europe/Berlin:20260701T113000
DTSTAMP:20260419T202054
CREATED:20250908T055647Z
LAST-MODIFIED:20250908T055647Z
UID:10047618-1782901800-1782905400@eimsbuettel-senioren.de
SUMMARY:Mach mit - bleib fit! für Geist und Körper
DESCRIPTION:Bewegungsangebot für Menschen mit Demenz und Zugehörige.
URL:https://eimsbuettel-senioren.de/angebot/mach-mit-bleib-fit-fuer-geist-und-koerper/2026-07-01/
LOCATION:Gemeinschaftsraum von Kirche³\, Hörgensweg 62\, Hamburg\, Hamburg\, 22523\, Deutschland
CATEGORIES:Bewegung / Gesundheit
ORGANIZER;CN="Diakon Uwe Loose":MAILTO:loose@kirchengemeinde-eidelstedt.de
END:VEVENT
BEGIN:VEVENT
DTSTART;TZID=Europe/Berlin:20260708T103000
DTEND;TZID=Europe/Berlin:20260708T113000
DTSTAMP:20260419T202055
CREATED:20250908T055647Z
LAST-MODIFIED:20250908T055647Z
UID:10047619-1783506600-1783510200@eimsbuettel-senioren.de
SUMMARY:Mach mit - bleib fit! für Geist und Körper
DESCRIPTION:Bewegungsangebot für Menschen mit Demenz und Zugehörige.
URL:https://eimsbuettel-senioren.de/angebot/mach-mit-bleib-fit-fuer-geist-und-koerper/2026-07-08/
LOCATION:Gemeinschaftsraum von Kirche³\, Hörgensweg 62\, Hamburg\, Hamburg\, 22523\, Deutschland
CATEGORIES:Bewegung / Gesundheit
ORGANIZER;CN="Diakon Uwe Loose":MAILTO:loose@kirchengemeinde-eidelstedt.de
END:VEVENT
BEGIN:VEVENT
DTSTART;TZID=Europe/Berlin:20260715T103000
DTEND;TZID=Europe/Berlin:20260715T113000
DTSTAMP:20260419T202055
CREATED:20250908T055647Z
LAST-MODIFIED:20250908T055647Z
UID:10047620-1784111400-1784115000@eimsbuettel-senioren.de
SUMMARY:Mach mit - bleib fit! für Geist und Körper
DESCRIPTION:Bewegungsangebot für Menschen mit Demenz und Zugehörige.
URL:https://eimsbuettel-senioren.de/angebot/mach-mit-bleib-fit-fuer-geist-und-koerper/2026-07-15/
LOCATION:Gemeinschaftsraum von Kirche³\, Hörgensweg 62\, Hamburg\, Hamburg\, 22523\, Deutschland
CATEGORIES:Bewegung / Gesundheit
ORGANIZER;CN="Diakon Uwe Loose":MAILTO:loose@kirchengemeinde-eidelstedt.de
END:VEVENT
BEGIN:VEVENT
DTSTART;TZID=Europe/Berlin:20260722T103000
DTEND;TZID=Europe/Berlin:20260722T113000
DTSTAMP:20260419T202055
CREATED:20250908T055647Z
LAST-MODIFIED:20250908T055647Z
UID:10047621-1784716200-1784719800@eimsbuettel-senioren.de
SUMMARY:Mach mit - bleib fit! für Geist und Körper
DESCRIPTION:Bewegungsangebot für Menschen mit Demenz und Zugehörige.
URL:https://eimsbuettel-senioren.de/angebot/mach-mit-bleib-fit-fuer-geist-und-koerper/2026-07-22/
LOCATION:Gemeinschaftsraum von Kirche³\, Hörgensweg 62\, Hamburg\, Hamburg\, 22523\, Deutschland
CATEGORIES:Bewegung / Gesundheit
ORGANIZER;CN="Diakon Uwe Loose":MAILTO:loose@kirchengemeinde-eidelstedt.de
END:VEVENT
BEGIN:VEVENT
DTSTART;TZID=Europe/Berlin:20260729T103000
DTEND;TZID=Europe/Berlin:20260729T113000
DTSTAMP:20260419T202055
CREATED:20250908T055647Z
LAST-MODIFIED:20250908T055647Z
UID:10047622-1785321000-1785324600@eimsbuettel-senioren.de
SUMMARY:Mach mit - bleib fit! für Geist und Körper
DESCRIPTION:Bewegungsangebot für Menschen mit Demenz und Zugehörige.
URL:https://eimsbuettel-senioren.de/angebot/mach-mit-bleib-fit-fuer-geist-und-koerper/2026-07-29/
LOCATION:Gemeinschaftsraum von Kirche³\, Hörgensweg 62\, Hamburg\, Hamburg\, 22523\, Deutschland
CATEGORIES:Bewegung / Gesundheit
ORGANIZER;CN="Diakon Uwe Loose":MAILTO:loose@kirchengemeinde-eidelstedt.de
END:VEVENT
BEGIN:VEVENT
DTSTART;TZID=Europe/Berlin:20260805T103000
DTEND;TZID=Europe/Berlin:20260805T113000
DTSTAMP:20260419T202055
CREATED:20250908T055647Z
LAST-MODIFIED:20250908T055647Z
UID:10047623-1785925800-1785929400@eimsbuettel-senioren.de
SUMMARY:Mach mit - bleib fit! für Geist und Körper
DESCRIPTION:Bewegungsangebot für Menschen mit Demenz und Zugehörige.
URL:https://eimsbuettel-senioren.de/angebot/mach-mit-bleib-fit-fuer-geist-und-koerper/2026-08-05/
LOCATION:Gemeinschaftsraum von Kirche³\, Hörgensweg 62\, Hamburg\, Hamburg\, 22523\, Deutschland
CATEGORIES:Bewegung / Gesundheit
ORGANIZER;CN="Diakon Uwe Loose":MAILTO:loose@kirchengemeinde-eidelstedt.de
END:VEVENT
BEGIN:VEVENT
DTSTART;TZID=Europe/Berlin:20260812T103000
DTEND;TZID=Europe/Berlin:20260812T113000
DTSTAMP:20260419T202055
CREATED:20250908T055647Z
LAST-MODIFIED:20250908T055647Z
UID:10047624-1786530600-1786534200@eimsbuettel-senioren.de
SUMMARY:Mach mit - bleib fit! für Geist und Körper
DESCRIPTION:Bewegungsangebot für Menschen mit Demenz und Zugehörige.
URL:https://eimsbuettel-senioren.de/angebot/mach-mit-bleib-fit-fuer-geist-und-koerper/2026-08-12/
LOCATION:Gemeinschaftsraum von Kirche³\, Hörgensweg 62\, Hamburg\, Hamburg\, 22523\, Deutschland
CATEGORIES:Bewegung / Gesundheit
ORGANIZER;CN="Diakon Uwe Loose":MAILTO:loose@kirchengemeinde-eidelstedt.de
END:VEVENT
BEGIN:VEVENT
DTSTART;TZID=Europe/Berlin:20260819T103000
DTEND;TZID=Europe/Berlin:20260819T113000
DTSTAMP:20260419T202055
CREATED:20250908T055647Z
LAST-MODIFIED:20250908T055647Z
UID:10047625-1787135400-1787139000@eimsbuettel-senioren.de
SUMMARY:Mach mit - bleib fit! für Geist und Körper
DESCRIPTION:Bewegungsangebot für Menschen mit Demenz und Zugehörige.
URL:https://eimsbuettel-senioren.de/angebot/mach-mit-bleib-fit-fuer-geist-und-koerper/2026-08-19/
LOCATION:Gemeinschaftsraum von Kirche³\, Hörgensweg 62\, Hamburg\, Hamburg\, 22523\, Deutschland
CATEGORIES:Bewegung / Gesundheit
ORGANIZER;CN="Diakon Uwe Loose":MAILTO:loose@kirchengemeinde-eidelstedt.de
END:VEVENT
BEGIN:VEVENT
DTSTART;TZID=Europe/Berlin:20260826T103000
DTEND;TZID=Europe/Berlin:20260826T113000
DTSTAMP:20260419T202055
CREATED:20250908T055647Z
LAST-MODIFIED:20250908T055647Z
UID:10047626-1787740200-1787743800@eimsbuettel-senioren.de
SUMMARY:Mach mit - bleib fit! für Geist und Körper
DESCRIPTION:Bewegungsangebot für Menschen mit Demenz und Zugehörige.
URL:https://eimsbuettel-senioren.de/angebot/mach-mit-bleib-fit-fuer-geist-und-koerper/2026-08-26/
LOCATION:Gemeinschaftsraum von Kirche³\, Hörgensweg 62\, Hamburg\, Hamburg\, 22523\, Deutschland
CATEGORIES:Bewegung / Gesundheit
ORGANIZER;CN="Diakon Uwe Loose":MAILTO:loose@kirchengemeinde-eidelstedt.de
END:VEVENT
BEGIN:VEVENT
DTSTART;TZID=Europe/Berlin:20260902T103000
DTEND;TZID=Europe/Berlin:20260902T113000
DTSTAMP:20260419T202055
CREATED:20250908T055647Z
LAST-MODIFIED:20250908T055647Z
UID:10047627-1788345000-1788348600@eimsbuettel-senioren.de
SUMMARY:Mach mit - bleib fit! für Geist und Körper
DESCRIPTION:Bewegungsangebot für Menschen mit Demenz und Zugehörige.
URL:https://eimsbuettel-senioren.de/angebot/mach-mit-bleib-fit-fuer-geist-und-koerper/2026-09-02/
LOCATION:Gemeinschaftsraum von Kirche³\, Hörgensweg 62\, Hamburg\, Hamburg\, 22523\, Deutschland
CATEGORIES:Bewegung / Gesundheit
ORGANIZER;CN="Diakon Uwe Loose":MAILTO:loose@kirchengemeinde-eidelstedt.de
END:VEVENT
BEGIN:VEVENT
DTSTART;TZID=Europe/Berlin:20260909T103000
DTEND;TZID=Europe/Berlin:20260909T113000
DTSTAMP:20260419T202055
CREATED:20250908T055647Z
LAST-MODIFIED:20250908T055647Z
UID:10047628-1788949800-1788953400@eimsbuettel-senioren.de
SUMMARY:Mach mit - bleib fit! für Geist und Körper
DESCRIPTION:Bewegungsangebot für Menschen mit Demenz und Zugehörige.
URL:https://eimsbuettel-senioren.de/angebot/mach-mit-bleib-fit-fuer-geist-und-koerper/2026-09-09/
LOCATION:Gemeinschaftsraum von Kirche³\, Hörgensweg 62\, Hamburg\, Hamburg\, 22523\, Deutschland
CATEGORIES:Bewegung / Gesundheit
ORGANIZER;CN="Diakon Uwe Loose":MAILTO:loose@kirchengemeinde-eidelstedt.de
END:VEVENT
BEGIN:VEVENT
DTSTART;TZID=Europe/Berlin:20260916T103000
DTEND;TZID=Europe/Berlin:20260916T113000
DTSTAMP:20260419T202055
CREATED:20250908T055647Z
LAST-MODIFIED:20250908T055647Z
UID:10047629-1789554600-1789558200@eimsbuettel-senioren.de
SUMMARY:Mach mit - bleib fit! für Geist und Körper
DESCRIPTION:Bewegungsangebot für Menschen mit Demenz und Zugehörige.
URL:https://eimsbuettel-senioren.de/angebot/mach-mit-bleib-fit-fuer-geist-und-koerper/2026-09-16/
LOCATION:Gemeinschaftsraum von Kirche³\, Hörgensweg 62\, Hamburg\, Hamburg\, 22523\, Deutschland
CATEGORIES:Bewegung / Gesundheit
ORGANIZER;CN="Diakon Uwe Loose":MAILTO:loose@kirchengemeinde-eidelstedt.de
END:VEVENT
BEGIN:VEVENT
DTSTART;TZID=Europe/Berlin:20260923T103000
DTEND;TZID=Europe/Berlin:20260923T113000
DTSTAMP:20260419T202055
CREATED:20250908T055647Z
LAST-MODIFIED:20250908T055647Z
UID:10047630-1790159400-1790163000@eimsbuettel-senioren.de
SUMMARY:Mach mit - bleib fit! für Geist und Körper
DESCRIPTION:Bewegungsangebot für Menschen mit Demenz und Zugehörige.
URL:https://eimsbuettel-senioren.de/angebot/mach-mit-bleib-fit-fuer-geist-und-koerper/2026-09-23/
LOCATION:Gemeinschaftsraum von Kirche³\, Hörgensweg 62\, Hamburg\, Hamburg\, 22523\, Deutschland
CATEGORIES:Bewegung / Gesundheit
ORGANIZER;CN="Diakon Uwe Loose":MAILTO:loose@kirchengemeinde-eidelstedt.de
END:VEVENT
BEGIN:VEVENT
DTSTART;TZID=Europe/Berlin:20260930T103000
DTEND;TZID=Europe/Berlin:20260930T113000
DTSTAMP:20260419T202055
CREATED:20250908T055647Z
LAST-MODIFIED:20250908T055647Z
UID:10047631-1790764200-1790767800@eimsbuettel-senioren.de
SUMMARY:Mach mit - bleib fit! für Geist und Körper
DESCRIPTION:Bewegungsangebot für Menschen mit Demenz und Zugehörige.
URL:https://eimsbuettel-senioren.de/angebot/mach-mit-bleib-fit-fuer-geist-und-koerper/2026-09-30/
LOCATION:Gemeinschaftsraum von Kirche³\, Hörgensweg 62\, Hamburg\, Hamburg\, 22523\, Deutschland
CATEGORIES:Bewegung / Gesundheit
ORGANIZER;CN="Diakon Uwe Loose":MAILTO:loose@kirchengemeinde-eidelstedt.de
END:VEVENT
BEGIN:VEVENT
DTSTART;TZID=Europe/Berlin:20261007T103000
DTEND;TZID=Europe/Berlin:20261007T113000
DTSTAMP:20260419T202055
CREATED:20250908T055647Z
LAST-MODIFIED:20250908T055647Z
UID:10047632-1791369000-1791372600@eimsbuettel-senioren.de
SUMMARY:Mach mit - bleib fit! für Geist und Körper
DESCRIPTION:Bewegungsangebot für Menschen mit Demenz und Zugehörige.
URL:https://eimsbuettel-senioren.de/angebot/mach-mit-bleib-fit-fuer-geist-und-koerper/2026-10-07/
LOCATION:Gemeinschaftsraum von Kirche³\, Hörgensweg 62\, Hamburg\, Hamburg\, 22523\, Deutschland
CATEGORIES:Bewegung / Gesundheit
ORGANIZER;CN="Diakon Uwe Loose":MAILTO:loose@kirchengemeinde-eidelstedt.de
END:VEVENT
BEGIN:VEVENT
DTSTART;TZID=Europe/Berlin:20261014T103000
DTEND;TZID=Europe/Berlin:20261014T113000
DTSTAMP:20260419T202055
CREATED:20250908T055647Z
LAST-MODIFIED:20250908T055647Z
UID:10047633-1791973800-1791977400@eimsbuettel-senioren.de
SUMMARY:Mach mit - bleib fit! für Geist und Körper
DESCRIPTION:Bewegungsangebot für Menschen mit Demenz und Zugehörige.
URL:https://eimsbuettel-senioren.de/angebot/mach-mit-bleib-fit-fuer-geist-und-koerper/2026-10-14/
LOCATION:Gemeinschaftsraum von Kirche³\, Hörgensweg 62\, Hamburg\, Hamburg\, 22523\, Deutschland
CATEGORIES:Bewegung / Gesundheit
ORGANIZER;CN="Diakon Uwe Loose":MAILTO:loose@kirchengemeinde-eidelstedt.de
END:VEVENT
BEGIN:VEVENT
DTSTART;TZID=Europe/Berlin:20261021T103000
DTEND;TZID=Europe/Berlin:20261021T113000
DTSTAMP:20260419T202055
CREATED:20250908T055647Z
LAST-MODIFIED:20250908T055647Z
UID:10047634-1792578600-1792582200@eimsbuettel-senioren.de
SUMMARY:Mach mit - bleib fit! für Geist und Körper
DESCRIPTION:Bewegungsangebot für Menschen mit Demenz und Zugehörige.
URL:https://eimsbuettel-senioren.de/angebot/mach-mit-bleib-fit-fuer-geist-und-koerper/2026-10-21/
LOCATION:Gemeinschaftsraum von Kirche³\, Hörgensweg 62\, Hamburg\, Hamburg\, 22523\, Deutschland
CATEGORIES:Bewegung / Gesundheit
ORGANIZER;CN="Diakon Uwe Loose":MAILTO:loose@kirchengemeinde-eidelstedt.de
END:VEVENT
BEGIN:VEVENT
DTSTART;TZID=Europe/Berlin:20261028T103000
DTEND;TZID=Europe/Berlin:20261028T113000
DTSTAMP:20260419T202055
CREATED:20250908T055647Z
LAST-MODIFIED:20250908T055647Z
UID:10047635-1793183400-1793187000@eimsbuettel-senioren.de
SUMMARY:Mach mit - bleib fit! für Geist und Körper
DESCRIPTION:Bewegungsangebot für Menschen mit Demenz und Zugehörige.
URL:https://eimsbuettel-senioren.de/angebot/mach-mit-bleib-fit-fuer-geist-und-koerper/2026-10-28/
LOCATION:Gemeinschaftsraum von Kirche³\, Hörgensweg 62\, Hamburg\, Hamburg\, 22523\, Deutschland
CATEGORIES:Bewegung / Gesundheit
ORGANIZER;CN="Diakon Uwe Loose":MAILTO:loose@kirchengemeinde-eidelstedt.de
END:VEVENT
BEGIN:VEVENT
DTSTART;TZID=Europe/Berlin:20261104T103000
DTEND;TZID=Europe/Berlin:20261104T113000
DTSTAMP:20260419T202055
CREATED:20250908T055647Z
LAST-MODIFIED:20250908T055647Z
UID:10047636-1793788200-1793791800@eimsbuettel-senioren.de
SUMMARY:Mach mit - bleib fit! für Geist und Körper
DESCRIPTION:Bewegungsangebot für Menschen mit Demenz und Zugehörige.
URL:https://eimsbuettel-senioren.de/angebot/mach-mit-bleib-fit-fuer-geist-und-koerper/2026-11-04/
LOCATION:Gemeinschaftsraum von Kirche³\, Hörgensweg 62\, Hamburg\, Hamburg\, 22523\, Deutschland
CATEGORIES:Bewegung / Gesundheit
ORGANIZER;CN="Diakon Uwe Loose":MAILTO:loose@kirchengemeinde-eidelstedt.de
END:VEVENT
BEGIN:VEVENT
DTSTART;TZID=Europe/Berlin:20261111T103000
DTEND;TZID=Europe/Berlin:20261111T113000
DTSTAMP:20260419T202055
CREATED:20250908T055647Z
LAST-MODIFIED:20250908T055647Z
UID:10047637-1794393000-1794396600@eimsbuettel-senioren.de
SUMMARY:Mach mit - bleib fit! für Geist und Körper
DESCRIPTION:Bewegungsangebot für Menschen mit Demenz und Zugehörige.
URL:https://eimsbuettel-senioren.de/angebot/mach-mit-bleib-fit-fuer-geist-und-koerper/2026-11-11/
LOCATION:Gemeinschaftsraum von Kirche³\, Hörgensweg 62\, Hamburg\, Hamburg\, 22523\, Deutschland
CATEGORIES:Bewegung / Gesundheit
ORGANIZER;CN="Diakon Uwe Loose":MAILTO:loose@kirchengemeinde-eidelstedt.de
END:VEVENT
END:VCALENDAR