BEGIN:VCALENDAR
VERSION:2.0
PRODID:-//Angebote für Seniorinnen und Senioren im Bezirk Eimsbüttel - ECPv6.15.18//NONSGML v1.0//EN
CALSCALE:GREGORIAN
METHOD:PUBLISH
X-WR-CALNAME:Angebote für Seniorinnen und Senioren im Bezirk Eimsbüttel
X-ORIGINAL-URL:https://eimsbuettel-senioren.de
X-WR-CALDESC:Veranstaltungen für Angebote für Seniorinnen und Senioren im Bezirk Eimsbüttel
REFRESH-INTERVAL;VALUE=DURATION:PT1H
X-Robots-Tag:noindex
X-PUBLISHED-TTL:PT1H
BEGIN:VTIMEZONE
TZID:Europe/Berlin
BEGIN:DAYLIGHT
TZOFFSETFROM:+0100
TZOFFSETTO:+0200
TZNAME:CEST
DTSTART:20250330T010000
END:DAYLIGHT
BEGIN:STANDARD
TZOFFSETFROM:+0200
TZOFFSETTO:+0100
TZNAME:CET
DTSTART:20251026T010000
END:STANDARD
BEGIN:DAYLIGHT
TZOFFSETFROM:+0100
TZOFFSETTO:+0200
TZNAME:CEST
DTSTART:20260329T010000
END:DAYLIGHT
BEGIN:STANDARD
TZOFFSETFROM:+0200
TZOFFSETTO:+0100
TZNAME:CET
DTSTART:20261025T010000
END:STANDARD
BEGIN:DAYLIGHT
TZOFFSETFROM:+0100
TZOFFSETTO:+0200
TZNAME:CEST
DTSTART:20270328T010000
END:DAYLIGHT
BEGIN:STANDARD
TZOFFSETFROM:+0200
TZOFFSETTO:+0100
TZNAME:CET
DTSTART:20271031T010000
END:STANDARD
END:VTIMEZONE
BEGIN:VEVENT
DTSTART;TZID=Europe/Berlin:20260429T150000
DTEND;TZID=Europe/Berlin:20260429T170000
DTSTAMP:20260423T180008
CREATED:20241006T152346Z
LAST-MODIFIED:20241217T085348Z
UID:10034065-1777474800-1777482000@eimsbuettel-senioren.de
SUMMARY:Rummy Cup / Kartenspiele
DESCRIPTION:Wer kennt den Zauber der Kartenspiele? Hier haben Kartenspieler – ob neugierige Anfänger oder gestandene Erfahrene – einen Raum\, gemeinsam die Kartenwelt zu erspielen und natürlich lieben wir besonders Gesellschaftsspiele z.B.Mensch ärgere Dich nicht – Halma – Rummycup. \nLeitung: Anke
URL:https://eimsbuettel-senioren.de/angebot/rummy-cup-kartenspiele/2026-04-29/
LOCATION:Aktivtreffpunkt Eimsbüttel\, Grundstrasse 17\, Hamburg\, Hamburg\, 20257\, Deutschland
CATEGORIES:Spiel / Gesellschaft
ORGANIZER;CN="Aktivtreffpunkt":MAILTO:info@aktivtreffpunkt.de
END:VEVENT
BEGIN:VEVENT
DTSTART;TZID=Europe/Berlin:20260506T150000
DTEND;TZID=Europe/Berlin:20260506T170000
DTSTAMP:20260423T180008
CREATED:20241006T152346Z
LAST-MODIFIED:20241217T085348Z
UID:10034066-1778079600-1778086800@eimsbuettel-senioren.de
SUMMARY:Rummy Cup / Kartenspiele
DESCRIPTION:Wer kennt den Zauber der Kartenspiele? Hier haben Kartenspieler – ob neugierige Anfänger oder gestandene Erfahrene – einen Raum\, gemeinsam die Kartenwelt zu erspielen und natürlich lieben wir besonders Gesellschaftsspiele z.B.Mensch ärgere Dich nicht – Halma – Rummycup. \nLeitung: Anke
URL:https://eimsbuettel-senioren.de/angebot/rummy-cup-kartenspiele/2026-05-06/
LOCATION:Aktivtreffpunkt Eimsbüttel\, Grundstrasse 17\, Hamburg\, Hamburg\, 20257\, Deutschland
CATEGORIES:Spiel / Gesellschaft
ORGANIZER;CN="Aktivtreffpunkt":MAILTO:info@aktivtreffpunkt.de
END:VEVENT
BEGIN:VEVENT
DTSTART;TZID=Europe/Berlin:20260513T150000
DTEND;TZID=Europe/Berlin:20260513T170000
DTSTAMP:20260423T180008
CREATED:20241006T152346Z
LAST-MODIFIED:20241217T085348Z
UID:10034067-1778684400-1778691600@eimsbuettel-senioren.de
SUMMARY:Rummy Cup / Kartenspiele
DESCRIPTION:Wer kennt den Zauber der Kartenspiele? Hier haben Kartenspieler – ob neugierige Anfänger oder gestandene Erfahrene – einen Raum\, gemeinsam die Kartenwelt zu erspielen und natürlich lieben wir besonders Gesellschaftsspiele z.B.Mensch ärgere Dich nicht – Halma – Rummycup. \nLeitung: Anke
URL:https://eimsbuettel-senioren.de/angebot/rummy-cup-kartenspiele/2026-05-13/
LOCATION:Aktivtreffpunkt Eimsbüttel\, Grundstrasse 17\, Hamburg\, Hamburg\, 20257\, Deutschland
CATEGORIES:Spiel / Gesellschaft
ORGANIZER;CN="Aktivtreffpunkt":MAILTO:info@aktivtreffpunkt.de
END:VEVENT
BEGIN:VEVENT
DTSTART;TZID=Europe/Berlin:20260520T150000
DTEND;TZID=Europe/Berlin:20260520T170000
DTSTAMP:20260423T180008
CREATED:20241006T152346Z
LAST-MODIFIED:20241217T085348Z
UID:10034068-1779289200-1779296400@eimsbuettel-senioren.de
SUMMARY:Rummy Cup / Kartenspiele
DESCRIPTION:Wer kennt den Zauber der Kartenspiele? Hier haben Kartenspieler – ob neugierige Anfänger oder gestandene Erfahrene – einen Raum\, gemeinsam die Kartenwelt zu erspielen und natürlich lieben wir besonders Gesellschaftsspiele z.B.Mensch ärgere Dich nicht – Halma – Rummycup. \nLeitung: Anke
URL:https://eimsbuettel-senioren.de/angebot/rummy-cup-kartenspiele/2026-05-20/
LOCATION:Aktivtreffpunkt Eimsbüttel\, Grundstrasse 17\, Hamburg\, Hamburg\, 20257\, Deutschland
CATEGORIES:Spiel / Gesellschaft
ORGANIZER;CN="Aktivtreffpunkt":MAILTO:info@aktivtreffpunkt.de
END:VEVENT
BEGIN:VEVENT
DTSTART;TZID=Europe/Berlin:20260527T150000
DTEND;TZID=Europe/Berlin:20260527T170000
DTSTAMP:20260423T180008
CREATED:20241006T152346Z
LAST-MODIFIED:20241217T085348Z
UID:10034069-1779894000-1779901200@eimsbuettel-senioren.de
SUMMARY:Rummy Cup / Kartenspiele
DESCRIPTION:Wer kennt den Zauber der Kartenspiele? Hier haben Kartenspieler – ob neugierige Anfänger oder gestandene Erfahrene – einen Raum\, gemeinsam die Kartenwelt zu erspielen und natürlich lieben wir besonders Gesellschaftsspiele z.B.Mensch ärgere Dich nicht – Halma – Rummycup. \nLeitung: Anke
URL:https://eimsbuettel-senioren.de/angebot/rummy-cup-kartenspiele/2026-05-27/
LOCATION:Aktivtreffpunkt Eimsbüttel\, Grundstrasse 17\, Hamburg\, Hamburg\, 20257\, Deutschland
CATEGORIES:Spiel / Gesellschaft
ORGANIZER;CN="Aktivtreffpunkt":MAILTO:info@aktivtreffpunkt.de
END:VEVENT
BEGIN:VEVENT
DTSTART;TZID=Europe/Berlin:20260603T150000
DTEND;TZID=Europe/Berlin:20260603T170000
DTSTAMP:20260423T180008
CREATED:20241006T152346Z
LAST-MODIFIED:20241217T085348Z
UID:10034070-1780498800-1780506000@eimsbuettel-senioren.de
SUMMARY:Rummy Cup / Kartenspiele
DESCRIPTION:Wer kennt den Zauber der Kartenspiele? Hier haben Kartenspieler – ob neugierige Anfänger oder gestandene Erfahrene – einen Raum\, gemeinsam die Kartenwelt zu erspielen und natürlich lieben wir besonders Gesellschaftsspiele z.B.Mensch ärgere Dich nicht – Halma – Rummycup. \nLeitung: Anke
URL:https://eimsbuettel-senioren.de/angebot/rummy-cup-kartenspiele/2026-06-03/
LOCATION:Aktivtreffpunkt Eimsbüttel\, Grundstrasse 17\, Hamburg\, Hamburg\, 20257\, Deutschland
CATEGORIES:Spiel / Gesellschaft
ORGANIZER;CN="Aktivtreffpunkt":MAILTO:info@aktivtreffpunkt.de
END:VEVENT
BEGIN:VEVENT
DTSTART;TZID=Europe/Berlin:20260610T150000
DTEND;TZID=Europe/Berlin:20260610T170000
DTSTAMP:20260423T180008
CREATED:20241006T152346Z
LAST-MODIFIED:20241217T085348Z
UID:10034071-1781103600-1781110800@eimsbuettel-senioren.de
SUMMARY:Rummy Cup / Kartenspiele
DESCRIPTION:Wer kennt den Zauber der Kartenspiele? Hier haben Kartenspieler – ob neugierige Anfänger oder gestandene Erfahrene – einen Raum\, gemeinsam die Kartenwelt zu erspielen und natürlich lieben wir besonders Gesellschaftsspiele z.B.Mensch ärgere Dich nicht – Halma – Rummycup. \nLeitung: Anke
URL:https://eimsbuettel-senioren.de/angebot/rummy-cup-kartenspiele/2026-06-10/
LOCATION:Aktivtreffpunkt Eimsbüttel\, Grundstrasse 17\, Hamburg\, Hamburg\, 20257\, Deutschland
CATEGORIES:Spiel / Gesellschaft
ORGANIZER;CN="Aktivtreffpunkt":MAILTO:info@aktivtreffpunkt.de
END:VEVENT
BEGIN:VEVENT
DTSTART;TZID=Europe/Berlin:20260617T150000
DTEND;TZID=Europe/Berlin:20260617T170000
DTSTAMP:20260423T180008
CREATED:20241006T152346Z
LAST-MODIFIED:20241217T085348Z
UID:10034072-1781708400-1781715600@eimsbuettel-senioren.de
SUMMARY:Rummy Cup / Kartenspiele
DESCRIPTION:Wer kennt den Zauber der Kartenspiele? Hier haben Kartenspieler – ob neugierige Anfänger oder gestandene Erfahrene – einen Raum\, gemeinsam die Kartenwelt zu erspielen und natürlich lieben wir besonders Gesellschaftsspiele z.B.Mensch ärgere Dich nicht – Halma – Rummycup. \nLeitung: Anke
URL:https://eimsbuettel-senioren.de/angebot/rummy-cup-kartenspiele/2026-06-17/
LOCATION:Aktivtreffpunkt Eimsbüttel\, Grundstrasse 17\, Hamburg\, Hamburg\, 20257\, Deutschland
CATEGORIES:Spiel / Gesellschaft
ORGANIZER;CN="Aktivtreffpunkt":MAILTO:info@aktivtreffpunkt.de
END:VEVENT
BEGIN:VEVENT
DTSTART;TZID=Europe/Berlin:20260624T150000
DTEND;TZID=Europe/Berlin:20260624T170000
DTSTAMP:20260423T180008
CREATED:20241006T152346Z
LAST-MODIFIED:20241217T085348Z
UID:10034073-1782313200-1782320400@eimsbuettel-senioren.de
SUMMARY:Rummy Cup / Kartenspiele
DESCRIPTION:Wer kennt den Zauber der Kartenspiele? Hier haben Kartenspieler – ob neugierige Anfänger oder gestandene Erfahrene – einen Raum\, gemeinsam die Kartenwelt zu erspielen und natürlich lieben wir besonders Gesellschaftsspiele z.B.Mensch ärgere Dich nicht – Halma – Rummycup. \nLeitung: Anke
URL:https://eimsbuettel-senioren.de/angebot/rummy-cup-kartenspiele/2026-06-24/
LOCATION:Aktivtreffpunkt Eimsbüttel\, Grundstrasse 17\, Hamburg\, Hamburg\, 20257\, Deutschland
CATEGORIES:Spiel / Gesellschaft
ORGANIZER;CN="Aktivtreffpunkt":MAILTO:info@aktivtreffpunkt.de
END:VEVENT
BEGIN:VEVENT
DTSTART;TZID=Europe/Berlin:20260701T150000
DTEND;TZID=Europe/Berlin:20260701T170000
DTSTAMP:20260423T180008
CREATED:20241006T152346Z
LAST-MODIFIED:20241217T085348Z
UID:10034074-1782918000-1782925200@eimsbuettel-senioren.de
SUMMARY:Rummy Cup / Kartenspiele
DESCRIPTION:Wer kennt den Zauber der Kartenspiele? Hier haben Kartenspieler – ob neugierige Anfänger oder gestandene Erfahrene – einen Raum\, gemeinsam die Kartenwelt zu erspielen und natürlich lieben wir besonders Gesellschaftsspiele z.B.Mensch ärgere Dich nicht – Halma – Rummycup. \nLeitung: Anke
URL:https://eimsbuettel-senioren.de/angebot/rummy-cup-kartenspiele/2026-07-01/
LOCATION:Aktivtreffpunkt Eimsbüttel\, Grundstrasse 17\, Hamburg\, Hamburg\, 20257\, Deutschland
CATEGORIES:Spiel / Gesellschaft
ORGANIZER;CN="Aktivtreffpunkt":MAILTO:info@aktivtreffpunkt.de
END:VEVENT
BEGIN:VEVENT
DTSTART;TZID=Europe/Berlin:20260708T150000
DTEND;TZID=Europe/Berlin:20260708T170000
DTSTAMP:20260423T180008
CREATED:20241006T152346Z
LAST-MODIFIED:20241217T085348Z
UID:10034075-1783522800-1783530000@eimsbuettel-senioren.de
SUMMARY:Rummy Cup / Kartenspiele
DESCRIPTION:Wer kennt den Zauber der Kartenspiele? Hier haben Kartenspieler – ob neugierige Anfänger oder gestandene Erfahrene – einen Raum\, gemeinsam die Kartenwelt zu erspielen und natürlich lieben wir besonders Gesellschaftsspiele z.B.Mensch ärgere Dich nicht – Halma – Rummycup. \nLeitung: Anke
URL:https://eimsbuettel-senioren.de/angebot/rummy-cup-kartenspiele/2026-07-08/
LOCATION:Aktivtreffpunkt Eimsbüttel\, Grundstrasse 17\, Hamburg\, Hamburg\, 20257\, Deutschland
CATEGORIES:Spiel / Gesellschaft
ORGANIZER;CN="Aktivtreffpunkt":MAILTO:info@aktivtreffpunkt.de
END:VEVENT
BEGIN:VEVENT
DTSTART;TZID=Europe/Berlin:20260715T150000
DTEND;TZID=Europe/Berlin:20260715T170000
DTSTAMP:20260423T180008
CREATED:20241006T152346Z
LAST-MODIFIED:20241217T085348Z
UID:10034076-1784127600-1784134800@eimsbuettel-senioren.de
SUMMARY:Rummy Cup / Kartenspiele
DESCRIPTION:Wer kennt den Zauber der Kartenspiele? Hier haben Kartenspieler – ob neugierige Anfänger oder gestandene Erfahrene – einen Raum\, gemeinsam die Kartenwelt zu erspielen und natürlich lieben wir besonders Gesellschaftsspiele z.B.Mensch ärgere Dich nicht – Halma – Rummycup. \nLeitung: Anke
URL:https://eimsbuettel-senioren.de/angebot/rummy-cup-kartenspiele/2026-07-15/
LOCATION:Aktivtreffpunkt Eimsbüttel\, Grundstrasse 17\, Hamburg\, Hamburg\, 20257\, Deutschland
CATEGORIES:Spiel / Gesellschaft
ORGANIZER;CN="Aktivtreffpunkt":MAILTO:info@aktivtreffpunkt.de
END:VEVENT
BEGIN:VEVENT
DTSTART;TZID=Europe/Berlin:20260722T150000
DTEND;TZID=Europe/Berlin:20260722T170000
DTSTAMP:20260423T180008
CREATED:20241006T152346Z
LAST-MODIFIED:20241217T085348Z
UID:10034077-1784732400-1784739600@eimsbuettel-senioren.de
SUMMARY:Rummy Cup / Kartenspiele
DESCRIPTION:Wer kennt den Zauber der Kartenspiele? Hier haben Kartenspieler – ob neugierige Anfänger oder gestandene Erfahrene – einen Raum\, gemeinsam die Kartenwelt zu erspielen und natürlich lieben wir besonders Gesellschaftsspiele z.B.Mensch ärgere Dich nicht – Halma – Rummycup. \nLeitung: Anke
URL:https://eimsbuettel-senioren.de/angebot/rummy-cup-kartenspiele/2026-07-22/
LOCATION:Aktivtreffpunkt Eimsbüttel\, Grundstrasse 17\, Hamburg\, Hamburg\, 20257\, Deutschland
CATEGORIES:Spiel / Gesellschaft
ORGANIZER;CN="Aktivtreffpunkt":MAILTO:info@aktivtreffpunkt.de
END:VEVENT
BEGIN:VEVENT
DTSTART;TZID=Europe/Berlin:20260729T150000
DTEND;TZID=Europe/Berlin:20260729T170000
DTSTAMP:20260423T180008
CREATED:20241006T152346Z
LAST-MODIFIED:20241217T085348Z
UID:10034078-1785337200-1785344400@eimsbuettel-senioren.de
SUMMARY:Rummy Cup / Kartenspiele
DESCRIPTION:Wer kennt den Zauber der Kartenspiele? Hier haben Kartenspieler – ob neugierige Anfänger oder gestandene Erfahrene – einen Raum\, gemeinsam die Kartenwelt zu erspielen und natürlich lieben wir besonders Gesellschaftsspiele z.B.Mensch ärgere Dich nicht – Halma – Rummycup. \nLeitung: Anke
URL:https://eimsbuettel-senioren.de/angebot/rummy-cup-kartenspiele/2026-07-29/
LOCATION:Aktivtreffpunkt Eimsbüttel\, Grundstrasse 17\, Hamburg\, Hamburg\, 20257\, Deutschland
CATEGORIES:Spiel / Gesellschaft
ORGANIZER;CN="Aktivtreffpunkt":MAILTO:info@aktivtreffpunkt.de
END:VEVENT
BEGIN:VEVENT
DTSTART;TZID=Europe/Berlin:20260805T150000
DTEND;TZID=Europe/Berlin:20260805T170000
DTSTAMP:20260423T180008
CREATED:20241006T152346Z
LAST-MODIFIED:20241217T085348Z
UID:10034079-1785942000-1785949200@eimsbuettel-senioren.de
SUMMARY:Rummy Cup / Kartenspiele
DESCRIPTION:Wer kennt den Zauber der Kartenspiele? Hier haben Kartenspieler – ob neugierige Anfänger oder gestandene Erfahrene – einen Raum\, gemeinsam die Kartenwelt zu erspielen und natürlich lieben wir besonders Gesellschaftsspiele z.B.Mensch ärgere Dich nicht – Halma – Rummycup. \nLeitung: Anke
URL:https://eimsbuettel-senioren.de/angebot/rummy-cup-kartenspiele/2026-08-05/
LOCATION:Aktivtreffpunkt Eimsbüttel\, Grundstrasse 17\, Hamburg\, Hamburg\, 20257\, Deutschland
CATEGORIES:Spiel / Gesellschaft
ORGANIZER;CN="Aktivtreffpunkt":MAILTO:info@aktivtreffpunkt.de
END:VEVENT
BEGIN:VEVENT
DTSTART;TZID=Europe/Berlin:20260812T150000
DTEND;TZID=Europe/Berlin:20260812T170000
DTSTAMP:20260423T180008
CREATED:20241006T152346Z
LAST-MODIFIED:20241217T085348Z
UID:10034080-1786546800-1786554000@eimsbuettel-senioren.de
SUMMARY:Rummy Cup / Kartenspiele
DESCRIPTION:Wer kennt den Zauber der Kartenspiele? Hier haben Kartenspieler – ob neugierige Anfänger oder gestandene Erfahrene – einen Raum\, gemeinsam die Kartenwelt zu erspielen und natürlich lieben wir besonders Gesellschaftsspiele z.B.Mensch ärgere Dich nicht – Halma – Rummycup. \nLeitung: Anke
URL:https://eimsbuettel-senioren.de/angebot/rummy-cup-kartenspiele/2026-08-12/
LOCATION:Aktivtreffpunkt Eimsbüttel\, Grundstrasse 17\, Hamburg\, Hamburg\, 20257\, Deutschland
CATEGORIES:Spiel / Gesellschaft
ORGANIZER;CN="Aktivtreffpunkt":MAILTO:info@aktivtreffpunkt.de
END:VEVENT
BEGIN:VEVENT
DTSTART;TZID=Europe/Berlin:20260819T150000
DTEND;TZID=Europe/Berlin:20260819T170000
DTSTAMP:20260423T180008
CREATED:20241006T152346Z
LAST-MODIFIED:20241217T085348Z
UID:10034081-1787151600-1787158800@eimsbuettel-senioren.de
SUMMARY:Rummy Cup / Kartenspiele
DESCRIPTION:Wer kennt den Zauber der Kartenspiele? Hier haben Kartenspieler – ob neugierige Anfänger oder gestandene Erfahrene – einen Raum\, gemeinsam die Kartenwelt zu erspielen und natürlich lieben wir besonders Gesellschaftsspiele z.B.Mensch ärgere Dich nicht – Halma – Rummycup. \nLeitung: Anke
URL:https://eimsbuettel-senioren.de/angebot/rummy-cup-kartenspiele/2026-08-19/
LOCATION:Aktivtreffpunkt Eimsbüttel\, Grundstrasse 17\, Hamburg\, Hamburg\, 20257\, Deutschland
CATEGORIES:Spiel / Gesellschaft
ORGANIZER;CN="Aktivtreffpunkt":MAILTO:info@aktivtreffpunkt.de
END:VEVENT
BEGIN:VEVENT
DTSTART;TZID=Europe/Berlin:20260826T150000
DTEND;TZID=Europe/Berlin:20260826T170000
DTSTAMP:20260423T180008
CREATED:20241006T152346Z
LAST-MODIFIED:20241217T085348Z
UID:10034082-1787756400-1787763600@eimsbuettel-senioren.de
SUMMARY:Rummy Cup / Kartenspiele
DESCRIPTION:Wer kennt den Zauber der Kartenspiele? Hier haben Kartenspieler – ob neugierige Anfänger oder gestandene Erfahrene – einen Raum\, gemeinsam die Kartenwelt zu erspielen und natürlich lieben wir besonders Gesellschaftsspiele z.B.Mensch ärgere Dich nicht – Halma – Rummycup. \nLeitung: Anke
URL:https://eimsbuettel-senioren.de/angebot/rummy-cup-kartenspiele/2026-08-26/
LOCATION:Aktivtreffpunkt Eimsbüttel\, Grundstrasse 17\, Hamburg\, Hamburg\, 20257\, Deutschland
CATEGORIES:Spiel / Gesellschaft
ORGANIZER;CN="Aktivtreffpunkt":MAILTO:info@aktivtreffpunkt.de
END:VEVENT
BEGIN:VEVENT
DTSTART;TZID=Europe/Berlin:20260902T150000
DTEND;TZID=Europe/Berlin:20260902T170000
DTSTAMP:20260423T180008
CREATED:20241006T152346Z
LAST-MODIFIED:20241217T085348Z
UID:10034083-1788361200-1788368400@eimsbuettel-senioren.de
SUMMARY:Rummy Cup / Kartenspiele
DESCRIPTION:Wer kennt den Zauber der Kartenspiele? Hier haben Kartenspieler – ob neugierige Anfänger oder gestandene Erfahrene – einen Raum\, gemeinsam die Kartenwelt zu erspielen und natürlich lieben wir besonders Gesellschaftsspiele z.B.Mensch ärgere Dich nicht – Halma – Rummycup. \nLeitung: Anke
URL:https://eimsbuettel-senioren.de/angebot/rummy-cup-kartenspiele/2026-09-02/
LOCATION:Aktivtreffpunkt Eimsbüttel\, Grundstrasse 17\, Hamburg\, Hamburg\, 20257\, Deutschland
CATEGORIES:Spiel / Gesellschaft
ORGANIZER;CN="Aktivtreffpunkt":MAILTO:info@aktivtreffpunkt.de
END:VEVENT
BEGIN:VEVENT
DTSTART;TZID=Europe/Berlin:20260909T150000
DTEND;TZID=Europe/Berlin:20260909T170000
DTSTAMP:20260423T180008
CREATED:20241006T152346Z
LAST-MODIFIED:20241217T085348Z
UID:10034084-1788966000-1788973200@eimsbuettel-senioren.de
SUMMARY:Rummy Cup / Kartenspiele
DESCRIPTION:Wer kennt den Zauber der Kartenspiele? Hier haben Kartenspieler – ob neugierige Anfänger oder gestandene Erfahrene – einen Raum\, gemeinsam die Kartenwelt zu erspielen und natürlich lieben wir besonders Gesellschaftsspiele z.B.Mensch ärgere Dich nicht – Halma – Rummycup. \nLeitung: Anke
URL:https://eimsbuettel-senioren.de/angebot/rummy-cup-kartenspiele/2026-09-09/
LOCATION:Aktivtreffpunkt Eimsbüttel\, Grundstrasse 17\, Hamburg\, Hamburg\, 20257\, Deutschland
CATEGORIES:Spiel / Gesellschaft
ORGANIZER;CN="Aktivtreffpunkt":MAILTO:info@aktivtreffpunkt.de
END:VEVENT
BEGIN:VEVENT
DTSTART;TZID=Europe/Berlin:20260916T150000
DTEND;TZID=Europe/Berlin:20260916T170000
DTSTAMP:20260423T180008
CREATED:20241006T152346Z
LAST-MODIFIED:20241217T085348Z
UID:10034085-1789570800-1789578000@eimsbuettel-senioren.de
SUMMARY:Rummy Cup / Kartenspiele
DESCRIPTION:Wer kennt den Zauber der Kartenspiele? Hier haben Kartenspieler – ob neugierige Anfänger oder gestandene Erfahrene – einen Raum\, gemeinsam die Kartenwelt zu erspielen und natürlich lieben wir besonders Gesellschaftsspiele z.B.Mensch ärgere Dich nicht – Halma – Rummycup. \nLeitung: Anke
URL:https://eimsbuettel-senioren.de/angebot/rummy-cup-kartenspiele/2026-09-16/
LOCATION:Aktivtreffpunkt Eimsbüttel\, Grundstrasse 17\, Hamburg\, Hamburg\, 20257\, Deutschland
CATEGORIES:Spiel / Gesellschaft
ORGANIZER;CN="Aktivtreffpunkt":MAILTO:info@aktivtreffpunkt.de
END:VEVENT
BEGIN:VEVENT
DTSTART;TZID=Europe/Berlin:20260923T150000
DTEND;TZID=Europe/Berlin:20260923T170000
DTSTAMP:20260423T180008
CREATED:20241006T152346Z
LAST-MODIFIED:20241217T085348Z
UID:10034086-1790175600-1790182800@eimsbuettel-senioren.de
SUMMARY:Rummy Cup / Kartenspiele
DESCRIPTION:Wer kennt den Zauber der Kartenspiele? Hier haben Kartenspieler – ob neugierige Anfänger oder gestandene Erfahrene – einen Raum\, gemeinsam die Kartenwelt zu erspielen und natürlich lieben wir besonders Gesellschaftsspiele z.B.Mensch ärgere Dich nicht – Halma – Rummycup. \nLeitung: Anke
URL:https://eimsbuettel-senioren.de/angebot/rummy-cup-kartenspiele/2026-09-23/
LOCATION:Aktivtreffpunkt Eimsbüttel\, Grundstrasse 17\, Hamburg\, Hamburg\, 20257\, Deutschland
CATEGORIES:Spiel / Gesellschaft
ORGANIZER;CN="Aktivtreffpunkt":MAILTO:info@aktivtreffpunkt.de
END:VEVENT
BEGIN:VEVENT
DTSTART;TZID=Europe/Berlin:20260930T150000
DTEND;TZID=Europe/Berlin:20260930T170000
DTSTAMP:20260423T180008
CREATED:20241006T152346Z
LAST-MODIFIED:20241217T085348Z
UID:10034087-1790780400-1790787600@eimsbuettel-senioren.de
SUMMARY:Rummy Cup / Kartenspiele
DESCRIPTION:Wer kennt den Zauber der Kartenspiele? Hier haben Kartenspieler – ob neugierige Anfänger oder gestandene Erfahrene – einen Raum\, gemeinsam die Kartenwelt zu erspielen und natürlich lieben wir besonders Gesellschaftsspiele z.B.Mensch ärgere Dich nicht – Halma – Rummycup. \nLeitung: Anke
URL:https://eimsbuettel-senioren.de/angebot/rummy-cup-kartenspiele/2026-09-30/
LOCATION:Aktivtreffpunkt Eimsbüttel\, Grundstrasse 17\, Hamburg\, Hamburg\, 20257\, Deutschland
CATEGORIES:Spiel / Gesellschaft
ORGANIZER;CN="Aktivtreffpunkt":MAILTO:info@aktivtreffpunkt.de
END:VEVENT
BEGIN:VEVENT
DTSTART;TZID=Europe/Berlin:20261007T150000
DTEND;TZID=Europe/Berlin:20261007T170000
DTSTAMP:20260423T180008
CREATED:20241006T152346Z
LAST-MODIFIED:20241217T085348Z
UID:10034088-1791385200-1791392400@eimsbuettel-senioren.de
SUMMARY:Rummy Cup / Kartenspiele
DESCRIPTION:Wer kennt den Zauber der Kartenspiele? Hier haben Kartenspieler – ob neugierige Anfänger oder gestandene Erfahrene – einen Raum\, gemeinsam die Kartenwelt zu erspielen und natürlich lieben wir besonders Gesellschaftsspiele z.B.Mensch ärgere Dich nicht – Halma – Rummycup. \nLeitung: Anke
URL:https://eimsbuettel-senioren.de/angebot/rummy-cup-kartenspiele/2026-10-07/
LOCATION:Aktivtreffpunkt Eimsbüttel\, Grundstrasse 17\, Hamburg\, Hamburg\, 20257\, Deutschland
CATEGORIES:Spiel / Gesellschaft
ORGANIZER;CN="Aktivtreffpunkt":MAILTO:info@aktivtreffpunkt.de
END:VEVENT
BEGIN:VEVENT
DTSTART;TZID=Europe/Berlin:20261014T150000
DTEND;TZID=Europe/Berlin:20261014T170000
DTSTAMP:20260423T180008
CREATED:20241006T152346Z
LAST-MODIFIED:20241217T085348Z
UID:10034089-1791990000-1791997200@eimsbuettel-senioren.de
SUMMARY:Rummy Cup / Kartenspiele
DESCRIPTION:Wer kennt den Zauber der Kartenspiele? Hier haben Kartenspieler – ob neugierige Anfänger oder gestandene Erfahrene – einen Raum\, gemeinsam die Kartenwelt zu erspielen und natürlich lieben wir besonders Gesellschaftsspiele z.B.Mensch ärgere Dich nicht – Halma – Rummycup. \nLeitung: Anke
URL:https://eimsbuettel-senioren.de/angebot/rummy-cup-kartenspiele/2026-10-14/
LOCATION:Aktivtreffpunkt Eimsbüttel\, Grundstrasse 17\, Hamburg\, Hamburg\, 20257\, Deutschland
CATEGORIES:Spiel / Gesellschaft
ORGANIZER;CN="Aktivtreffpunkt":MAILTO:info@aktivtreffpunkt.de
END:VEVENT
BEGIN:VEVENT
DTSTART;TZID=Europe/Berlin:20261021T150000
DTEND;TZID=Europe/Berlin:20261021T170000
DTSTAMP:20260423T180008
CREATED:20241006T152346Z
LAST-MODIFIED:20241217T085348Z
UID:10034090-1792594800-1792602000@eimsbuettel-senioren.de
SUMMARY:Rummy Cup / Kartenspiele
DESCRIPTION:Wer kennt den Zauber der Kartenspiele? Hier haben Kartenspieler – ob neugierige Anfänger oder gestandene Erfahrene – einen Raum\, gemeinsam die Kartenwelt zu erspielen und natürlich lieben wir besonders Gesellschaftsspiele z.B.Mensch ärgere Dich nicht – Halma – Rummycup. \nLeitung: Anke
URL:https://eimsbuettel-senioren.de/angebot/rummy-cup-kartenspiele/2026-10-21/
LOCATION:Aktivtreffpunkt Eimsbüttel\, Grundstrasse 17\, Hamburg\, Hamburg\, 20257\, Deutschland
CATEGORIES:Spiel / Gesellschaft
ORGANIZER;CN="Aktivtreffpunkt":MAILTO:info@aktivtreffpunkt.de
END:VEVENT
BEGIN:VEVENT
DTSTART;TZID=Europe/Berlin:20261028T150000
DTEND;TZID=Europe/Berlin:20261028T170000
DTSTAMP:20260423T180008
CREATED:20241006T152346Z
LAST-MODIFIED:20241217T085348Z
UID:10034091-1793199600-1793206800@eimsbuettel-senioren.de
SUMMARY:Rummy Cup / Kartenspiele
DESCRIPTION:Wer kennt den Zauber der Kartenspiele? Hier haben Kartenspieler – ob neugierige Anfänger oder gestandene Erfahrene – einen Raum\, gemeinsam die Kartenwelt zu erspielen und natürlich lieben wir besonders Gesellschaftsspiele z.B.Mensch ärgere Dich nicht – Halma – Rummycup. \nLeitung: Anke
URL:https://eimsbuettel-senioren.de/angebot/rummy-cup-kartenspiele/2026-10-28/
LOCATION:Aktivtreffpunkt Eimsbüttel\, Grundstrasse 17\, Hamburg\, Hamburg\, 20257\, Deutschland
CATEGORIES:Spiel / Gesellschaft
ORGANIZER;CN="Aktivtreffpunkt":MAILTO:info@aktivtreffpunkt.de
END:VEVENT
BEGIN:VEVENT
DTSTART;TZID=Europe/Berlin:20261104T150000
DTEND;TZID=Europe/Berlin:20261104T170000
DTSTAMP:20260423T180008
CREATED:20241006T152346Z
LAST-MODIFIED:20241217T085348Z
UID:10034092-1793804400-1793811600@eimsbuettel-senioren.de
SUMMARY:Rummy Cup / Kartenspiele
DESCRIPTION:Wer kennt den Zauber der Kartenspiele? Hier haben Kartenspieler – ob neugierige Anfänger oder gestandene Erfahrene – einen Raum\, gemeinsam die Kartenwelt zu erspielen und natürlich lieben wir besonders Gesellschaftsspiele z.B.Mensch ärgere Dich nicht – Halma – Rummycup. \nLeitung: Anke
URL:https://eimsbuettel-senioren.de/angebot/rummy-cup-kartenspiele/2026-11-04/
LOCATION:Aktivtreffpunkt Eimsbüttel\, Grundstrasse 17\, Hamburg\, Hamburg\, 20257\, Deutschland
CATEGORIES:Spiel / Gesellschaft
ORGANIZER;CN="Aktivtreffpunkt":MAILTO:info@aktivtreffpunkt.de
END:VEVENT
BEGIN:VEVENT
DTSTART;TZID=Europe/Berlin:20261111T150000
DTEND;TZID=Europe/Berlin:20261111T170000
DTSTAMP:20260423T180008
CREATED:20241006T152346Z
LAST-MODIFIED:20241217T085348Z
UID:10034093-1794409200-1794416400@eimsbuettel-senioren.de
SUMMARY:Rummy Cup / Kartenspiele
DESCRIPTION:Wer kennt den Zauber der Kartenspiele? Hier haben Kartenspieler – ob neugierige Anfänger oder gestandene Erfahrene – einen Raum\, gemeinsam die Kartenwelt zu erspielen und natürlich lieben wir besonders Gesellschaftsspiele z.B.Mensch ärgere Dich nicht – Halma – Rummycup. \nLeitung: Anke
URL:https://eimsbuettel-senioren.de/angebot/rummy-cup-kartenspiele/2026-11-11/
LOCATION:Aktivtreffpunkt Eimsbüttel\, Grundstrasse 17\, Hamburg\, Hamburg\, 20257\, Deutschland
CATEGORIES:Spiel / Gesellschaft
ORGANIZER;CN="Aktivtreffpunkt":MAILTO:info@aktivtreffpunkt.de
END:VEVENT
BEGIN:VEVENT
DTSTART;TZID=Europe/Berlin:20261118T150000
DTEND;TZID=Europe/Berlin:20261118T170000
DTSTAMP:20260423T180008
CREATED:20241006T152346Z
LAST-MODIFIED:20241217T085348Z
UID:10034094-1795014000-1795021200@eimsbuettel-senioren.de
SUMMARY:Rummy Cup / Kartenspiele
DESCRIPTION:Wer kennt den Zauber der Kartenspiele? Hier haben Kartenspieler – ob neugierige Anfänger oder gestandene Erfahrene – einen Raum\, gemeinsam die Kartenwelt zu erspielen und natürlich lieben wir besonders Gesellschaftsspiele z.B.Mensch ärgere Dich nicht – Halma – Rummycup. \nLeitung: Anke
URL:https://eimsbuettel-senioren.de/angebot/rummy-cup-kartenspiele/2026-11-18/
LOCATION:Aktivtreffpunkt Eimsbüttel\, Grundstrasse 17\, Hamburg\, Hamburg\, 20257\, Deutschland
CATEGORIES:Spiel / Gesellschaft
ORGANIZER;CN="Aktivtreffpunkt":MAILTO:info@aktivtreffpunkt.de
END:VEVENT
END:VCALENDAR