BEGIN:VCALENDAR
VERSION:2.0
PRODID:-//Angebote für Seniorinnen und Senioren im Bezirk Eimsbüttel - ECPv6.15.18//NONSGML v1.0//EN
CALSCALE:GREGORIAN
METHOD:PUBLISH
X-WR-CALNAME:Angebote für Seniorinnen und Senioren im Bezirk Eimsbüttel
X-ORIGINAL-URL:https://eimsbuettel-senioren.de
X-WR-CALDESC:Veranstaltungen für Angebote für Seniorinnen und Senioren im Bezirk Eimsbüttel
REFRESH-INTERVAL;VALUE=DURATION:PT1H
X-Robots-Tag:noindex
X-PUBLISHED-TTL:PT1H
BEGIN:VTIMEZONE
TZID:Europe/Berlin
BEGIN:DAYLIGHT
TZOFFSETFROM:+0100
TZOFFSETTO:+0200
TZNAME:CEST
DTSTART:20250330T010000
END:DAYLIGHT
BEGIN:STANDARD
TZOFFSETFROM:+0200
TZOFFSETTO:+0100
TZNAME:CET
DTSTART:20251026T010000
END:STANDARD
BEGIN:DAYLIGHT
TZOFFSETFROM:+0100
TZOFFSETTO:+0200
TZNAME:CEST
DTSTART:20260329T010000
END:DAYLIGHT
BEGIN:STANDARD
TZOFFSETFROM:+0200
TZOFFSETTO:+0100
TZNAME:CET
DTSTART:20261025T010000
END:STANDARD
BEGIN:DAYLIGHT
TZOFFSETFROM:+0100
TZOFFSETTO:+0200
TZNAME:CEST
DTSTART:20270328T010000
END:DAYLIGHT
BEGIN:STANDARD
TZOFFSETFROM:+0200
TZOFFSETTO:+0100
TZNAME:CET
DTSTART:20271031T010000
END:STANDARD
END:VTIMEZONE
BEGIN:VEVENT
DTSTART;TZID=Europe/Berlin:20260423T180000
DTEND;TZID=Europe/Berlin:20260423T210000
DTSTAMP:20260419T231247
CREATED:20250113T162103Z
LAST-MODIFIED:20250116T090607Z
UID:10032498-1776967200-1776978000@eimsbuettel-senioren.de
SUMMARY:Chorgemeinschaft Schnelsen e.V.
DESCRIPTION:Neue Mitglieder sind herzlich willkommen!
URL:https://eimsbuettel-senioren.de/angebot/chorgemeinschaft-schnelsen-e-v/2026-04-23/
LOCATION:AWO Aktivtreff Niendorf\, Tibarg 1b\, Hamburg\, Hamburg\, 22459\, Deutschland
CATEGORIES:Kultur / Musik,Spiel / Gesellschaft
END:VEVENT
BEGIN:VEVENT
DTSTART;TZID=Europe/Berlin:20260430T180000
DTEND;TZID=Europe/Berlin:20260430T210000
DTSTAMP:20260419T231247
CREATED:20250113T162103Z
LAST-MODIFIED:20250116T090607Z
UID:10032499-1777572000-1777582800@eimsbuettel-senioren.de
SUMMARY:Chorgemeinschaft Schnelsen e.V.
DESCRIPTION:Neue Mitglieder sind herzlich willkommen!
URL:https://eimsbuettel-senioren.de/angebot/chorgemeinschaft-schnelsen-e-v/2026-04-30/
LOCATION:AWO Aktivtreff Niendorf\, Tibarg 1b\, Hamburg\, Hamburg\, 22459\, Deutschland
CATEGORIES:Kultur / Musik,Spiel / Gesellschaft
END:VEVENT
BEGIN:VEVENT
DTSTART;TZID=Europe/Berlin:20260507T180000
DTEND;TZID=Europe/Berlin:20260507T210000
DTSTAMP:20260419T231247
CREATED:20250113T162103Z
LAST-MODIFIED:20250116T090607Z
UID:10032500-1778176800-1778187600@eimsbuettel-senioren.de
SUMMARY:Chorgemeinschaft Schnelsen e.V.
DESCRIPTION:Neue Mitglieder sind herzlich willkommen!
URL:https://eimsbuettel-senioren.de/angebot/chorgemeinschaft-schnelsen-e-v/2026-05-07/
LOCATION:AWO Aktivtreff Niendorf\, Tibarg 1b\, Hamburg\, Hamburg\, 22459\, Deutschland
CATEGORIES:Kultur / Musik,Spiel / Gesellschaft
END:VEVENT
BEGIN:VEVENT
DTSTART;TZID=Europe/Berlin:20260514T180000
DTEND;TZID=Europe/Berlin:20260514T210000
DTSTAMP:20260419T231247
CREATED:20250113T162103Z
LAST-MODIFIED:20250116T090607Z
UID:10032501-1778781600-1778792400@eimsbuettel-senioren.de
SUMMARY:Chorgemeinschaft Schnelsen e.V.
DESCRIPTION:Neue Mitglieder sind herzlich willkommen!
URL:https://eimsbuettel-senioren.de/angebot/chorgemeinschaft-schnelsen-e-v/2026-05-14/
LOCATION:AWO Aktivtreff Niendorf\, Tibarg 1b\, Hamburg\, Hamburg\, 22459\, Deutschland
CATEGORIES:Kultur / Musik,Spiel / Gesellschaft
END:VEVENT
BEGIN:VEVENT
DTSTART;TZID=Europe/Berlin:20260521T180000
DTEND;TZID=Europe/Berlin:20260521T210000
DTSTAMP:20260419T231247
CREATED:20250113T162103Z
LAST-MODIFIED:20250116T090607Z
UID:10032502-1779386400-1779397200@eimsbuettel-senioren.de
SUMMARY:Chorgemeinschaft Schnelsen e.V.
DESCRIPTION:Neue Mitglieder sind herzlich willkommen!
URL:https://eimsbuettel-senioren.de/angebot/chorgemeinschaft-schnelsen-e-v/2026-05-21/
LOCATION:AWO Aktivtreff Niendorf\, Tibarg 1b\, Hamburg\, Hamburg\, 22459\, Deutschland
CATEGORIES:Kultur / Musik,Spiel / Gesellschaft
END:VEVENT
BEGIN:VEVENT
DTSTART;TZID=Europe/Berlin:20260528T180000
DTEND;TZID=Europe/Berlin:20260528T210000
DTSTAMP:20260419T231247
CREATED:20250113T162103Z
LAST-MODIFIED:20250116T090607Z
UID:10032503-1779991200-1780002000@eimsbuettel-senioren.de
SUMMARY:Chorgemeinschaft Schnelsen e.V.
DESCRIPTION:Neue Mitglieder sind herzlich willkommen!
URL:https://eimsbuettel-senioren.de/angebot/chorgemeinschaft-schnelsen-e-v/2026-05-28/
LOCATION:AWO Aktivtreff Niendorf\, Tibarg 1b\, Hamburg\, Hamburg\, 22459\, Deutschland
CATEGORIES:Kultur / Musik,Spiel / Gesellschaft
END:VEVENT
BEGIN:VEVENT
DTSTART;TZID=Europe/Berlin:20260604T180000
DTEND;TZID=Europe/Berlin:20260604T210000
DTSTAMP:20260419T231247
CREATED:20250113T162103Z
LAST-MODIFIED:20250116T090607Z
UID:10032504-1780596000-1780606800@eimsbuettel-senioren.de
SUMMARY:Chorgemeinschaft Schnelsen e.V.
DESCRIPTION:Neue Mitglieder sind herzlich willkommen!
URL:https://eimsbuettel-senioren.de/angebot/chorgemeinschaft-schnelsen-e-v/2026-06-04/
LOCATION:AWO Aktivtreff Niendorf\, Tibarg 1b\, Hamburg\, Hamburg\, 22459\, Deutschland
CATEGORIES:Kultur / Musik,Spiel / Gesellschaft
END:VEVENT
BEGIN:VEVENT
DTSTART;TZID=Europe/Berlin:20260611T180000
DTEND;TZID=Europe/Berlin:20260611T210000
DTSTAMP:20260419T231247
CREATED:20250113T162103Z
LAST-MODIFIED:20250116T090607Z
UID:10032505-1781200800-1781211600@eimsbuettel-senioren.de
SUMMARY:Chorgemeinschaft Schnelsen e.V.
DESCRIPTION:Neue Mitglieder sind herzlich willkommen!
URL:https://eimsbuettel-senioren.de/angebot/chorgemeinschaft-schnelsen-e-v/2026-06-11/
LOCATION:AWO Aktivtreff Niendorf\, Tibarg 1b\, Hamburg\, Hamburg\, 22459\, Deutschland
CATEGORIES:Kultur / Musik,Spiel / Gesellschaft
END:VEVENT
BEGIN:VEVENT
DTSTART;TZID=Europe/Berlin:20260618T180000
DTEND;TZID=Europe/Berlin:20260618T210000
DTSTAMP:20260419T231247
CREATED:20250113T162103Z
LAST-MODIFIED:20250116T090607Z
UID:10032506-1781805600-1781816400@eimsbuettel-senioren.de
SUMMARY:Chorgemeinschaft Schnelsen e.V.
DESCRIPTION:Neue Mitglieder sind herzlich willkommen!
URL:https://eimsbuettel-senioren.de/angebot/chorgemeinschaft-schnelsen-e-v/2026-06-18/
LOCATION:AWO Aktivtreff Niendorf\, Tibarg 1b\, Hamburg\, Hamburg\, 22459\, Deutschland
CATEGORIES:Kultur / Musik,Spiel / Gesellschaft
END:VEVENT
BEGIN:VEVENT
DTSTART;TZID=Europe/Berlin:20260625T180000
DTEND;TZID=Europe/Berlin:20260625T210000
DTSTAMP:20260419T231247
CREATED:20250113T162103Z
LAST-MODIFIED:20250116T090607Z
UID:10032507-1782410400-1782421200@eimsbuettel-senioren.de
SUMMARY:Chorgemeinschaft Schnelsen e.V.
DESCRIPTION:Neue Mitglieder sind herzlich willkommen!
URL:https://eimsbuettel-senioren.de/angebot/chorgemeinschaft-schnelsen-e-v/2026-06-25/
LOCATION:AWO Aktivtreff Niendorf\, Tibarg 1b\, Hamburg\, Hamburg\, 22459\, Deutschland
CATEGORIES:Kultur / Musik,Spiel / Gesellschaft
END:VEVENT
BEGIN:VEVENT
DTSTART;TZID=Europe/Berlin:20260702T180000
DTEND;TZID=Europe/Berlin:20260702T210000
DTSTAMP:20260419T231247
CREATED:20250113T162103Z
LAST-MODIFIED:20250116T090607Z
UID:10032508-1783015200-1783026000@eimsbuettel-senioren.de
SUMMARY:Chorgemeinschaft Schnelsen e.V.
DESCRIPTION:Neue Mitglieder sind herzlich willkommen!
URL:https://eimsbuettel-senioren.de/angebot/chorgemeinschaft-schnelsen-e-v/2026-07-02/
LOCATION:AWO Aktivtreff Niendorf\, Tibarg 1b\, Hamburg\, Hamburg\, 22459\, Deutschland
CATEGORIES:Kultur / Musik,Spiel / Gesellschaft
END:VEVENT
BEGIN:VEVENT
DTSTART;TZID=Europe/Berlin:20260709T180000
DTEND;TZID=Europe/Berlin:20260709T210000
DTSTAMP:20260419T231247
CREATED:20250113T162103Z
LAST-MODIFIED:20250116T090607Z
UID:10032509-1783620000-1783630800@eimsbuettel-senioren.de
SUMMARY:Chorgemeinschaft Schnelsen e.V.
DESCRIPTION:Neue Mitglieder sind herzlich willkommen!
URL:https://eimsbuettel-senioren.de/angebot/chorgemeinschaft-schnelsen-e-v/2026-07-09/
LOCATION:AWO Aktivtreff Niendorf\, Tibarg 1b\, Hamburg\, Hamburg\, 22459\, Deutschland
CATEGORIES:Kultur / Musik,Spiel / Gesellschaft
END:VEVENT
BEGIN:VEVENT
DTSTART;TZID=Europe/Berlin:20260716T180000
DTEND;TZID=Europe/Berlin:20260716T210000
DTSTAMP:20260419T231247
CREATED:20250113T162103Z
LAST-MODIFIED:20250116T090607Z
UID:10032510-1784224800-1784235600@eimsbuettel-senioren.de
SUMMARY:Chorgemeinschaft Schnelsen e.V.
DESCRIPTION:Neue Mitglieder sind herzlich willkommen!
URL:https://eimsbuettel-senioren.de/angebot/chorgemeinschaft-schnelsen-e-v/2026-07-16/
LOCATION:AWO Aktivtreff Niendorf\, Tibarg 1b\, Hamburg\, Hamburg\, 22459\, Deutschland
CATEGORIES:Kultur / Musik,Spiel / Gesellschaft
END:VEVENT
BEGIN:VEVENT
DTSTART;TZID=Europe/Berlin:20260723T180000
DTEND;TZID=Europe/Berlin:20260723T210000
DTSTAMP:20260419T231247
CREATED:20250113T162103Z
LAST-MODIFIED:20250116T090607Z
UID:10032511-1784829600-1784840400@eimsbuettel-senioren.de
SUMMARY:Chorgemeinschaft Schnelsen e.V.
DESCRIPTION:Neue Mitglieder sind herzlich willkommen!
URL:https://eimsbuettel-senioren.de/angebot/chorgemeinschaft-schnelsen-e-v/2026-07-23/
LOCATION:AWO Aktivtreff Niendorf\, Tibarg 1b\, Hamburg\, Hamburg\, 22459\, Deutschland
CATEGORIES:Kultur / Musik,Spiel / Gesellschaft
END:VEVENT
BEGIN:VEVENT
DTSTART;TZID=Europe/Berlin:20260730T180000
DTEND;TZID=Europe/Berlin:20260730T210000
DTSTAMP:20260419T231247
CREATED:20250113T162103Z
LAST-MODIFIED:20250116T090607Z
UID:10032512-1785434400-1785445200@eimsbuettel-senioren.de
SUMMARY:Chorgemeinschaft Schnelsen e.V.
DESCRIPTION:Neue Mitglieder sind herzlich willkommen!
URL:https://eimsbuettel-senioren.de/angebot/chorgemeinschaft-schnelsen-e-v/2026-07-30/
LOCATION:AWO Aktivtreff Niendorf\, Tibarg 1b\, Hamburg\, Hamburg\, 22459\, Deutschland
CATEGORIES:Kultur / Musik,Spiel / Gesellschaft
END:VEVENT
BEGIN:VEVENT
DTSTART;TZID=Europe/Berlin:20260806T180000
DTEND;TZID=Europe/Berlin:20260806T210000
DTSTAMP:20260419T231247
CREATED:20250113T162103Z
LAST-MODIFIED:20250116T090607Z
UID:10032513-1786039200-1786050000@eimsbuettel-senioren.de
SUMMARY:Chorgemeinschaft Schnelsen e.V.
DESCRIPTION:Neue Mitglieder sind herzlich willkommen!
URL:https://eimsbuettel-senioren.de/angebot/chorgemeinschaft-schnelsen-e-v/2026-08-06/
LOCATION:AWO Aktivtreff Niendorf\, Tibarg 1b\, Hamburg\, Hamburg\, 22459\, Deutschland
CATEGORIES:Kultur / Musik,Spiel / Gesellschaft
END:VEVENT
BEGIN:VEVENT
DTSTART;TZID=Europe/Berlin:20260813T180000
DTEND;TZID=Europe/Berlin:20260813T210000
DTSTAMP:20260419T231247
CREATED:20250113T162103Z
LAST-MODIFIED:20250116T090607Z
UID:10032514-1786644000-1786654800@eimsbuettel-senioren.de
SUMMARY:Chorgemeinschaft Schnelsen e.V.
DESCRIPTION:Neue Mitglieder sind herzlich willkommen!
URL:https://eimsbuettel-senioren.de/angebot/chorgemeinschaft-schnelsen-e-v/2026-08-13/
LOCATION:AWO Aktivtreff Niendorf\, Tibarg 1b\, Hamburg\, Hamburg\, 22459\, Deutschland
CATEGORIES:Kultur / Musik,Spiel / Gesellschaft
END:VEVENT
BEGIN:VEVENT
DTSTART;TZID=Europe/Berlin:20260820T180000
DTEND;TZID=Europe/Berlin:20260820T210000
DTSTAMP:20260419T231247
CREATED:20250113T162103Z
LAST-MODIFIED:20250116T090607Z
UID:10032515-1787248800-1787259600@eimsbuettel-senioren.de
SUMMARY:Chorgemeinschaft Schnelsen e.V.
DESCRIPTION:Neue Mitglieder sind herzlich willkommen!
URL:https://eimsbuettel-senioren.de/angebot/chorgemeinschaft-schnelsen-e-v/2026-08-20/
LOCATION:AWO Aktivtreff Niendorf\, Tibarg 1b\, Hamburg\, Hamburg\, 22459\, Deutschland
CATEGORIES:Kultur / Musik,Spiel / Gesellschaft
END:VEVENT
BEGIN:VEVENT
DTSTART;TZID=Europe/Berlin:20260827T180000
DTEND;TZID=Europe/Berlin:20260827T210000
DTSTAMP:20260419T231247
CREATED:20250113T162103Z
LAST-MODIFIED:20250116T090607Z
UID:10032516-1787853600-1787864400@eimsbuettel-senioren.de
SUMMARY:Chorgemeinschaft Schnelsen e.V.
DESCRIPTION:Neue Mitglieder sind herzlich willkommen!
URL:https://eimsbuettel-senioren.de/angebot/chorgemeinschaft-schnelsen-e-v/2026-08-27/
LOCATION:AWO Aktivtreff Niendorf\, Tibarg 1b\, Hamburg\, Hamburg\, 22459\, Deutschland
CATEGORIES:Kultur / Musik,Spiel / Gesellschaft
END:VEVENT
BEGIN:VEVENT
DTSTART;TZID=Europe/Berlin:20260903T180000
DTEND;TZID=Europe/Berlin:20260903T210000
DTSTAMP:20260419T231247
CREATED:20250113T162103Z
LAST-MODIFIED:20250116T090607Z
UID:10032517-1788458400-1788469200@eimsbuettel-senioren.de
SUMMARY:Chorgemeinschaft Schnelsen e.V.
DESCRIPTION:Neue Mitglieder sind herzlich willkommen!
URL:https://eimsbuettel-senioren.de/angebot/chorgemeinschaft-schnelsen-e-v/2026-09-03/
LOCATION:AWO Aktivtreff Niendorf\, Tibarg 1b\, Hamburg\, Hamburg\, 22459\, Deutschland
CATEGORIES:Kultur / Musik,Spiel / Gesellschaft
END:VEVENT
BEGIN:VEVENT
DTSTART;TZID=Europe/Berlin:20260910T180000
DTEND;TZID=Europe/Berlin:20260910T210000
DTSTAMP:20260419T231247
CREATED:20250113T162103Z
LAST-MODIFIED:20250116T090607Z
UID:10032518-1789063200-1789074000@eimsbuettel-senioren.de
SUMMARY:Chorgemeinschaft Schnelsen e.V.
DESCRIPTION:Neue Mitglieder sind herzlich willkommen!
URL:https://eimsbuettel-senioren.de/angebot/chorgemeinschaft-schnelsen-e-v/2026-09-10/
LOCATION:AWO Aktivtreff Niendorf\, Tibarg 1b\, Hamburg\, Hamburg\, 22459\, Deutschland
CATEGORIES:Kultur / Musik,Spiel / Gesellschaft
END:VEVENT
BEGIN:VEVENT
DTSTART;TZID=Europe/Berlin:20260917T180000
DTEND;TZID=Europe/Berlin:20260917T210000
DTSTAMP:20260419T231247
CREATED:20250113T162103Z
LAST-MODIFIED:20250116T090607Z
UID:10032519-1789668000-1789678800@eimsbuettel-senioren.de
SUMMARY:Chorgemeinschaft Schnelsen e.V.
DESCRIPTION:Neue Mitglieder sind herzlich willkommen!
URL:https://eimsbuettel-senioren.de/angebot/chorgemeinschaft-schnelsen-e-v/2026-09-17/
LOCATION:AWO Aktivtreff Niendorf\, Tibarg 1b\, Hamburg\, Hamburg\, 22459\, Deutschland
CATEGORIES:Kultur / Musik,Spiel / Gesellschaft
END:VEVENT
BEGIN:VEVENT
DTSTART;TZID=Europe/Berlin:20260924T180000
DTEND;TZID=Europe/Berlin:20260924T210000
DTSTAMP:20260419T231247
CREATED:20250113T162103Z
LAST-MODIFIED:20250116T090607Z
UID:10032520-1790272800-1790283600@eimsbuettel-senioren.de
SUMMARY:Chorgemeinschaft Schnelsen e.V.
DESCRIPTION:Neue Mitglieder sind herzlich willkommen!
URL:https://eimsbuettel-senioren.de/angebot/chorgemeinschaft-schnelsen-e-v/2026-09-24/
LOCATION:AWO Aktivtreff Niendorf\, Tibarg 1b\, Hamburg\, Hamburg\, 22459\, Deutschland
CATEGORIES:Kultur / Musik,Spiel / Gesellschaft
END:VEVENT
BEGIN:VEVENT
DTSTART;TZID=Europe/Berlin:20261001T180000
DTEND;TZID=Europe/Berlin:20261001T210000
DTSTAMP:20260419T231247
CREATED:20250113T162103Z
LAST-MODIFIED:20250116T090607Z
UID:10032521-1790877600-1790888400@eimsbuettel-senioren.de
SUMMARY:Chorgemeinschaft Schnelsen e.V.
DESCRIPTION:Neue Mitglieder sind herzlich willkommen!
URL:https://eimsbuettel-senioren.de/angebot/chorgemeinschaft-schnelsen-e-v/2026-10-01/
LOCATION:AWO Aktivtreff Niendorf\, Tibarg 1b\, Hamburg\, Hamburg\, 22459\, Deutschland
CATEGORIES:Kultur / Musik,Spiel / Gesellschaft
END:VEVENT
BEGIN:VEVENT
DTSTART;TZID=Europe/Berlin:20261008T180000
DTEND;TZID=Europe/Berlin:20261008T210000
DTSTAMP:20260419T231247
CREATED:20250113T162103Z
LAST-MODIFIED:20250116T090607Z
UID:10032522-1791482400-1791493200@eimsbuettel-senioren.de
SUMMARY:Chorgemeinschaft Schnelsen e.V.
DESCRIPTION:Neue Mitglieder sind herzlich willkommen!
URL:https://eimsbuettel-senioren.de/angebot/chorgemeinschaft-schnelsen-e-v/2026-10-08/
LOCATION:AWO Aktivtreff Niendorf\, Tibarg 1b\, Hamburg\, Hamburg\, 22459\, Deutschland
CATEGORIES:Kultur / Musik,Spiel / Gesellschaft
END:VEVENT
BEGIN:VEVENT
DTSTART;TZID=Europe/Berlin:20261015T180000
DTEND;TZID=Europe/Berlin:20261015T210000
DTSTAMP:20260419T231247
CREATED:20250113T162103Z
LAST-MODIFIED:20250116T090607Z
UID:10032523-1792087200-1792098000@eimsbuettel-senioren.de
SUMMARY:Chorgemeinschaft Schnelsen e.V.
DESCRIPTION:Neue Mitglieder sind herzlich willkommen!
URL:https://eimsbuettel-senioren.de/angebot/chorgemeinschaft-schnelsen-e-v/2026-10-15/
LOCATION:AWO Aktivtreff Niendorf\, Tibarg 1b\, Hamburg\, Hamburg\, 22459\, Deutschland
CATEGORIES:Kultur / Musik,Spiel / Gesellschaft
END:VEVENT
BEGIN:VEVENT
DTSTART;TZID=Europe/Berlin:20261022T180000
DTEND;TZID=Europe/Berlin:20261022T210000
DTSTAMP:20260419T231247
CREATED:20250113T162103Z
LAST-MODIFIED:20250116T090607Z
UID:10032524-1792692000-1792702800@eimsbuettel-senioren.de
SUMMARY:Chorgemeinschaft Schnelsen e.V.
DESCRIPTION:Neue Mitglieder sind herzlich willkommen!
URL:https://eimsbuettel-senioren.de/angebot/chorgemeinschaft-schnelsen-e-v/2026-10-22/
LOCATION:AWO Aktivtreff Niendorf\, Tibarg 1b\, Hamburg\, Hamburg\, 22459\, Deutschland
CATEGORIES:Kultur / Musik,Spiel / Gesellschaft
END:VEVENT
BEGIN:VEVENT
DTSTART;TZID=Europe/Berlin:20261029T180000
DTEND;TZID=Europe/Berlin:20261029T210000
DTSTAMP:20260419T231247
CREATED:20250113T162103Z
LAST-MODIFIED:20250116T090607Z
UID:10032525-1793296800-1793307600@eimsbuettel-senioren.de
SUMMARY:Chorgemeinschaft Schnelsen e.V.
DESCRIPTION:Neue Mitglieder sind herzlich willkommen!
URL:https://eimsbuettel-senioren.de/angebot/chorgemeinschaft-schnelsen-e-v/2026-10-29/
LOCATION:AWO Aktivtreff Niendorf\, Tibarg 1b\, Hamburg\, Hamburg\, 22459\, Deutschland
CATEGORIES:Kultur / Musik,Spiel / Gesellschaft
END:VEVENT
BEGIN:VEVENT
DTSTART;TZID=Europe/Berlin:20261105T180000
DTEND;TZID=Europe/Berlin:20261105T210000
DTSTAMP:20260419T231247
CREATED:20250113T162103Z
LAST-MODIFIED:20250116T090607Z
UID:10032526-1793901600-1793912400@eimsbuettel-senioren.de
SUMMARY:Chorgemeinschaft Schnelsen e.V.
DESCRIPTION:Neue Mitglieder sind herzlich willkommen!
URL:https://eimsbuettel-senioren.de/angebot/chorgemeinschaft-schnelsen-e-v/2026-11-05/
LOCATION:AWO Aktivtreff Niendorf\, Tibarg 1b\, Hamburg\, Hamburg\, 22459\, Deutschland
CATEGORIES:Kultur / Musik,Spiel / Gesellschaft
END:VEVENT
BEGIN:VEVENT
DTSTART;TZID=Europe/Berlin:20261112T180000
DTEND;TZID=Europe/Berlin:20261112T210000
DTSTAMP:20260419T231247
CREATED:20250113T162103Z
LAST-MODIFIED:20250116T090607Z
UID:10032527-1794506400-1794517200@eimsbuettel-senioren.de
SUMMARY:Chorgemeinschaft Schnelsen e.V.
DESCRIPTION:Neue Mitglieder sind herzlich willkommen!
URL:https://eimsbuettel-senioren.de/angebot/chorgemeinschaft-schnelsen-e-v/2026-11-12/
LOCATION:AWO Aktivtreff Niendorf\, Tibarg 1b\, Hamburg\, Hamburg\, 22459\, Deutschland
CATEGORIES:Kultur / Musik,Spiel / Gesellschaft
END:VEVENT
END:VCALENDAR