BEGIN:VCALENDAR
VERSION:2.0
PRODID:-//Angebote für Seniorinnen und Senioren im Bezirk Eimsbüttel - ECPv6.15.18//NONSGML v1.0//EN
CALSCALE:GREGORIAN
METHOD:PUBLISH
X-WR-CALNAME:Angebote für Seniorinnen und Senioren im Bezirk Eimsbüttel
X-ORIGINAL-URL:https://eimsbuettel-senioren.de
X-WR-CALDESC:Veranstaltungen für Angebote für Seniorinnen und Senioren im Bezirk Eimsbüttel
REFRESH-INTERVAL;VALUE=DURATION:PT1H
X-Robots-Tag:noindex
X-PUBLISHED-TTL:PT1H
BEGIN:VTIMEZONE
TZID:Europe/Berlin
BEGIN:DAYLIGHT
TZOFFSETFROM:+0100
TZOFFSETTO:+0200
TZNAME:CEST
DTSTART:20250330T010000
END:DAYLIGHT
BEGIN:STANDARD
TZOFFSETFROM:+0200
TZOFFSETTO:+0100
TZNAME:CET
DTSTART:20251026T010000
END:STANDARD
BEGIN:DAYLIGHT
TZOFFSETFROM:+0100
TZOFFSETTO:+0200
TZNAME:CEST
DTSTART:20260329T010000
END:DAYLIGHT
BEGIN:STANDARD
TZOFFSETFROM:+0200
TZOFFSETTO:+0100
TZNAME:CET
DTSTART:20261025T010000
END:STANDARD
BEGIN:DAYLIGHT
TZOFFSETFROM:+0100
TZOFFSETTO:+0200
TZNAME:CEST
DTSTART:20270328T010000
END:DAYLIGHT
BEGIN:STANDARD
TZOFFSETFROM:+0200
TZOFFSETTO:+0100
TZNAME:CET
DTSTART:20271031T010000
END:STANDARD
END:VTIMEZONE
BEGIN:VEVENT
DTSTART;TZID=Europe/Berlin:20260427T103000
DTEND;TZID=Europe/Berlin:20260427T120000
DTSTAMP:20260421T162236
CREATED:20240927T144616Z
LAST-MODIFIED:20241217T093844Z
UID:10030394-1777285800-1777291200@eimsbuettel-senioren.de
SUMMARY:Internetcafe
DESCRIPTION:
URL:https://eimsbuettel-senioren.de/angebot/internetcafe/2026-04-27/
LOCATION:AWO Aktivtreff Niendorf\, Tibarg 1b\, Hamburg\, Hamburg\, 22459\, Deutschland
CATEGORIES:Bildung / Seminar,Sonstiges,Spiel / Gesellschaft
END:VEVENT
BEGIN:VEVENT
DTSTART;TZID=Europe/Berlin:20260504T103000
DTEND;TZID=Europe/Berlin:20260504T120000
DTSTAMP:20260421T162236
CREATED:20240927T144616Z
LAST-MODIFIED:20241217T093844Z
UID:10030395-1777890600-1777896000@eimsbuettel-senioren.de
SUMMARY:Internetcafe
DESCRIPTION:
URL:https://eimsbuettel-senioren.de/angebot/internetcafe/2026-05-04/
LOCATION:AWO Aktivtreff Niendorf\, Tibarg 1b\, Hamburg\, Hamburg\, 22459\, Deutschland
CATEGORIES:Bildung / Seminar,Sonstiges,Spiel / Gesellschaft
END:VEVENT
BEGIN:VEVENT
DTSTART;TZID=Europe/Berlin:20260511T103000
DTEND;TZID=Europe/Berlin:20260511T120000
DTSTAMP:20260421T162236
CREATED:20240927T144616Z
LAST-MODIFIED:20241217T093844Z
UID:10030396-1778495400-1778500800@eimsbuettel-senioren.de
SUMMARY:Internetcafe
DESCRIPTION:
URL:https://eimsbuettel-senioren.de/angebot/internetcafe/2026-05-11/
LOCATION:AWO Aktivtreff Niendorf\, Tibarg 1b\, Hamburg\, Hamburg\, 22459\, Deutschland
CATEGORIES:Bildung / Seminar,Sonstiges,Spiel / Gesellschaft
END:VEVENT
BEGIN:VEVENT
DTSTART;TZID=Europe/Berlin:20260518T103000
DTEND;TZID=Europe/Berlin:20260518T120000
DTSTAMP:20260421T162236
CREATED:20240927T144616Z
LAST-MODIFIED:20241217T093844Z
UID:10030397-1779100200-1779105600@eimsbuettel-senioren.de
SUMMARY:Internetcafe
DESCRIPTION:
URL:https://eimsbuettel-senioren.de/angebot/internetcafe/2026-05-18/
LOCATION:AWO Aktivtreff Niendorf\, Tibarg 1b\, Hamburg\, Hamburg\, 22459\, Deutschland
CATEGORIES:Bildung / Seminar,Sonstiges,Spiel / Gesellschaft
END:VEVENT
BEGIN:VEVENT
DTSTART;TZID=Europe/Berlin:20260525T103000
DTEND;TZID=Europe/Berlin:20260525T120000
DTSTAMP:20260421T162236
CREATED:20240927T144616Z
LAST-MODIFIED:20241217T093844Z
UID:10030398-1779705000-1779710400@eimsbuettel-senioren.de
SUMMARY:Internetcafe
DESCRIPTION:
URL:https://eimsbuettel-senioren.de/angebot/internetcafe/2026-05-25/
LOCATION:AWO Aktivtreff Niendorf\, Tibarg 1b\, Hamburg\, Hamburg\, 22459\, Deutschland
CATEGORIES:Bildung / Seminar,Sonstiges,Spiel / Gesellschaft
END:VEVENT
BEGIN:VEVENT
DTSTART;TZID=Europe/Berlin:20260601T103000
DTEND;TZID=Europe/Berlin:20260601T120000
DTSTAMP:20260421T162236
CREATED:20240927T144616Z
LAST-MODIFIED:20241217T093844Z
UID:10030399-1780309800-1780315200@eimsbuettel-senioren.de
SUMMARY:Internetcafe
DESCRIPTION:
URL:https://eimsbuettel-senioren.de/angebot/internetcafe/2026-06-01/
LOCATION:AWO Aktivtreff Niendorf\, Tibarg 1b\, Hamburg\, Hamburg\, 22459\, Deutschland
CATEGORIES:Bildung / Seminar,Sonstiges,Spiel / Gesellschaft
END:VEVENT
BEGIN:VEVENT
DTSTART;TZID=Europe/Berlin:20260608T103000
DTEND;TZID=Europe/Berlin:20260608T120000
DTSTAMP:20260421T162236
CREATED:20240927T144616Z
LAST-MODIFIED:20241217T093844Z
UID:10030400-1780914600-1780920000@eimsbuettel-senioren.de
SUMMARY:Internetcafe
DESCRIPTION:
URL:https://eimsbuettel-senioren.de/angebot/internetcafe/2026-06-08/
LOCATION:AWO Aktivtreff Niendorf\, Tibarg 1b\, Hamburg\, Hamburg\, 22459\, Deutschland
CATEGORIES:Bildung / Seminar,Sonstiges,Spiel / Gesellschaft
END:VEVENT
BEGIN:VEVENT
DTSTART;TZID=Europe/Berlin:20260615T103000
DTEND;TZID=Europe/Berlin:20260615T120000
DTSTAMP:20260421T162236
CREATED:20240927T144616Z
LAST-MODIFIED:20241217T093844Z
UID:10030401-1781519400-1781524800@eimsbuettel-senioren.de
SUMMARY:Internetcafe
DESCRIPTION:
URL:https://eimsbuettel-senioren.de/angebot/internetcafe/2026-06-15/
LOCATION:AWO Aktivtreff Niendorf\, Tibarg 1b\, Hamburg\, Hamburg\, 22459\, Deutschland
CATEGORIES:Bildung / Seminar,Sonstiges,Spiel / Gesellschaft
END:VEVENT
BEGIN:VEVENT
DTSTART;TZID=Europe/Berlin:20260622T103000
DTEND;TZID=Europe/Berlin:20260622T120000
DTSTAMP:20260421T162236
CREATED:20240927T144616Z
LAST-MODIFIED:20241217T093844Z
UID:10030402-1782124200-1782129600@eimsbuettel-senioren.de
SUMMARY:Internetcafe
DESCRIPTION:
URL:https://eimsbuettel-senioren.de/angebot/internetcafe/2026-06-22/
LOCATION:AWO Aktivtreff Niendorf\, Tibarg 1b\, Hamburg\, Hamburg\, 22459\, Deutschland
CATEGORIES:Bildung / Seminar,Sonstiges,Spiel / Gesellschaft
END:VEVENT
BEGIN:VEVENT
DTSTART;TZID=Europe/Berlin:20260629T103000
DTEND;TZID=Europe/Berlin:20260629T120000
DTSTAMP:20260421T162236
CREATED:20240927T144616Z
LAST-MODIFIED:20241217T093844Z
UID:10030403-1782729000-1782734400@eimsbuettel-senioren.de
SUMMARY:Internetcafe
DESCRIPTION:
URL:https://eimsbuettel-senioren.de/angebot/internetcafe/2026-06-29/
LOCATION:AWO Aktivtreff Niendorf\, Tibarg 1b\, Hamburg\, Hamburg\, 22459\, Deutschland
CATEGORIES:Bildung / Seminar,Sonstiges,Spiel / Gesellschaft
END:VEVENT
BEGIN:VEVENT
DTSTART;TZID=Europe/Berlin:20260706T103000
DTEND;TZID=Europe/Berlin:20260706T120000
DTSTAMP:20260421T162236
CREATED:20240927T144616Z
LAST-MODIFIED:20241217T093844Z
UID:10030404-1783333800-1783339200@eimsbuettel-senioren.de
SUMMARY:Internetcafe
DESCRIPTION:
URL:https://eimsbuettel-senioren.de/angebot/internetcafe/2026-07-06/
LOCATION:AWO Aktivtreff Niendorf\, Tibarg 1b\, Hamburg\, Hamburg\, 22459\, Deutschland
CATEGORIES:Bildung / Seminar,Sonstiges,Spiel / Gesellschaft
END:VEVENT
BEGIN:VEVENT
DTSTART;TZID=Europe/Berlin:20260713T103000
DTEND;TZID=Europe/Berlin:20260713T120000
DTSTAMP:20260421T162236
CREATED:20240927T144616Z
LAST-MODIFIED:20241217T093844Z
UID:10030405-1783938600-1783944000@eimsbuettel-senioren.de
SUMMARY:Internetcafe
DESCRIPTION:
URL:https://eimsbuettel-senioren.de/angebot/internetcafe/2026-07-13/
LOCATION:AWO Aktivtreff Niendorf\, Tibarg 1b\, Hamburg\, Hamburg\, 22459\, Deutschland
CATEGORIES:Bildung / Seminar,Sonstiges,Spiel / Gesellschaft
END:VEVENT
BEGIN:VEVENT
DTSTART;TZID=Europe/Berlin:20260720T103000
DTEND;TZID=Europe/Berlin:20260720T120000
DTSTAMP:20260421T162236
CREATED:20240927T144616Z
LAST-MODIFIED:20241217T093844Z
UID:10030406-1784543400-1784548800@eimsbuettel-senioren.de
SUMMARY:Internetcafe
DESCRIPTION:
URL:https://eimsbuettel-senioren.de/angebot/internetcafe/2026-07-20/
LOCATION:AWO Aktivtreff Niendorf\, Tibarg 1b\, Hamburg\, Hamburg\, 22459\, Deutschland
CATEGORIES:Bildung / Seminar,Sonstiges,Spiel / Gesellschaft
END:VEVENT
BEGIN:VEVENT
DTSTART;TZID=Europe/Berlin:20260727T103000
DTEND;TZID=Europe/Berlin:20260727T120000
DTSTAMP:20260421T162236
CREATED:20240927T144616Z
LAST-MODIFIED:20241217T093844Z
UID:10030407-1785148200-1785153600@eimsbuettel-senioren.de
SUMMARY:Internetcafe
DESCRIPTION:
URL:https://eimsbuettel-senioren.de/angebot/internetcafe/2026-07-27/
LOCATION:AWO Aktivtreff Niendorf\, Tibarg 1b\, Hamburg\, Hamburg\, 22459\, Deutschland
CATEGORIES:Bildung / Seminar,Sonstiges,Spiel / Gesellschaft
END:VEVENT
BEGIN:VEVENT
DTSTART;TZID=Europe/Berlin:20260803T103000
DTEND;TZID=Europe/Berlin:20260803T120000
DTSTAMP:20260421T162236
CREATED:20240927T144616Z
LAST-MODIFIED:20241217T093844Z
UID:10030408-1785753000-1785758400@eimsbuettel-senioren.de
SUMMARY:Internetcafe
DESCRIPTION:
URL:https://eimsbuettel-senioren.de/angebot/internetcafe/2026-08-03/
LOCATION:AWO Aktivtreff Niendorf\, Tibarg 1b\, Hamburg\, Hamburg\, 22459\, Deutschland
CATEGORIES:Bildung / Seminar,Sonstiges,Spiel / Gesellschaft
END:VEVENT
BEGIN:VEVENT
DTSTART;TZID=Europe/Berlin:20260810T103000
DTEND;TZID=Europe/Berlin:20260810T120000
DTSTAMP:20260421T162236
CREATED:20240927T144616Z
LAST-MODIFIED:20241217T093844Z
UID:10030409-1786357800-1786363200@eimsbuettel-senioren.de
SUMMARY:Internetcafe
DESCRIPTION:
URL:https://eimsbuettel-senioren.de/angebot/internetcafe/2026-08-10/
LOCATION:AWO Aktivtreff Niendorf\, Tibarg 1b\, Hamburg\, Hamburg\, 22459\, Deutschland
CATEGORIES:Bildung / Seminar,Sonstiges,Spiel / Gesellschaft
END:VEVENT
BEGIN:VEVENT
DTSTART;TZID=Europe/Berlin:20260817T103000
DTEND;TZID=Europe/Berlin:20260817T120000
DTSTAMP:20260421T162236
CREATED:20240927T144616Z
LAST-MODIFIED:20241217T093844Z
UID:10030410-1786962600-1786968000@eimsbuettel-senioren.de
SUMMARY:Internetcafe
DESCRIPTION:
URL:https://eimsbuettel-senioren.de/angebot/internetcafe/2026-08-17/
LOCATION:AWO Aktivtreff Niendorf\, Tibarg 1b\, Hamburg\, Hamburg\, 22459\, Deutschland
CATEGORIES:Bildung / Seminar,Sonstiges,Spiel / Gesellschaft
END:VEVENT
BEGIN:VEVENT
DTSTART;TZID=Europe/Berlin:20260824T103000
DTEND;TZID=Europe/Berlin:20260824T120000
DTSTAMP:20260421T162236
CREATED:20240927T144616Z
LAST-MODIFIED:20241217T093844Z
UID:10030411-1787567400-1787572800@eimsbuettel-senioren.de
SUMMARY:Internetcafe
DESCRIPTION:
URL:https://eimsbuettel-senioren.de/angebot/internetcafe/2026-08-24/
LOCATION:AWO Aktivtreff Niendorf\, Tibarg 1b\, Hamburg\, Hamburg\, 22459\, Deutschland
CATEGORIES:Bildung / Seminar,Sonstiges,Spiel / Gesellschaft
END:VEVENT
BEGIN:VEVENT
DTSTART;TZID=Europe/Berlin:20260831T103000
DTEND;TZID=Europe/Berlin:20260831T120000
DTSTAMP:20260421T162236
CREATED:20240927T144616Z
LAST-MODIFIED:20241217T093844Z
UID:10030412-1788172200-1788177600@eimsbuettel-senioren.de
SUMMARY:Internetcafe
DESCRIPTION:
URL:https://eimsbuettel-senioren.de/angebot/internetcafe/2026-08-31/
LOCATION:AWO Aktivtreff Niendorf\, Tibarg 1b\, Hamburg\, Hamburg\, 22459\, Deutschland
CATEGORIES:Bildung / Seminar,Sonstiges,Spiel / Gesellschaft
END:VEVENT
BEGIN:VEVENT
DTSTART;TZID=Europe/Berlin:20260907T103000
DTEND;TZID=Europe/Berlin:20260907T120000
DTSTAMP:20260421T162236
CREATED:20240927T144616Z
LAST-MODIFIED:20241217T093844Z
UID:10030413-1788777000-1788782400@eimsbuettel-senioren.de
SUMMARY:Internetcafe
DESCRIPTION:
URL:https://eimsbuettel-senioren.de/angebot/internetcafe/2026-09-07/
LOCATION:AWO Aktivtreff Niendorf\, Tibarg 1b\, Hamburg\, Hamburg\, 22459\, Deutschland
CATEGORIES:Bildung / Seminar,Sonstiges,Spiel / Gesellschaft
END:VEVENT
BEGIN:VEVENT
DTSTART;TZID=Europe/Berlin:20260914T103000
DTEND;TZID=Europe/Berlin:20260914T120000
DTSTAMP:20260421T162236
CREATED:20240927T144616Z
LAST-MODIFIED:20241217T093844Z
UID:10030414-1789381800-1789387200@eimsbuettel-senioren.de
SUMMARY:Internetcafe
DESCRIPTION:
URL:https://eimsbuettel-senioren.de/angebot/internetcafe/2026-09-14/
LOCATION:AWO Aktivtreff Niendorf\, Tibarg 1b\, Hamburg\, Hamburg\, 22459\, Deutschland
CATEGORIES:Bildung / Seminar,Sonstiges,Spiel / Gesellschaft
END:VEVENT
BEGIN:VEVENT
DTSTART;TZID=Europe/Berlin:20260921T103000
DTEND;TZID=Europe/Berlin:20260921T120000
DTSTAMP:20260421T162236
CREATED:20240927T144616Z
LAST-MODIFIED:20241217T093844Z
UID:10030415-1789986600-1789992000@eimsbuettel-senioren.de
SUMMARY:Internetcafe
DESCRIPTION:
URL:https://eimsbuettel-senioren.de/angebot/internetcafe/2026-09-21/
LOCATION:AWO Aktivtreff Niendorf\, Tibarg 1b\, Hamburg\, Hamburg\, 22459\, Deutschland
CATEGORIES:Bildung / Seminar,Sonstiges,Spiel / Gesellschaft
END:VEVENT
BEGIN:VEVENT
DTSTART;TZID=Europe/Berlin:20260928T103000
DTEND;TZID=Europe/Berlin:20260928T120000
DTSTAMP:20260421T162236
CREATED:20240927T144616Z
LAST-MODIFIED:20241217T093844Z
UID:10030416-1790591400-1790596800@eimsbuettel-senioren.de
SUMMARY:Internetcafe
DESCRIPTION:
URL:https://eimsbuettel-senioren.de/angebot/internetcafe/2026-09-28/
LOCATION:AWO Aktivtreff Niendorf\, Tibarg 1b\, Hamburg\, Hamburg\, 22459\, Deutschland
CATEGORIES:Bildung / Seminar,Sonstiges,Spiel / Gesellschaft
END:VEVENT
BEGIN:VEVENT
DTSTART;TZID=Europe/Berlin:20261005T103000
DTEND;TZID=Europe/Berlin:20261005T120000
DTSTAMP:20260421T162236
CREATED:20240927T144616Z
LAST-MODIFIED:20241217T093844Z
UID:10030417-1791196200-1791201600@eimsbuettel-senioren.de
SUMMARY:Internetcafe
DESCRIPTION:
URL:https://eimsbuettel-senioren.de/angebot/internetcafe/2026-10-05/
LOCATION:AWO Aktivtreff Niendorf\, Tibarg 1b\, Hamburg\, Hamburg\, 22459\, Deutschland
CATEGORIES:Bildung / Seminar,Sonstiges,Spiel / Gesellschaft
END:VEVENT
BEGIN:VEVENT
DTSTART;TZID=Europe/Berlin:20261012T103000
DTEND;TZID=Europe/Berlin:20261012T120000
DTSTAMP:20260421T162236
CREATED:20240927T144616Z
LAST-MODIFIED:20241217T093844Z
UID:10030418-1791801000-1791806400@eimsbuettel-senioren.de
SUMMARY:Internetcafe
DESCRIPTION:
URL:https://eimsbuettel-senioren.de/angebot/internetcafe/2026-10-12/
LOCATION:AWO Aktivtreff Niendorf\, Tibarg 1b\, Hamburg\, Hamburg\, 22459\, Deutschland
CATEGORIES:Bildung / Seminar,Sonstiges,Spiel / Gesellschaft
END:VEVENT
BEGIN:VEVENT
DTSTART;TZID=Europe/Berlin:20261019T103000
DTEND;TZID=Europe/Berlin:20261019T120000
DTSTAMP:20260421T162236
CREATED:20240927T144616Z
LAST-MODIFIED:20241217T093844Z
UID:10030419-1792405800-1792411200@eimsbuettel-senioren.de
SUMMARY:Internetcafe
DESCRIPTION:
URL:https://eimsbuettel-senioren.de/angebot/internetcafe/2026-10-19/
LOCATION:AWO Aktivtreff Niendorf\, Tibarg 1b\, Hamburg\, Hamburg\, 22459\, Deutschland
CATEGORIES:Bildung / Seminar,Sonstiges,Spiel / Gesellschaft
END:VEVENT
BEGIN:VEVENT
DTSTART;TZID=Europe/Berlin:20261026T103000
DTEND;TZID=Europe/Berlin:20261026T120000
DTSTAMP:20260421T162236
CREATED:20240927T144616Z
LAST-MODIFIED:20241217T093844Z
UID:10030420-1793010600-1793016000@eimsbuettel-senioren.de
SUMMARY:Internetcafe
DESCRIPTION:
URL:https://eimsbuettel-senioren.de/angebot/internetcafe/2026-10-26/
LOCATION:AWO Aktivtreff Niendorf\, Tibarg 1b\, Hamburg\, Hamburg\, 22459\, Deutschland
CATEGORIES:Bildung / Seminar,Sonstiges,Spiel / Gesellschaft
END:VEVENT
BEGIN:VEVENT
DTSTART;TZID=Europe/Berlin:20261102T103000
DTEND;TZID=Europe/Berlin:20261102T120000
DTSTAMP:20260421T162236
CREATED:20240927T144616Z
LAST-MODIFIED:20241217T093844Z
UID:10030421-1793615400-1793620800@eimsbuettel-senioren.de
SUMMARY:Internetcafe
DESCRIPTION:
URL:https://eimsbuettel-senioren.de/angebot/internetcafe/2026-11-02/
LOCATION:AWO Aktivtreff Niendorf\, Tibarg 1b\, Hamburg\, Hamburg\, 22459\, Deutschland
CATEGORIES:Bildung / Seminar,Sonstiges,Spiel / Gesellschaft
END:VEVENT
BEGIN:VEVENT
DTSTART;TZID=Europe/Berlin:20261109T103000
DTEND;TZID=Europe/Berlin:20261109T120000
DTSTAMP:20260421T162236
CREATED:20240927T144616Z
LAST-MODIFIED:20241217T093844Z
UID:10030422-1794220200-1794225600@eimsbuettel-senioren.de
SUMMARY:Internetcafe
DESCRIPTION:
URL:https://eimsbuettel-senioren.de/angebot/internetcafe/2026-11-09/
LOCATION:AWO Aktivtreff Niendorf\, Tibarg 1b\, Hamburg\, Hamburg\, 22459\, Deutschland
CATEGORIES:Bildung / Seminar,Sonstiges,Spiel / Gesellschaft
END:VEVENT
BEGIN:VEVENT
DTSTART;TZID=Europe/Berlin:20261116T103000
DTEND;TZID=Europe/Berlin:20261116T120000
DTSTAMP:20260421T162236
CREATED:20240927T144616Z
LAST-MODIFIED:20241217T093844Z
UID:10030423-1794825000-1794830400@eimsbuettel-senioren.de
SUMMARY:Internetcafe
DESCRIPTION:
URL:https://eimsbuettel-senioren.de/angebot/internetcafe/2026-11-16/
LOCATION:AWO Aktivtreff Niendorf\, Tibarg 1b\, Hamburg\, Hamburg\, 22459\, Deutschland
CATEGORIES:Bildung / Seminar,Sonstiges,Spiel / Gesellschaft
END:VEVENT
END:VCALENDAR