BEGIN:VCALENDAR
VERSION:2.0
PRODID:-//Angebote für Seniorinnen und Senioren im Bezirk Eimsbüttel - ECPv6.15.18//NONSGML v1.0//EN
CALSCALE:GREGORIAN
METHOD:PUBLISH
X-WR-CALNAME:Angebote für Seniorinnen und Senioren im Bezirk Eimsbüttel
X-ORIGINAL-URL:https://eimsbuettel-senioren.de
X-WR-CALDESC:Veranstaltungen für Angebote für Seniorinnen und Senioren im Bezirk Eimsbüttel
REFRESH-INTERVAL;VALUE=DURATION:PT1H
X-Robots-Tag:noindex
X-PUBLISHED-TTL:PT1H
BEGIN:VTIMEZONE
TZID:Europe/Berlin
BEGIN:DAYLIGHT
TZOFFSETFROM:+0100
TZOFFSETTO:+0200
TZNAME:CEST
DTSTART:20250330T010000
END:DAYLIGHT
BEGIN:STANDARD
TZOFFSETFROM:+0200
TZOFFSETTO:+0100
TZNAME:CET
DTSTART:20251026T010000
END:STANDARD
BEGIN:DAYLIGHT
TZOFFSETFROM:+0100
TZOFFSETTO:+0200
TZNAME:CEST
DTSTART:20260329T010000
END:DAYLIGHT
BEGIN:STANDARD
TZOFFSETFROM:+0200
TZOFFSETTO:+0100
TZNAME:CET
DTSTART:20261025T010000
END:STANDARD
BEGIN:DAYLIGHT
TZOFFSETFROM:+0100
TZOFFSETTO:+0200
TZNAME:CEST
DTSTART:20270328T010000
END:DAYLIGHT
BEGIN:STANDARD
TZOFFSETFROM:+0200
TZOFFSETTO:+0100
TZNAME:CET
DTSTART:20271031T010000
END:STANDARD
END:VTIMEZONE
BEGIN:VEVENT
DTSTART;TZID=Europe/Berlin:20260423T190000
DTEND;TZID=Europe/Berlin:20260423T210000
DTSTAMP:20260423T125515
CREATED:20240909T123620Z
LAST-MODIFIED:20240913T104208Z
UID:10029607-1776970800-1776978000@eimsbuettel-senioren.de
SUMMARY:Trommel-Gruppe
DESCRIPTION:
URL:https://eimsbuettel-senioren.de/angebot/trommel-gruppe/2026-04-23/
LOCATION:AWO Aktivtreff Stellingen\, Jugendstr. 11\, Hamburg\, Hamburg\, 22527\, Deutschland
CATEGORIES:Kultur / Musik,Spiel / Gesellschaft
END:VEVENT
BEGIN:VEVENT
DTSTART;TZID=Europe/Berlin:20260430T190000
DTEND;TZID=Europe/Berlin:20260430T210000
DTSTAMP:20260423T125515
CREATED:20240909T123620Z
LAST-MODIFIED:20240913T104208Z
UID:10029608-1777575600-1777582800@eimsbuettel-senioren.de
SUMMARY:Trommel-Gruppe
DESCRIPTION:
URL:https://eimsbuettel-senioren.de/angebot/trommel-gruppe/2026-04-30/
LOCATION:AWO Aktivtreff Stellingen\, Jugendstr. 11\, Hamburg\, Hamburg\, 22527\, Deutschland
CATEGORIES:Kultur / Musik,Spiel / Gesellschaft
END:VEVENT
BEGIN:VEVENT
DTSTART;TZID=Europe/Berlin:20260507T190000
DTEND;TZID=Europe/Berlin:20260507T210000
DTSTAMP:20260423T125515
CREATED:20240909T123620Z
LAST-MODIFIED:20240913T104208Z
UID:10029609-1778180400-1778187600@eimsbuettel-senioren.de
SUMMARY:Trommel-Gruppe
DESCRIPTION:
URL:https://eimsbuettel-senioren.de/angebot/trommel-gruppe/2026-05-07/
LOCATION:AWO Aktivtreff Stellingen\, Jugendstr. 11\, Hamburg\, Hamburg\, 22527\, Deutschland
CATEGORIES:Kultur / Musik,Spiel / Gesellschaft
END:VEVENT
BEGIN:VEVENT
DTSTART;TZID=Europe/Berlin:20260514T190000
DTEND;TZID=Europe/Berlin:20260514T210000
DTSTAMP:20260423T125515
CREATED:20240909T123620Z
LAST-MODIFIED:20240913T104208Z
UID:10029610-1778785200-1778792400@eimsbuettel-senioren.de
SUMMARY:Trommel-Gruppe
DESCRIPTION:
URL:https://eimsbuettel-senioren.de/angebot/trommel-gruppe/2026-05-14/
LOCATION:AWO Aktivtreff Stellingen\, Jugendstr. 11\, Hamburg\, Hamburg\, 22527\, Deutschland
CATEGORIES:Kultur / Musik,Spiel / Gesellschaft
END:VEVENT
BEGIN:VEVENT
DTSTART;TZID=Europe/Berlin:20260521T190000
DTEND;TZID=Europe/Berlin:20260521T210000
DTSTAMP:20260423T125515
CREATED:20240909T123620Z
LAST-MODIFIED:20240913T104208Z
UID:10029611-1779390000-1779397200@eimsbuettel-senioren.de
SUMMARY:Trommel-Gruppe
DESCRIPTION:
URL:https://eimsbuettel-senioren.de/angebot/trommel-gruppe/2026-05-21/
LOCATION:AWO Aktivtreff Stellingen\, Jugendstr. 11\, Hamburg\, Hamburg\, 22527\, Deutschland
CATEGORIES:Kultur / Musik,Spiel / Gesellschaft
END:VEVENT
BEGIN:VEVENT
DTSTART;TZID=Europe/Berlin:20260528T190000
DTEND;TZID=Europe/Berlin:20260528T210000
DTSTAMP:20260423T125515
CREATED:20240909T123620Z
LAST-MODIFIED:20240913T104208Z
UID:10029612-1779994800-1780002000@eimsbuettel-senioren.de
SUMMARY:Trommel-Gruppe
DESCRIPTION:
URL:https://eimsbuettel-senioren.de/angebot/trommel-gruppe/2026-05-28/
LOCATION:AWO Aktivtreff Stellingen\, Jugendstr. 11\, Hamburg\, Hamburg\, 22527\, Deutschland
CATEGORIES:Kultur / Musik,Spiel / Gesellschaft
END:VEVENT
BEGIN:VEVENT
DTSTART;TZID=Europe/Berlin:20260604T190000
DTEND;TZID=Europe/Berlin:20260604T210000
DTSTAMP:20260423T125515
CREATED:20240909T123620Z
LAST-MODIFIED:20240913T104208Z
UID:10029613-1780599600-1780606800@eimsbuettel-senioren.de
SUMMARY:Trommel-Gruppe
DESCRIPTION:
URL:https://eimsbuettel-senioren.de/angebot/trommel-gruppe/2026-06-04/
LOCATION:AWO Aktivtreff Stellingen\, Jugendstr. 11\, Hamburg\, Hamburg\, 22527\, Deutschland
CATEGORIES:Kultur / Musik,Spiel / Gesellschaft
END:VEVENT
BEGIN:VEVENT
DTSTART;TZID=Europe/Berlin:20260611T190000
DTEND;TZID=Europe/Berlin:20260611T210000
DTSTAMP:20260423T125515
CREATED:20240909T123620Z
LAST-MODIFIED:20240913T104208Z
UID:10029614-1781204400-1781211600@eimsbuettel-senioren.de
SUMMARY:Trommel-Gruppe
DESCRIPTION:
URL:https://eimsbuettel-senioren.de/angebot/trommel-gruppe/2026-06-11/
LOCATION:AWO Aktivtreff Stellingen\, Jugendstr. 11\, Hamburg\, Hamburg\, 22527\, Deutschland
CATEGORIES:Kultur / Musik,Spiel / Gesellschaft
END:VEVENT
BEGIN:VEVENT
DTSTART;TZID=Europe/Berlin:20260618T190000
DTEND;TZID=Europe/Berlin:20260618T210000
DTSTAMP:20260423T125515
CREATED:20240909T123620Z
LAST-MODIFIED:20240913T104208Z
UID:10029615-1781809200-1781816400@eimsbuettel-senioren.de
SUMMARY:Trommel-Gruppe
DESCRIPTION:
URL:https://eimsbuettel-senioren.de/angebot/trommel-gruppe/2026-06-18/
LOCATION:AWO Aktivtreff Stellingen\, Jugendstr. 11\, Hamburg\, Hamburg\, 22527\, Deutschland
CATEGORIES:Kultur / Musik,Spiel / Gesellschaft
END:VEVENT
BEGIN:VEVENT
DTSTART;TZID=Europe/Berlin:20260625T190000
DTEND;TZID=Europe/Berlin:20260625T210000
DTSTAMP:20260423T125515
CREATED:20240909T123620Z
LAST-MODIFIED:20240913T104208Z
UID:10029616-1782414000-1782421200@eimsbuettel-senioren.de
SUMMARY:Trommel-Gruppe
DESCRIPTION:
URL:https://eimsbuettel-senioren.de/angebot/trommel-gruppe/2026-06-25/
LOCATION:AWO Aktivtreff Stellingen\, Jugendstr. 11\, Hamburg\, Hamburg\, 22527\, Deutschland
CATEGORIES:Kultur / Musik,Spiel / Gesellschaft
END:VEVENT
BEGIN:VEVENT
DTSTART;TZID=Europe/Berlin:20260702T190000
DTEND;TZID=Europe/Berlin:20260702T210000
DTSTAMP:20260423T125516
CREATED:20240909T123620Z
LAST-MODIFIED:20240913T104208Z
UID:10029617-1783018800-1783026000@eimsbuettel-senioren.de
SUMMARY:Trommel-Gruppe
DESCRIPTION:
URL:https://eimsbuettel-senioren.de/angebot/trommel-gruppe/2026-07-02/
LOCATION:AWO Aktivtreff Stellingen\, Jugendstr. 11\, Hamburg\, Hamburg\, 22527\, Deutschland
CATEGORIES:Kultur / Musik,Spiel / Gesellschaft
END:VEVENT
BEGIN:VEVENT
DTSTART;TZID=Europe/Berlin:20260709T190000
DTEND;TZID=Europe/Berlin:20260709T210000
DTSTAMP:20260423T125516
CREATED:20240909T123620Z
LAST-MODIFIED:20240913T104208Z
UID:10029618-1783623600-1783630800@eimsbuettel-senioren.de
SUMMARY:Trommel-Gruppe
DESCRIPTION:
URL:https://eimsbuettel-senioren.de/angebot/trommel-gruppe/2026-07-09/
LOCATION:AWO Aktivtreff Stellingen\, Jugendstr. 11\, Hamburg\, Hamburg\, 22527\, Deutschland
CATEGORIES:Kultur / Musik,Spiel / Gesellschaft
END:VEVENT
BEGIN:VEVENT
DTSTART;TZID=Europe/Berlin:20260716T190000
DTEND;TZID=Europe/Berlin:20260716T210000
DTSTAMP:20260423T125516
CREATED:20240909T123620Z
LAST-MODIFIED:20240913T104208Z
UID:10029619-1784228400-1784235600@eimsbuettel-senioren.de
SUMMARY:Trommel-Gruppe
DESCRIPTION:
URL:https://eimsbuettel-senioren.de/angebot/trommel-gruppe/2026-07-16/
LOCATION:AWO Aktivtreff Stellingen\, Jugendstr. 11\, Hamburg\, Hamburg\, 22527\, Deutschland
CATEGORIES:Kultur / Musik,Spiel / Gesellschaft
END:VEVENT
BEGIN:VEVENT
DTSTART;TZID=Europe/Berlin:20260723T190000
DTEND;TZID=Europe/Berlin:20260723T210000
DTSTAMP:20260423T125516
CREATED:20240909T123620Z
LAST-MODIFIED:20240913T104208Z
UID:10029620-1784833200-1784840400@eimsbuettel-senioren.de
SUMMARY:Trommel-Gruppe
DESCRIPTION:
URL:https://eimsbuettel-senioren.de/angebot/trommel-gruppe/2026-07-23/
LOCATION:AWO Aktivtreff Stellingen\, Jugendstr. 11\, Hamburg\, Hamburg\, 22527\, Deutschland
CATEGORIES:Kultur / Musik,Spiel / Gesellschaft
END:VEVENT
BEGIN:VEVENT
DTSTART;TZID=Europe/Berlin:20260730T190000
DTEND;TZID=Europe/Berlin:20260730T210000
DTSTAMP:20260423T125516
CREATED:20240909T123620Z
LAST-MODIFIED:20240913T104208Z
UID:10029621-1785438000-1785445200@eimsbuettel-senioren.de
SUMMARY:Trommel-Gruppe
DESCRIPTION:
URL:https://eimsbuettel-senioren.de/angebot/trommel-gruppe/2026-07-30/
LOCATION:AWO Aktivtreff Stellingen\, Jugendstr. 11\, Hamburg\, Hamburg\, 22527\, Deutschland
CATEGORIES:Kultur / Musik,Spiel / Gesellschaft
END:VEVENT
BEGIN:VEVENT
DTSTART;TZID=Europe/Berlin:20260806T190000
DTEND;TZID=Europe/Berlin:20260806T210000
DTSTAMP:20260423T125516
CREATED:20240909T123620Z
LAST-MODIFIED:20240913T104208Z
UID:10029622-1786042800-1786050000@eimsbuettel-senioren.de
SUMMARY:Trommel-Gruppe
DESCRIPTION:
URL:https://eimsbuettel-senioren.de/angebot/trommel-gruppe/2026-08-06/
LOCATION:AWO Aktivtreff Stellingen\, Jugendstr. 11\, Hamburg\, Hamburg\, 22527\, Deutschland
CATEGORIES:Kultur / Musik,Spiel / Gesellschaft
END:VEVENT
BEGIN:VEVENT
DTSTART;TZID=Europe/Berlin:20260813T190000
DTEND;TZID=Europe/Berlin:20260813T210000
DTSTAMP:20260423T125516
CREATED:20240909T123620Z
LAST-MODIFIED:20240913T104208Z
UID:10029623-1786647600-1786654800@eimsbuettel-senioren.de
SUMMARY:Trommel-Gruppe
DESCRIPTION:
URL:https://eimsbuettel-senioren.de/angebot/trommel-gruppe/2026-08-13/
LOCATION:AWO Aktivtreff Stellingen\, Jugendstr. 11\, Hamburg\, Hamburg\, 22527\, Deutschland
CATEGORIES:Kultur / Musik,Spiel / Gesellschaft
END:VEVENT
BEGIN:VEVENT
DTSTART;TZID=Europe/Berlin:20260820T190000
DTEND;TZID=Europe/Berlin:20260820T210000
DTSTAMP:20260423T125516
CREATED:20240909T123620Z
LAST-MODIFIED:20240913T104208Z
UID:10029624-1787252400-1787259600@eimsbuettel-senioren.de
SUMMARY:Trommel-Gruppe
DESCRIPTION:
URL:https://eimsbuettel-senioren.de/angebot/trommel-gruppe/2026-08-20/
LOCATION:AWO Aktivtreff Stellingen\, Jugendstr. 11\, Hamburg\, Hamburg\, 22527\, Deutschland
CATEGORIES:Kultur / Musik,Spiel / Gesellschaft
END:VEVENT
BEGIN:VEVENT
DTSTART;TZID=Europe/Berlin:20260827T190000
DTEND;TZID=Europe/Berlin:20260827T210000
DTSTAMP:20260423T125516
CREATED:20240909T123620Z
LAST-MODIFIED:20240913T104208Z
UID:10029625-1787857200-1787864400@eimsbuettel-senioren.de
SUMMARY:Trommel-Gruppe
DESCRIPTION:
URL:https://eimsbuettel-senioren.de/angebot/trommel-gruppe/2026-08-27/
LOCATION:AWO Aktivtreff Stellingen\, Jugendstr. 11\, Hamburg\, Hamburg\, 22527\, Deutschland
CATEGORIES:Kultur / Musik,Spiel / Gesellschaft
END:VEVENT
BEGIN:VEVENT
DTSTART;TZID=Europe/Berlin:20260903T190000
DTEND;TZID=Europe/Berlin:20260903T210000
DTSTAMP:20260423T125516
CREATED:20240909T123620Z
LAST-MODIFIED:20240913T104208Z
UID:10029626-1788462000-1788469200@eimsbuettel-senioren.de
SUMMARY:Trommel-Gruppe
DESCRIPTION:
URL:https://eimsbuettel-senioren.de/angebot/trommel-gruppe/2026-09-03/
LOCATION:AWO Aktivtreff Stellingen\, Jugendstr. 11\, Hamburg\, Hamburg\, 22527\, Deutschland
CATEGORIES:Kultur / Musik,Spiel / Gesellschaft
END:VEVENT
BEGIN:VEVENT
DTSTART;TZID=Europe/Berlin:20260910T190000
DTEND;TZID=Europe/Berlin:20260910T210000
DTSTAMP:20260423T125516
CREATED:20240909T123620Z
LAST-MODIFIED:20240913T104208Z
UID:10029627-1789066800-1789074000@eimsbuettel-senioren.de
SUMMARY:Trommel-Gruppe
DESCRIPTION:
URL:https://eimsbuettel-senioren.de/angebot/trommel-gruppe/2026-09-10/
LOCATION:AWO Aktivtreff Stellingen\, Jugendstr. 11\, Hamburg\, Hamburg\, 22527\, Deutschland
CATEGORIES:Kultur / Musik,Spiel / Gesellschaft
END:VEVENT
BEGIN:VEVENT
DTSTART;TZID=Europe/Berlin:20260917T190000
DTEND;TZID=Europe/Berlin:20260917T210000
DTSTAMP:20260423T125516
CREATED:20240909T123620Z
LAST-MODIFIED:20240913T104208Z
UID:10029628-1789671600-1789678800@eimsbuettel-senioren.de
SUMMARY:Trommel-Gruppe
DESCRIPTION:
URL:https://eimsbuettel-senioren.de/angebot/trommel-gruppe/2026-09-17/
LOCATION:AWO Aktivtreff Stellingen\, Jugendstr. 11\, Hamburg\, Hamburg\, 22527\, Deutschland
CATEGORIES:Kultur / Musik,Spiel / Gesellschaft
END:VEVENT
BEGIN:VEVENT
DTSTART;TZID=Europe/Berlin:20260924T190000
DTEND;TZID=Europe/Berlin:20260924T210000
DTSTAMP:20260423T125516
CREATED:20240909T123620Z
LAST-MODIFIED:20240913T104208Z
UID:10029629-1790276400-1790283600@eimsbuettel-senioren.de
SUMMARY:Trommel-Gruppe
DESCRIPTION:
URL:https://eimsbuettel-senioren.de/angebot/trommel-gruppe/2026-09-24/
LOCATION:AWO Aktivtreff Stellingen\, Jugendstr. 11\, Hamburg\, Hamburg\, 22527\, Deutschland
CATEGORIES:Kultur / Musik,Spiel / Gesellschaft
END:VEVENT
BEGIN:VEVENT
DTSTART;TZID=Europe/Berlin:20261001T190000
DTEND;TZID=Europe/Berlin:20261001T210000
DTSTAMP:20260423T125516
CREATED:20240909T123620Z
LAST-MODIFIED:20240913T104208Z
UID:10029630-1790881200-1790888400@eimsbuettel-senioren.de
SUMMARY:Trommel-Gruppe
DESCRIPTION:
URL:https://eimsbuettel-senioren.de/angebot/trommel-gruppe/2026-10-01/
LOCATION:AWO Aktivtreff Stellingen\, Jugendstr. 11\, Hamburg\, Hamburg\, 22527\, Deutschland
CATEGORIES:Kultur / Musik,Spiel / Gesellschaft
END:VEVENT
BEGIN:VEVENT
DTSTART;TZID=Europe/Berlin:20261008T190000
DTEND;TZID=Europe/Berlin:20261008T210000
DTSTAMP:20260423T125516
CREATED:20240909T123620Z
LAST-MODIFIED:20240913T104208Z
UID:10029631-1791486000-1791493200@eimsbuettel-senioren.de
SUMMARY:Trommel-Gruppe
DESCRIPTION:
URL:https://eimsbuettel-senioren.de/angebot/trommel-gruppe/2026-10-08/
LOCATION:AWO Aktivtreff Stellingen\, Jugendstr. 11\, Hamburg\, Hamburg\, 22527\, Deutschland
CATEGORIES:Kultur / Musik,Spiel / Gesellschaft
END:VEVENT
BEGIN:VEVENT
DTSTART;TZID=Europe/Berlin:20261015T190000
DTEND;TZID=Europe/Berlin:20261015T210000
DTSTAMP:20260423T125516
CREATED:20240909T123620Z
LAST-MODIFIED:20240913T104208Z
UID:10029632-1792090800-1792098000@eimsbuettel-senioren.de
SUMMARY:Trommel-Gruppe
DESCRIPTION:
URL:https://eimsbuettel-senioren.de/angebot/trommel-gruppe/2026-10-15/
LOCATION:AWO Aktivtreff Stellingen\, Jugendstr. 11\, Hamburg\, Hamburg\, 22527\, Deutschland
CATEGORIES:Kultur / Musik,Spiel / Gesellschaft
END:VEVENT
BEGIN:VEVENT
DTSTART;TZID=Europe/Berlin:20261022T190000
DTEND;TZID=Europe/Berlin:20261022T210000
DTSTAMP:20260423T125516
CREATED:20240909T123620Z
LAST-MODIFIED:20240913T104208Z
UID:10029633-1792695600-1792702800@eimsbuettel-senioren.de
SUMMARY:Trommel-Gruppe
DESCRIPTION:
URL:https://eimsbuettel-senioren.de/angebot/trommel-gruppe/2026-10-22/
LOCATION:AWO Aktivtreff Stellingen\, Jugendstr. 11\, Hamburg\, Hamburg\, 22527\, Deutschland
CATEGORIES:Kultur / Musik,Spiel / Gesellschaft
END:VEVENT
BEGIN:VEVENT
DTSTART;TZID=Europe/Berlin:20261029T190000
DTEND;TZID=Europe/Berlin:20261029T210000
DTSTAMP:20260423T125516
CREATED:20240909T123620Z
LAST-MODIFIED:20240913T104208Z
UID:10029634-1793300400-1793307600@eimsbuettel-senioren.de
SUMMARY:Trommel-Gruppe
DESCRIPTION:
URL:https://eimsbuettel-senioren.de/angebot/trommel-gruppe/2026-10-29/
LOCATION:AWO Aktivtreff Stellingen\, Jugendstr. 11\, Hamburg\, Hamburg\, 22527\, Deutschland
CATEGORIES:Kultur / Musik,Spiel / Gesellschaft
END:VEVENT
BEGIN:VEVENT
DTSTART;TZID=Europe/Berlin:20261105T190000
DTEND;TZID=Europe/Berlin:20261105T210000
DTSTAMP:20260423T125516
CREATED:20240909T123620Z
LAST-MODIFIED:20240913T104208Z
UID:10029635-1793905200-1793912400@eimsbuettel-senioren.de
SUMMARY:Trommel-Gruppe
DESCRIPTION:
URL:https://eimsbuettel-senioren.de/angebot/trommel-gruppe/2026-11-05/
LOCATION:AWO Aktivtreff Stellingen\, Jugendstr. 11\, Hamburg\, Hamburg\, 22527\, Deutschland
CATEGORIES:Kultur / Musik,Spiel / Gesellschaft
END:VEVENT
BEGIN:VEVENT
DTSTART;TZID=Europe/Berlin:20261112T190000
DTEND;TZID=Europe/Berlin:20261112T210000
DTSTAMP:20260423T125516
CREATED:20240909T123620Z
LAST-MODIFIED:20240913T104208Z
UID:10029636-1794510000-1794517200@eimsbuettel-senioren.de
SUMMARY:Trommel-Gruppe
DESCRIPTION:
URL:https://eimsbuettel-senioren.de/angebot/trommel-gruppe/2026-11-12/
LOCATION:AWO Aktivtreff Stellingen\, Jugendstr. 11\, Hamburg\, Hamburg\, 22527\, Deutschland
CATEGORIES:Kultur / Musik,Spiel / Gesellschaft
END:VEVENT
END:VCALENDAR