BEGIN:VCALENDAR
VERSION:2.0
PRODID:-//Angebote für Seniorinnen und Senioren im Bezirk Eimsbüttel - ECPv6.15.18//NONSGML v1.0//EN
CALSCALE:GREGORIAN
METHOD:PUBLISH
X-WR-CALNAME:Angebote für Seniorinnen und Senioren im Bezirk Eimsbüttel
X-ORIGINAL-URL:https://eimsbuettel-senioren.de
X-WR-CALDESC:Veranstaltungen für Angebote für Seniorinnen und Senioren im Bezirk Eimsbüttel
REFRESH-INTERVAL;VALUE=DURATION:PT1H
X-Robots-Tag:noindex
X-PUBLISHED-TTL:PT1H
BEGIN:VTIMEZONE
TZID:Europe/Berlin
BEGIN:DAYLIGHT
TZOFFSETFROM:+0100
TZOFFSETTO:+0200
TZNAME:CEST
DTSTART:20250330T010000
END:DAYLIGHT
BEGIN:STANDARD
TZOFFSETFROM:+0200
TZOFFSETTO:+0100
TZNAME:CET
DTSTART:20251026T010000
END:STANDARD
BEGIN:DAYLIGHT
TZOFFSETFROM:+0100
TZOFFSETTO:+0200
TZNAME:CEST
DTSTART:20260329T010000
END:DAYLIGHT
BEGIN:STANDARD
TZOFFSETFROM:+0200
TZOFFSETTO:+0100
TZNAME:CET
DTSTART:20261025T010000
END:STANDARD
BEGIN:DAYLIGHT
TZOFFSETFROM:+0100
TZOFFSETTO:+0200
TZNAME:CEST
DTSTART:20270328T010000
END:DAYLIGHT
BEGIN:STANDARD
TZOFFSETFROM:+0200
TZOFFSETTO:+0100
TZNAME:CET
DTSTART:20271031T010000
END:STANDARD
END:VTIMEZONE
BEGIN:VEVENT
DTSTART;TZID=Europe/Berlin:20260422T140000
DTEND;TZID=Europe/Berlin:20260422T180000
DTSTAMP:20260421T144502
CREATED:20240909T122437Z
LAST-MODIFIED:20240909T122437Z
UID:10026155-1776866400-1776880800@eimsbuettel-senioren.de
SUMMARY:Offene Spiele-Gruppe
DESCRIPTION:
URL:https://eimsbuettel-senioren.de/angebot/offene-spiele-gruppe-2/2026-04-22/
LOCATION:AWO Aktivtreff Stellingen\, Jugendstr. 11\, Hamburg\, Hamburg\, 22527\, Deutschland
CATEGORIES:Spiel / Gesellschaft
END:VEVENT
BEGIN:VEVENT
DTSTART;TZID=Europe/Berlin:20260429T140000
DTEND;TZID=Europe/Berlin:20260429T180000
DTSTAMP:20260421T144502
CREATED:20240909T122437Z
LAST-MODIFIED:20240909T122437Z
UID:10026156-1777471200-1777485600@eimsbuettel-senioren.de
SUMMARY:Offene Spiele-Gruppe
DESCRIPTION:
URL:https://eimsbuettel-senioren.de/angebot/offene-spiele-gruppe-2/2026-04-29/
LOCATION:AWO Aktivtreff Stellingen\, Jugendstr. 11\, Hamburg\, Hamburg\, 22527\, Deutschland
CATEGORIES:Spiel / Gesellschaft
END:VEVENT
BEGIN:VEVENT
DTSTART;TZID=Europe/Berlin:20260506T140000
DTEND;TZID=Europe/Berlin:20260506T180000
DTSTAMP:20260421T144502
CREATED:20240909T122437Z
LAST-MODIFIED:20240909T122437Z
UID:10026157-1778076000-1778090400@eimsbuettel-senioren.de
SUMMARY:Offene Spiele-Gruppe
DESCRIPTION:
URL:https://eimsbuettel-senioren.de/angebot/offene-spiele-gruppe-2/2026-05-06/
LOCATION:AWO Aktivtreff Stellingen\, Jugendstr. 11\, Hamburg\, Hamburg\, 22527\, Deutschland
CATEGORIES:Spiel / Gesellschaft
END:VEVENT
BEGIN:VEVENT
DTSTART;TZID=Europe/Berlin:20260513T140000
DTEND;TZID=Europe/Berlin:20260513T180000
DTSTAMP:20260421T144502
CREATED:20240909T122437Z
LAST-MODIFIED:20240909T122437Z
UID:10026158-1778680800-1778695200@eimsbuettel-senioren.de
SUMMARY:Offene Spiele-Gruppe
DESCRIPTION:
URL:https://eimsbuettel-senioren.de/angebot/offene-spiele-gruppe-2/2026-05-13/
LOCATION:AWO Aktivtreff Stellingen\, Jugendstr. 11\, Hamburg\, Hamburg\, 22527\, Deutschland
CATEGORIES:Spiel / Gesellschaft
END:VEVENT
BEGIN:VEVENT
DTSTART;TZID=Europe/Berlin:20260520T140000
DTEND;TZID=Europe/Berlin:20260520T180000
DTSTAMP:20260421T144502
CREATED:20240909T122437Z
LAST-MODIFIED:20240909T122437Z
UID:10026159-1779285600-1779300000@eimsbuettel-senioren.de
SUMMARY:Offene Spiele-Gruppe
DESCRIPTION:
URL:https://eimsbuettel-senioren.de/angebot/offene-spiele-gruppe-2/2026-05-20/
LOCATION:AWO Aktivtreff Stellingen\, Jugendstr. 11\, Hamburg\, Hamburg\, 22527\, Deutschland
CATEGORIES:Spiel / Gesellschaft
END:VEVENT
BEGIN:VEVENT
DTSTART;TZID=Europe/Berlin:20260527T140000
DTEND;TZID=Europe/Berlin:20260527T180000
DTSTAMP:20260421T144503
CREATED:20240909T122437Z
LAST-MODIFIED:20240909T122437Z
UID:10026160-1779890400-1779904800@eimsbuettel-senioren.de
SUMMARY:Offene Spiele-Gruppe
DESCRIPTION:
URL:https://eimsbuettel-senioren.de/angebot/offene-spiele-gruppe-2/2026-05-27/
LOCATION:AWO Aktivtreff Stellingen\, Jugendstr. 11\, Hamburg\, Hamburg\, 22527\, Deutschland
CATEGORIES:Spiel / Gesellschaft
END:VEVENT
BEGIN:VEVENT
DTSTART;TZID=Europe/Berlin:20260603T140000
DTEND;TZID=Europe/Berlin:20260603T180000
DTSTAMP:20260421T144503
CREATED:20240909T122437Z
LAST-MODIFIED:20240909T122437Z
UID:10026161-1780495200-1780509600@eimsbuettel-senioren.de
SUMMARY:Offene Spiele-Gruppe
DESCRIPTION:
URL:https://eimsbuettel-senioren.de/angebot/offene-spiele-gruppe-2/2026-06-03/
LOCATION:AWO Aktivtreff Stellingen\, Jugendstr. 11\, Hamburg\, Hamburg\, 22527\, Deutschland
CATEGORIES:Spiel / Gesellschaft
END:VEVENT
BEGIN:VEVENT
DTSTART;TZID=Europe/Berlin:20260610T140000
DTEND;TZID=Europe/Berlin:20260610T180000
DTSTAMP:20260421T144503
CREATED:20240909T122437Z
LAST-MODIFIED:20240909T122437Z
UID:10026162-1781100000-1781114400@eimsbuettel-senioren.de
SUMMARY:Offene Spiele-Gruppe
DESCRIPTION:
URL:https://eimsbuettel-senioren.de/angebot/offene-spiele-gruppe-2/2026-06-10/
LOCATION:AWO Aktivtreff Stellingen\, Jugendstr. 11\, Hamburg\, Hamburg\, 22527\, Deutschland
CATEGORIES:Spiel / Gesellschaft
END:VEVENT
BEGIN:VEVENT
DTSTART;TZID=Europe/Berlin:20260617T140000
DTEND;TZID=Europe/Berlin:20260617T180000
DTSTAMP:20260421T144503
CREATED:20240909T122437Z
LAST-MODIFIED:20240909T122437Z
UID:10026163-1781704800-1781719200@eimsbuettel-senioren.de
SUMMARY:Offene Spiele-Gruppe
DESCRIPTION:
URL:https://eimsbuettel-senioren.de/angebot/offene-spiele-gruppe-2/2026-06-17/
LOCATION:AWO Aktivtreff Stellingen\, Jugendstr. 11\, Hamburg\, Hamburg\, 22527\, Deutschland
CATEGORIES:Spiel / Gesellschaft
END:VEVENT
BEGIN:VEVENT
DTSTART;TZID=Europe/Berlin:20260624T140000
DTEND;TZID=Europe/Berlin:20260624T180000
DTSTAMP:20260421T144503
CREATED:20240909T122437Z
LAST-MODIFIED:20240909T122437Z
UID:10026164-1782309600-1782324000@eimsbuettel-senioren.de
SUMMARY:Offene Spiele-Gruppe
DESCRIPTION:
URL:https://eimsbuettel-senioren.de/angebot/offene-spiele-gruppe-2/2026-06-24/
LOCATION:AWO Aktivtreff Stellingen\, Jugendstr. 11\, Hamburg\, Hamburg\, 22527\, Deutschland
CATEGORIES:Spiel / Gesellschaft
END:VEVENT
BEGIN:VEVENT
DTSTART;TZID=Europe/Berlin:20260701T140000
DTEND;TZID=Europe/Berlin:20260701T180000
DTSTAMP:20260421T144503
CREATED:20240909T122437Z
LAST-MODIFIED:20240909T122437Z
UID:10026165-1782914400-1782928800@eimsbuettel-senioren.de
SUMMARY:Offene Spiele-Gruppe
DESCRIPTION:
URL:https://eimsbuettel-senioren.de/angebot/offene-spiele-gruppe-2/2026-07-01/
LOCATION:AWO Aktivtreff Stellingen\, Jugendstr. 11\, Hamburg\, Hamburg\, 22527\, Deutschland
CATEGORIES:Spiel / Gesellschaft
END:VEVENT
BEGIN:VEVENT
DTSTART;TZID=Europe/Berlin:20260708T140000
DTEND;TZID=Europe/Berlin:20260708T180000
DTSTAMP:20260421T144503
CREATED:20240909T122437Z
LAST-MODIFIED:20240909T122437Z
UID:10026166-1783519200-1783533600@eimsbuettel-senioren.de
SUMMARY:Offene Spiele-Gruppe
DESCRIPTION:
URL:https://eimsbuettel-senioren.de/angebot/offene-spiele-gruppe-2/2026-07-08/
LOCATION:AWO Aktivtreff Stellingen\, Jugendstr. 11\, Hamburg\, Hamburg\, 22527\, Deutschland
CATEGORIES:Spiel / Gesellschaft
END:VEVENT
BEGIN:VEVENT
DTSTART;TZID=Europe/Berlin:20260715T140000
DTEND;TZID=Europe/Berlin:20260715T180000
DTSTAMP:20260421T144503
CREATED:20240909T122437Z
LAST-MODIFIED:20240909T122437Z
UID:10026167-1784124000-1784138400@eimsbuettel-senioren.de
SUMMARY:Offene Spiele-Gruppe
DESCRIPTION:
URL:https://eimsbuettel-senioren.de/angebot/offene-spiele-gruppe-2/2026-07-15/
LOCATION:AWO Aktivtreff Stellingen\, Jugendstr. 11\, Hamburg\, Hamburg\, 22527\, Deutschland
CATEGORIES:Spiel / Gesellschaft
END:VEVENT
BEGIN:VEVENT
DTSTART;TZID=Europe/Berlin:20260722T140000
DTEND;TZID=Europe/Berlin:20260722T180000
DTSTAMP:20260421T144503
CREATED:20240909T122437Z
LAST-MODIFIED:20240909T122437Z
UID:10026168-1784728800-1784743200@eimsbuettel-senioren.de
SUMMARY:Offene Spiele-Gruppe
DESCRIPTION:
URL:https://eimsbuettel-senioren.de/angebot/offene-spiele-gruppe-2/2026-07-22/
LOCATION:AWO Aktivtreff Stellingen\, Jugendstr. 11\, Hamburg\, Hamburg\, 22527\, Deutschland
CATEGORIES:Spiel / Gesellschaft
END:VEVENT
BEGIN:VEVENT
DTSTART;TZID=Europe/Berlin:20260729T140000
DTEND;TZID=Europe/Berlin:20260729T180000
DTSTAMP:20260421T144503
CREATED:20240909T122437Z
LAST-MODIFIED:20240909T122437Z
UID:10026169-1785333600-1785348000@eimsbuettel-senioren.de
SUMMARY:Offene Spiele-Gruppe
DESCRIPTION:
URL:https://eimsbuettel-senioren.de/angebot/offene-spiele-gruppe-2/2026-07-29/
LOCATION:AWO Aktivtreff Stellingen\, Jugendstr. 11\, Hamburg\, Hamburg\, 22527\, Deutschland
CATEGORIES:Spiel / Gesellschaft
END:VEVENT
BEGIN:VEVENT
DTSTART;TZID=Europe/Berlin:20260805T140000
DTEND;TZID=Europe/Berlin:20260805T180000
DTSTAMP:20260421T144503
CREATED:20240909T122437Z
LAST-MODIFIED:20240909T122437Z
UID:10026170-1785938400-1785952800@eimsbuettel-senioren.de
SUMMARY:Offene Spiele-Gruppe
DESCRIPTION:
URL:https://eimsbuettel-senioren.de/angebot/offene-spiele-gruppe-2/2026-08-05/
LOCATION:AWO Aktivtreff Stellingen\, Jugendstr. 11\, Hamburg\, Hamburg\, 22527\, Deutschland
CATEGORIES:Spiel / Gesellschaft
END:VEVENT
BEGIN:VEVENT
DTSTART;TZID=Europe/Berlin:20260812T140000
DTEND;TZID=Europe/Berlin:20260812T180000
DTSTAMP:20260421T144503
CREATED:20240909T122437Z
LAST-MODIFIED:20240909T122437Z
UID:10026171-1786543200-1786557600@eimsbuettel-senioren.de
SUMMARY:Offene Spiele-Gruppe
DESCRIPTION:
URL:https://eimsbuettel-senioren.de/angebot/offene-spiele-gruppe-2/2026-08-12/
LOCATION:AWO Aktivtreff Stellingen\, Jugendstr. 11\, Hamburg\, Hamburg\, 22527\, Deutschland
CATEGORIES:Spiel / Gesellschaft
END:VEVENT
BEGIN:VEVENT
DTSTART;TZID=Europe/Berlin:20260819T140000
DTEND;TZID=Europe/Berlin:20260819T180000
DTSTAMP:20260421T144503
CREATED:20240909T122437Z
LAST-MODIFIED:20240909T122437Z
UID:10026172-1787148000-1787162400@eimsbuettel-senioren.de
SUMMARY:Offene Spiele-Gruppe
DESCRIPTION:
URL:https://eimsbuettel-senioren.de/angebot/offene-spiele-gruppe-2/2026-08-19/
LOCATION:AWO Aktivtreff Stellingen\, Jugendstr. 11\, Hamburg\, Hamburg\, 22527\, Deutschland
CATEGORIES:Spiel / Gesellschaft
END:VEVENT
BEGIN:VEVENT
DTSTART;TZID=Europe/Berlin:20260826T140000
DTEND;TZID=Europe/Berlin:20260826T180000
DTSTAMP:20260421T144503
CREATED:20240909T122437Z
LAST-MODIFIED:20240909T122437Z
UID:10026173-1787752800-1787767200@eimsbuettel-senioren.de
SUMMARY:Offene Spiele-Gruppe
DESCRIPTION:
URL:https://eimsbuettel-senioren.de/angebot/offene-spiele-gruppe-2/2026-08-26/
LOCATION:AWO Aktivtreff Stellingen\, Jugendstr. 11\, Hamburg\, Hamburg\, 22527\, Deutschland
CATEGORIES:Spiel / Gesellschaft
END:VEVENT
BEGIN:VEVENT
DTSTART;TZID=Europe/Berlin:20260902T140000
DTEND;TZID=Europe/Berlin:20260902T180000
DTSTAMP:20260421T144503
CREATED:20240909T122437Z
LAST-MODIFIED:20240909T122437Z
UID:10026174-1788357600-1788372000@eimsbuettel-senioren.de
SUMMARY:Offene Spiele-Gruppe
DESCRIPTION:
URL:https://eimsbuettel-senioren.de/angebot/offene-spiele-gruppe-2/2026-09-02/
LOCATION:AWO Aktivtreff Stellingen\, Jugendstr. 11\, Hamburg\, Hamburg\, 22527\, Deutschland
CATEGORIES:Spiel / Gesellschaft
END:VEVENT
BEGIN:VEVENT
DTSTART;TZID=Europe/Berlin:20260909T140000
DTEND;TZID=Europe/Berlin:20260909T180000
DTSTAMP:20260421T144503
CREATED:20240909T122437Z
LAST-MODIFIED:20240909T122437Z
UID:10026175-1788962400-1788976800@eimsbuettel-senioren.de
SUMMARY:Offene Spiele-Gruppe
DESCRIPTION:
URL:https://eimsbuettel-senioren.de/angebot/offene-spiele-gruppe-2/2026-09-09/
LOCATION:AWO Aktivtreff Stellingen\, Jugendstr. 11\, Hamburg\, Hamburg\, 22527\, Deutschland
CATEGORIES:Spiel / Gesellschaft
END:VEVENT
BEGIN:VEVENT
DTSTART;TZID=Europe/Berlin:20260916T140000
DTEND;TZID=Europe/Berlin:20260916T180000
DTSTAMP:20260421T144503
CREATED:20240909T122437Z
LAST-MODIFIED:20240909T122437Z
UID:10026176-1789567200-1789581600@eimsbuettel-senioren.de
SUMMARY:Offene Spiele-Gruppe
DESCRIPTION:
URL:https://eimsbuettel-senioren.de/angebot/offene-spiele-gruppe-2/2026-09-16/
LOCATION:AWO Aktivtreff Stellingen\, Jugendstr. 11\, Hamburg\, Hamburg\, 22527\, Deutschland
CATEGORIES:Spiel / Gesellschaft
END:VEVENT
BEGIN:VEVENT
DTSTART;TZID=Europe/Berlin:20260923T140000
DTEND;TZID=Europe/Berlin:20260923T180000
DTSTAMP:20260421T144503
CREATED:20240909T122437Z
LAST-MODIFIED:20240909T122437Z
UID:10026177-1790172000-1790186400@eimsbuettel-senioren.de
SUMMARY:Offene Spiele-Gruppe
DESCRIPTION:
URL:https://eimsbuettel-senioren.de/angebot/offene-spiele-gruppe-2/2026-09-23/
LOCATION:AWO Aktivtreff Stellingen\, Jugendstr. 11\, Hamburg\, Hamburg\, 22527\, Deutschland
CATEGORIES:Spiel / Gesellschaft
END:VEVENT
BEGIN:VEVENT
DTSTART;TZID=Europe/Berlin:20260930T140000
DTEND;TZID=Europe/Berlin:20260930T180000
DTSTAMP:20260421T144503
CREATED:20240909T122437Z
LAST-MODIFIED:20240909T122437Z
UID:10026178-1790776800-1790791200@eimsbuettel-senioren.de
SUMMARY:Offene Spiele-Gruppe
DESCRIPTION:
URL:https://eimsbuettel-senioren.de/angebot/offene-spiele-gruppe-2/2026-09-30/
LOCATION:AWO Aktivtreff Stellingen\, Jugendstr. 11\, Hamburg\, Hamburg\, 22527\, Deutschland
CATEGORIES:Spiel / Gesellschaft
END:VEVENT
BEGIN:VEVENT
DTSTART;TZID=Europe/Berlin:20261007T140000
DTEND;TZID=Europe/Berlin:20261007T180000
DTSTAMP:20260421T144503
CREATED:20240909T122437Z
LAST-MODIFIED:20240909T122437Z
UID:10026179-1791381600-1791396000@eimsbuettel-senioren.de
SUMMARY:Offene Spiele-Gruppe
DESCRIPTION:
URL:https://eimsbuettel-senioren.de/angebot/offene-spiele-gruppe-2/2026-10-07/
LOCATION:AWO Aktivtreff Stellingen\, Jugendstr. 11\, Hamburg\, Hamburg\, 22527\, Deutschland
CATEGORIES:Spiel / Gesellschaft
END:VEVENT
BEGIN:VEVENT
DTSTART;TZID=Europe/Berlin:20261014T140000
DTEND;TZID=Europe/Berlin:20261014T180000
DTSTAMP:20260421T144503
CREATED:20240909T122437Z
LAST-MODIFIED:20240909T122437Z
UID:10026180-1791986400-1792000800@eimsbuettel-senioren.de
SUMMARY:Offene Spiele-Gruppe
DESCRIPTION:
URL:https://eimsbuettel-senioren.de/angebot/offene-spiele-gruppe-2/2026-10-14/
LOCATION:AWO Aktivtreff Stellingen\, Jugendstr. 11\, Hamburg\, Hamburg\, 22527\, Deutschland
CATEGORIES:Spiel / Gesellschaft
END:VEVENT
BEGIN:VEVENT
DTSTART;TZID=Europe/Berlin:20261021T140000
DTEND;TZID=Europe/Berlin:20261021T180000
DTSTAMP:20260421T144503
CREATED:20240909T122437Z
LAST-MODIFIED:20240909T122437Z
UID:10026181-1792591200-1792605600@eimsbuettel-senioren.de
SUMMARY:Offene Spiele-Gruppe
DESCRIPTION:
URL:https://eimsbuettel-senioren.de/angebot/offene-spiele-gruppe-2/2026-10-21/
LOCATION:AWO Aktivtreff Stellingen\, Jugendstr. 11\, Hamburg\, Hamburg\, 22527\, Deutschland
CATEGORIES:Spiel / Gesellschaft
END:VEVENT
BEGIN:VEVENT
DTSTART;TZID=Europe/Berlin:20261028T140000
DTEND;TZID=Europe/Berlin:20261028T180000
DTSTAMP:20260421T144503
CREATED:20240909T122437Z
LAST-MODIFIED:20240909T122437Z
UID:10026182-1793196000-1793210400@eimsbuettel-senioren.de
SUMMARY:Offene Spiele-Gruppe
DESCRIPTION:
URL:https://eimsbuettel-senioren.de/angebot/offene-spiele-gruppe-2/2026-10-28/
LOCATION:AWO Aktivtreff Stellingen\, Jugendstr. 11\, Hamburg\, Hamburg\, 22527\, Deutschland
CATEGORIES:Spiel / Gesellschaft
END:VEVENT
BEGIN:VEVENT
DTSTART;TZID=Europe/Berlin:20261104T140000
DTEND;TZID=Europe/Berlin:20261104T180000
DTSTAMP:20260421T144503
CREATED:20240909T122437Z
LAST-MODIFIED:20240909T122437Z
UID:10026183-1793800800-1793815200@eimsbuettel-senioren.de
SUMMARY:Offene Spiele-Gruppe
DESCRIPTION:
URL:https://eimsbuettel-senioren.de/angebot/offene-spiele-gruppe-2/2026-11-04/
LOCATION:AWO Aktivtreff Stellingen\, Jugendstr. 11\, Hamburg\, Hamburg\, 22527\, Deutschland
CATEGORIES:Spiel / Gesellschaft
END:VEVENT
BEGIN:VEVENT
DTSTART;TZID=Europe/Berlin:20261111T140000
DTEND;TZID=Europe/Berlin:20261111T180000
DTSTAMP:20260421T144503
CREATED:20240909T122437Z
LAST-MODIFIED:20240909T122437Z
UID:10026184-1794405600-1794420000@eimsbuettel-senioren.de
SUMMARY:Offene Spiele-Gruppe
DESCRIPTION:
URL:https://eimsbuettel-senioren.de/angebot/offene-spiele-gruppe-2/2026-11-11/
LOCATION:AWO Aktivtreff Stellingen\, Jugendstr. 11\, Hamburg\, Hamburg\, 22527\, Deutschland
CATEGORIES:Spiel / Gesellschaft
END:VEVENT
END:VCALENDAR