BEGIN:VCALENDAR
VERSION:2.0
PRODID:-//Angebote für Seniorinnen und Senioren im Bezirk Eimsbüttel - ECPv6.15.18//NONSGML v1.0//EN
CALSCALE:GREGORIAN
METHOD:PUBLISH
X-WR-CALNAME:Angebote für Seniorinnen und Senioren im Bezirk Eimsbüttel
X-ORIGINAL-URL:https://eimsbuettel-senioren.de
X-WR-CALDESC:Veranstaltungen für Angebote für Seniorinnen und Senioren im Bezirk Eimsbüttel
REFRESH-INTERVAL;VALUE=DURATION:PT1H
X-Robots-Tag:noindex
X-PUBLISHED-TTL:PT1H
BEGIN:VTIMEZONE
TZID:Europe/Berlin
BEGIN:DAYLIGHT
TZOFFSETFROM:+0100
TZOFFSETTO:+0200
TZNAME:CEST
DTSTART:20250330T010000
END:DAYLIGHT
BEGIN:STANDARD
TZOFFSETFROM:+0200
TZOFFSETTO:+0100
TZNAME:CET
DTSTART:20251026T010000
END:STANDARD
BEGIN:DAYLIGHT
TZOFFSETFROM:+0100
TZOFFSETTO:+0200
TZNAME:CEST
DTSTART:20260329T010000
END:DAYLIGHT
BEGIN:STANDARD
TZOFFSETFROM:+0200
TZOFFSETTO:+0100
TZNAME:CET
DTSTART:20261025T010000
END:STANDARD
BEGIN:DAYLIGHT
TZOFFSETFROM:+0100
TZOFFSETTO:+0200
TZNAME:CEST
DTSTART:20270328T010000
END:DAYLIGHT
BEGIN:STANDARD
TZOFFSETFROM:+0200
TZOFFSETTO:+0100
TZNAME:CET
DTSTART:20271031T010000
END:STANDARD
END:VTIMEZONE
BEGIN:VEVENT
DTSTART;TZID=Europe/Berlin:20260422T140000
DTEND;TZID=Europe/Berlin:20260422T170000
DTSTAMP:20260421T143254
CREATED:20240909T121526Z
LAST-MODIFIED:20240909T121526Z
UID:10025633-1776866400-1776877200@eimsbuettel-senioren.de
SUMMARY:Offener Treff im Internet-Cafe
DESCRIPTION:
URL:https://eimsbuettel-senioren.de/angebot/offener-treff-im-internet-cafe/2026-04-22/
LOCATION:AWO Aktivtreff Stellingen\, Jugendstr. 11\, Hamburg\, Hamburg\, 22527\, Deutschland
CATEGORIES:Beratung,Sonstiges,Spiel / Gesellschaft
END:VEVENT
BEGIN:VEVENT
DTSTART;TZID=Europe/Berlin:20260429T140000
DTEND;TZID=Europe/Berlin:20260429T170000
DTSTAMP:20260421T143254
CREATED:20240909T121526Z
LAST-MODIFIED:20240909T121526Z
UID:10025634-1777471200-1777482000@eimsbuettel-senioren.de
SUMMARY:Offener Treff im Internet-Cafe
DESCRIPTION:
URL:https://eimsbuettel-senioren.de/angebot/offener-treff-im-internet-cafe/2026-04-29/
LOCATION:AWO Aktivtreff Stellingen\, Jugendstr. 11\, Hamburg\, Hamburg\, 22527\, Deutschland
CATEGORIES:Beratung,Sonstiges,Spiel / Gesellschaft
END:VEVENT
BEGIN:VEVENT
DTSTART;TZID=Europe/Berlin:20260506T140000
DTEND;TZID=Europe/Berlin:20260506T170000
DTSTAMP:20260421T143254
CREATED:20240909T121526Z
LAST-MODIFIED:20240909T121526Z
UID:10025635-1778076000-1778086800@eimsbuettel-senioren.de
SUMMARY:Offener Treff im Internet-Cafe
DESCRIPTION:
URL:https://eimsbuettel-senioren.de/angebot/offener-treff-im-internet-cafe/2026-05-06/
LOCATION:AWO Aktivtreff Stellingen\, Jugendstr. 11\, Hamburg\, Hamburg\, 22527\, Deutschland
CATEGORIES:Beratung,Sonstiges,Spiel / Gesellschaft
END:VEVENT
BEGIN:VEVENT
DTSTART;TZID=Europe/Berlin:20260513T140000
DTEND;TZID=Europe/Berlin:20260513T170000
DTSTAMP:20260421T143254
CREATED:20240909T121526Z
LAST-MODIFIED:20240909T121526Z
UID:10025636-1778680800-1778691600@eimsbuettel-senioren.de
SUMMARY:Offener Treff im Internet-Cafe
DESCRIPTION:
URL:https://eimsbuettel-senioren.de/angebot/offener-treff-im-internet-cafe/2026-05-13/
LOCATION:AWO Aktivtreff Stellingen\, Jugendstr. 11\, Hamburg\, Hamburg\, 22527\, Deutschland
CATEGORIES:Beratung,Sonstiges,Spiel / Gesellschaft
END:VEVENT
BEGIN:VEVENT
DTSTART;TZID=Europe/Berlin:20260520T140000
DTEND;TZID=Europe/Berlin:20260520T170000
DTSTAMP:20260421T143254
CREATED:20240909T121526Z
LAST-MODIFIED:20240909T121526Z
UID:10025637-1779285600-1779296400@eimsbuettel-senioren.de
SUMMARY:Offener Treff im Internet-Cafe
DESCRIPTION:
URL:https://eimsbuettel-senioren.de/angebot/offener-treff-im-internet-cafe/2026-05-20/
LOCATION:AWO Aktivtreff Stellingen\, Jugendstr. 11\, Hamburg\, Hamburg\, 22527\, Deutschland
CATEGORIES:Beratung,Sonstiges,Spiel / Gesellschaft
END:VEVENT
BEGIN:VEVENT
DTSTART;TZID=Europe/Berlin:20260527T140000
DTEND;TZID=Europe/Berlin:20260527T170000
DTSTAMP:20260421T143254
CREATED:20240909T121526Z
LAST-MODIFIED:20240909T121526Z
UID:10025638-1779890400-1779901200@eimsbuettel-senioren.de
SUMMARY:Offener Treff im Internet-Cafe
DESCRIPTION:
URL:https://eimsbuettel-senioren.de/angebot/offener-treff-im-internet-cafe/2026-05-27/
LOCATION:AWO Aktivtreff Stellingen\, Jugendstr. 11\, Hamburg\, Hamburg\, 22527\, Deutschland
CATEGORIES:Beratung,Sonstiges,Spiel / Gesellschaft
END:VEVENT
BEGIN:VEVENT
DTSTART;TZID=Europe/Berlin:20260603T140000
DTEND;TZID=Europe/Berlin:20260603T170000
DTSTAMP:20260421T143254
CREATED:20240909T121526Z
LAST-MODIFIED:20240909T121526Z
UID:10025639-1780495200-1780506000@eimsbuettel-senioren.de
SUMMARY:Offener Treff im Internet-Cafe
DESCRIPTION:
URL:https://eimsbuettel-senioren.de/angebot/offener-treff-im-internet-cafe/2026-06-03/
LOCATION:AWO Aktivtreff Stellingen\, Jugendstr. 11\, Hamburg\, Hamburg\, 22527\, Deutschland
CATEGORIES:Beratung,Sonstiges,Spiel / Gesellschaft
END:VEVENT
BEGIN:VEVENT
DTSTART;TZID=Europe/Berlin:20260610T140000
DTEND;TZID=Europe/Berlin:20260610T170000
DTSTAMP:20260421T143254
CREATED:20240909T121526Z
LAST-MODIFIED:20240909T121526Z
UID:10025640-1781100000-1781110800@eimsbuettel-senioren.de
SUMMARY:Offener Treff im Internet-Cafe
DESCRIPTION:
URL:https://eimsbuettel-senioren.de/angebot/offener-treff-im-internet-cafe/2026-06-10/
LOCATION:AWO Aktivtreff Stellingen\, Jugendstr. 11\, Hamburg\, Hamburg\, 22527\, Deutschland
CATEGORIES:Beratung,Sonstiges,Spiel / Gesellschaft
END:VEVENT
BEGIN:VEVENT
DTSTART;TZID=Europe/Berlin:20260617T140000
DTEND;TZID=Europe/Berlin:20260617T170000
DTSTAMP:20260421T143254
CREATED:20240909T121526Z
LAST-MODIFIED:20240909T121526Z
UID:10025641-1781704800-1781715600@eimsbuettel-senioren.de
SUMMARY:Offener Treff im Internet-Cafe
DESCRIPTION:
URL:https://eimsbuettel-senioren.de/angebot/offener-treff-im-internet-cafe/2026-06-17/
LOCATION:AWO Aktivtreff Stellingen\, Jugendstr. 11\, Hamburg\, Hamburg\, 22527\, Deutschland
CATEGORIES:Beratung,Sonstiges,Spiel / Gesellschaft
END:VEVENT
BEGIN:VEVENT
DTSTART;TZID=Europe/Berlin:20260624T140000
DTEND;TZID=Europe/Berlin:20260624T170000
DTSTAMP:20260421T143254
CREATED:20240909T121526Z
LAST-MODIFIED:20240909T121526Z
UID:10025642-1782309600-1782320400@eimsbuettel-senioren.de
SUMMARY:Offener Treff im Internet-Cafe
DESCRIPTION:
URL:https://eimsbuettel-senioren.de/angebot/offener-treff-im-internet-cafe/2026-06-24/
LOCATION:AWO Aktivtreff Stellingen\, Jugendstr. 11\, Hamburg\, Hamburg\, 22527\, Deutschland
CATEGORIES:Beratung,Sonstiges,Spiel / Gesellschaft
END:VEVENT
BEGIN:VEVENT
DTSTART;TZID=Europe/Berlin:20260701T140000
DTEND;TZID=Europe/Berlin:20260701T170000
DTSTAMP:20260421T143254
CREATED:20240909T121526Z
LAST-MODIFIED:20240909T121526Z
UID:10025643-1782914400-1782925200@eimsbuettel-senioren.de
SUMMARY:Offener Treff im Internet-Cafe
DESCRIPTION:
URL:https://eimsbuettel-senioren.de/angebot/offener-treff-im-internet-cafe/2026-07-01/
LOCATION:AWO Aktivtreff Stellingen\, Jugendstr. 11\, Hamburg\, Hamburg\, 22527\, Deutschland
CATEGORIES:Beratung,Sonstiges,Spiel / Gesellschaft
END:VEVENT
BEGIN:VEVENT
DTSTART;TZID=Europe/Berlin:20260708T140000
DTEND;TZID=Europe/Berlin:20260708T170000
DTSTAMP:20260421T143254
CREATED:20240909T121526Z
LAST-MODIFIED:20240909T121526Z
UID:10025644-1783519200-1783530000@eimsbuettel-senioren.de
SUMMARY:Offener Treff im Internet-Cafe
DESCRIPTION:
URL:https://eimsbuettel-senioren.de/angebot/offener-treff-im-internet-cafe/2026-07-08/
LOCATION:AWO Aktivtreff Stellingen\, Jugendstr. 11\, Hamburg\, Hamburg\, 22527\, Deutschland
CATEGORIES:Beratung,Sonstiges,Spiel / Gesellschaft
END:VEVENT
BEGIN:VEVENT
DTSTART;TZID=Europe/Berlin:20260715T140000
DTEND;TZID=Europe/Berlin:20260715T170000
DTSTAMP:20260421T143254
CREATED:20240909T121526Z
LAST-MODIFIED:20240909T121526Z
UID:10025645-1784124000-1784134800@eimsbuettel-senioren.de
SUMMARY:Offener Treff im Internet-Cafe
DESCRIPTION:
URL:https://eimsbuettel-senioren.de/angebot/offener-treff-im-internet-cafe/2026-07-15/
LOCATION:AWO Aktivtreff Stellingen\, Jugendstr. 11\, Hamburg\, Hamburg\, 22527\, Deutschland
CATEGORIES:Beratung,Sonstiges,Spiel / Gesellschaft
END:VEVENT
BEGIN:VEVENT
DTSTART;TZID=Europe/Berlin:20260722T140000
DTEND;TZID=Europe/Berlin:20260722T170000
DTSTAMP:20260421T143254
CREATED:20240909T121526Z
LAST-MODIFIED:20240909T121526Z
UID:10025646-1784728800-1784739600@eimsbuettel-senioren.de
SUMMARY:Offener Treff im Internet-Cafe
DESCRIPTION:
URL:https://eimsbuettel-senioren.de/angebot/offener-treff-im-internet-cafe/2026-07-22/
LOCATION:AWO Aktivtreff Stellingen\, Jugendstr. 11\, Hamburg\, Hamburg\, 22527\, Deutschland
CATEGORIES:Beratung,Sonstiges,Spiel / Gesellschaft
END:VEVENT
BEGIN:VEVENT
DTSTART;TZID=Europe/Berlin:20260729T140000
DTEND;TZID=Europe/Berlin:20260729T170000
DTSTAMP:20260421T143254
CREATED:20240909T121526Z
LAST-MODIFIED:20240909T121526Z
UID:10025647-1785333600-1785344400@eimsbuettel-senioren.de
SUMMARY:Offener Treff im Internet-Cafe
DESCRIPTION:
URL:https://eimsbuettel-senioren.de/angebot/offener-treff-im-internet-cafe/2026-07-29/
LOCATION:AWO Aktivtreff Stellingen\, Jugendstr. 11\, Hamburg\, Hamburg\, 22527\, Deutschland
CATEGORIES:Beratung,Sonstiges,Spiel / Gesellschaft
END:VEVENT
BEGIN:VEVENT
DTSTART;TZID=Europe/Berlin:20260805T140000
DTEND;TZID=Europe/Berlin:20260805T170000
DTSTAMP:20260421T143254
CREATED:20240909T121526Z
LAST-MODIFIED:20240909T121526Z
UID:10025648-1785938400-1785949200@eimsbuettel-senioren.de
SUMMARY:Offener Treff im Internet-Cafe
DESCRIPTION:
URL:https://eimsbuettel-senioren.de/angebot/offener-treff-im-internet-cafe/2026-08-05/
LOCATION:AWO Aktivtreff Stellingen\, Jugendstr. 11\, Hamburg\, Hamburg\, 22527\, Deutschland
CATEGORIES:Beratung,Sonstiges,Spiel / Gesellschaft
END:VEVENT
BEGIN:VEVENT
DTSTART;TZID=Europe/Berlin:20260812T140000
DTEND;TZID=Europe/Berlin:20260812T170000
DTSTAMP:20260421T143254
CREATED:20240909T121526Z
LAST-MODIFIED:20240909T121526Z
UID:10025649-1786543200-1786554000@eimsbuettel-senioren.de
SUMMARY:Offener Treff im Internet-Cafe
DESCRIPTION:
URL:https://eimsbuettel-senioren.de/angebot/offener-treff-im-internet-cafe/2026-08-12/
LOCATION:AWO Aktivtreff Stellingen\, Jugendstr. 11\, Hamburg\, Hamburg\, 22527\, Deutschland
CATEGORIES:Beratung,Sonstiges,Spiel / Gesellschaft
END:VEVENT
BEGIN:VEVENT
DTSTART;TZID=Europe/Berlin:20260819T140000
DTEND;TZID=Europe/Berlin:20260819T170000
DTSTAMP:20260421T143254
CREATED:20240909T121526Z
LAST-MODIFIED:20240909T121526Z
UID:10025650-1787148000-1787158800@eimsbuettel-senioren.de
SUMMARY:Offener Treff im Internet-Cafe
DESCRIPTION:
URL:https://eimsbuettel-senioren.de/angebot/offener-treff-im-internet-cafe/2026-08-19/
LOCATION:AWO Aktivtreff Stellingen\, Jugendstr. 11\, Hamburg\, Hamburg\, 22527\, Deutschland
CATEGORIES:Beratung,Sonstiges,Spiel / Gesellschaft
END:VEVENT
BEGIN:VEVENT
DTSTART;TZID=Europe/Berlin:20260826T140000
DTEND;TZID=Europe/Berlin:20260826T170000
DTSTAMP:20260421T143254
CREATED:20240909T121526Z
LAST-MODIFIED:20240909T121526Z
UID:10025651-1787752800-1787763600@eimsbuettel-senioren.de
SUMMARY:Offener Treff im Internet-Cafe
DESCRIPTION:
URL:https://eimsbuettel-senioren.de/angebot/offener-treff-im-internet-cafe/2026-08-26/
LOCATION:AWO Aktivtreff Stellingen\, Jugendstr. 11\, Hamburg\, Hamburg\, 22527\, Deutschland
CATEGORIES:Beratung,Sonstiges,Spiel / Gesellschaft
END:VEVENT
BEGIN:VEVENT
DTSTART;TZID=Europe/Berlin:20260902T140000
DTEND;TZID=Europe/Berlin:20260902T170000
DTSTAMP:20260421T143254
CREATED:20240909T121526Z
LAST-MODIFIED:20240909T121526Z
UID:10025652-1788357600-1788368400@eimsbuettel-senioren.de
SUMMARY:Offener Treff im Internet-Cafe
DESCRIPTION:
URL:https://eimsbuettel-senioren.de/angebot/offener-treff-im-internet-cafe/2026-09-02/
LOCATION:AWO Aktivtreff Stellingen\, Jugendstr. 11\, Hamburg\, Hamburg\, 22527\, Deutschland
CATEGORIES:Beratung,Sonstiges,Spiel / Gesellschaft
END:VEVENT
BEGIN:VEVENT
DTSTART;TZID=Europe/Berlin:20260909T140000
DTEND;TZID=Europe/Berlin:20260909T170000
DTSTAMP:20260421T143254
CREATED:20240909T121526Z
LAST-MODIFIED:20240909T121526Z
UID:10025653-1788962400-1788973200@eimsbuettel-senioren.de
SUMMARY:Offener Treff im Internet-Cafe
DESCRIPTION:
URL:https://eimsbuettel-senioren.de/angebot/offener-treff-im-internet-cafe/2026-09-09/
LOCATION:AWO Aktivtreff Stellingen\, Jugendstr. 11\, Hamburg\, Hamburg\, 22527\, Deutschland
CATEGORIES:Beratung,Sonstiges,Spiel / Gesellschaft
END:VEVENT
BEGIN:VEVENT
DTSTART;TZID=Europe/Berlin:20260916T140000
DTEND;TZID=Europe/Berlin:20260916T170000
DTSTAMP:20260421T143254
CREATED:20240909T121526Z
LAST-MODIFIED:20240909T121526Z
UID:10025654-1789567200-1789578000@eimsbuettel-senioren.de
SUMMARY:Offener Treff im Internet-Cafe
DESCRIPTION:
URL:https://eimsbuettel-senioren.de/angebot/offener-treff-im-internet-cafe/2026-09-16/
LOCATION:AWO Aktivtreff Stellingen\, Jugendstr. 11\, Hamburg\, Hamburg\, 22527\, Deutschland
CATEGORIES:Beratung,Sonstiges,Spiel / Gesellschaft
END:VEVENT
BEGIN:VEVENT
DTSTART;TZID=Europe/Berlin:20260923T140000
DTEND;TZID=Europe/Berlin:20260923T170000
DTSTAMP:20260421T143254
CREATED:20240909T121526Z
LAST-MODIFIED:20240909T121526Z
UID:10025655-1790172000-1790182800@eimsbuettel-senioren.de
SUMMARY:Offener Treff im Internet-Cafe
DESCRIPTION:
URL:https://eimsbuettel-senioren.de/angebot/offener-treff-im-internet-cafe/2026-09-23/
LOCATION:AWO Aktivtreff Stellingen\, Jugendstr. 11\, Hamburg\, Hamburg\, 22527\, Deutschland
CATEGORIES:Beratung,Sonstiges,Spiel / Gesellschaft
END:VEVENT
BEGIN:VEVENT
DTSTART;TZID=Europe/Berlin:20260930T140000
DTEND;TZID=Europe/Berlin:20260930T170000
DTSTAMP:20260421T143254
CREATED:20240909T121526Z
LAST-MODIFIED:20240909T121526Z
UID:10025656-1790776800-1790787600@eimsbuettel-senioren.de
SUMMARY:Offener Treff im Internet-Cafe
DESCRIPTION:
URL:https://eimsbuettel-senioren.de/angebot/offener-treff-im-internet-cafe/2026-09-30/
LOCATION:AWO Aktivtreff Stellingen\, Jugendstr. 11\, Hamburg\, Hamburg\, 22527\, Deutschland
CATEGORIES:Beratung,Sonstiges,Spiel / Gesellschaft
END:VEVENT
BEGIN:VEVENT
DTSTART;TZID=Europe/Berlin:20261007T140000
DTEND;TZID=Europe/Berlin:20261007T170000
DTSTAMP:20260421T143254
CREATED:20240909T121526Z
LAST-MODIFIED:20240909T121526Z
UID:10025657-1791381600-1791392400@eimsbuettel-senioren.de
SUMMARY:Offener Treff im Internet-Cafe
DESCRIPTION:
URL:https://eimsbuettel-senioren.de/angebot/offener-treff-im-internet-cafe/2026-10-07/
LOCATION:AWO Aktivtreff Stellingen\, Jugendstr. 11\, Hamburg\, Hamburg\, 22527\, Deutschland
CATEGORIES:Beratung,Sonstiges,Spiel / Gesellschaft
END:VEVENT
BEGIN:VEVENT
DTSTART;TZID=Europe/Berlin:20261014T140000
DTEND;TZID=Europe/Berlin:20261014T170000
DTSTAMP:20260421T143254
CREATED:20240909T121526Z
LAST-MODIFIED:20240909T121526Z
UID:10025658-1791986400-1791997200@eimsbuettel-senioren.de
SUMMARY:Offener Treff im Internet-Cafe
DESCRIPTION:
URL:https://eimsbuettel-senioren.de/angebot/offener-treff-im-internet-cafe/2026-10-14/
LOCATION:AWO Aktivtreff Stellingen\, Jugendstr. 11\, Hamburg\, Hamburg\, 22527\, Deutschland
CATEGORIES:Beratung,Sonstiges,Spiel / Gesellschaft
END:VEVENT
BEGIN:VEVENT
DTSTART;TZID=Europe/Berlin:20261021T140000
DTEND;TZID=Europe/Berlin:20261021T170000
DTSTAMP:20260421T143254
CREATED:20240909T121526Z
LAST-MODIFIED:20240909T121526Z
UID:10025659-1792591200-1792602000@eimsbuettel-senioren.de
SUMMARY:Offener Treff im Internet-Cafe
DESCRIPTION:
URL:https://eimsbuettel-senioren.de/angebot/offener-treff-im-internet-cafe/2026-10-21/
LOCATION:AWO Aktivtreff Stellingen\, Jugendstr. 11\, Hamburg\, Hamburg\, 22527\, Deutschland
CATEGORIES:Beratung,Sonstiges,Spiel / Gesellschaft
END:VEVENT
BEGIN:VEVENT
DTSTART;TZID=Europe/Berlin:20261028T140000
DTEND;TZID=Europe/Berlin:20261028T170000
DTSTAMP:20260421T143254
CREATED:20240909T121526Z
LAST-MODIFIED:20240909T121526Z
UID:10025660-1793196000-1793206800@eimsbuettel-senioren.de
SUMMARY:Offener Treff im Internet-Cafe
DESCRIPTION:
URL:https://eimsbuettel-senioren.de/angebot/offener-treff-im-internet-cafe/2026-10-28/
LOCATION:AWO Aktivtreff Stellingen\, Jugendstr. 11\, Hamburg\, Hamburg\, 22527\, Deutschland
CATEGORIES:Beratung,Sonstiges,Spiel / Gesellschaft
END:VEVENT
BEGIN:VEVENT
DTSTART;TZID=Europe/Berlin:20261104T140000
DTEND;TZID=Europe/Berlin:20261104T170000
DTSTAMP:20260421T143254
CREATED:20240909T121526Z
LAST-MODIFIED:20240909T121526Z
UID:10025661-1793800800-1793811600@eimsbuettel-senioren.de
SUMMARY:Offener Treff im Internet-Cafe
DESCRIPTION:
URL:https://eimsbuettel-senioren.de/angebot/offener-treff-im-internet-cafe/2026-11-04/
LOCATION:AWO Aktivtreff Stellingen\, Jugendstr. 11\, Hamburg\, Hamburg\, 22527\, Deutschland
CATEGORIES:Beratung,Sonstiges,Spiel / Gesellschaft
END:VEVENT
BEGIN:VEVENT
DTSTART;TZID=Europe/Berlin:20261111T140000
DTEND;TZID=Europe/Berlin:20261111T170000
DTSTAMP:20260421T143254
CREATED:20240909T121526Z
LAST-MODIFIED:20240909T121526Z
UID:10025662-1794405600-1794416400@eimsbuettel-senioren.de
SUMMARY:Offener Treff im Internet-Cafe
DESCRIPTION:
URL:https://eimsbuettel-senioren.de/angebot/offener-treff-im-internet-cafe/2026-11-11/
LOCATION:AWO Aktivtreff Stellingen\, Jugendstr. 11\, Hamburg\, Hamburg\, 22527\, Deutschland
CATEGORIES:Beratung,Sonstiges,Spiel / Gesellschaft
END:VEVENT
END:VCALENDAR