BEGIN:VCALENDAR
VERSION:2.0
PRODID:-//Angebote für Seniorinnen und Senioren im Bezirk Eimsbüttel - ECPv6.15.18//NONSGML v1.0//EN
CALSCALE:GREGORIAN
METHOD:PUBLISH
X-WR-CALNAME:Angebote für Seniorinnen und Senioren im Bezirk Eimsbüttel
X-ORIGINAL-URL:https://eimsbuettel-senioren.de
X-WR-CALDESC:Veranstaltungen für Angebote für Seniorinnen und Senioren im Bezirk Eimsbüttel
REFRESH-INTERVAL;VALUE=DURATION:PT1H
X-Robots-Tag:noindex
X-PUBLISHED-TTL:PT1H
BEGIN:VTIMEZONE
TZID:Europe/Berlin
BEGIN:DAYLIGHT
TZOFFSETFROM:+0100
TZOFFSETTO:+0200
TZNAME:CEST
DTSTART:20250330T010000
END:DAYLIGHT
BEGIN:STANDARD
TZOFFSETFROM:+0200
TZOFFSETTO:+0100
TZNAME:CET
DTSTART:20251026T010000
END:STANDARD
BEGIN:DAYLIGHT
TZOFFSETFROM:+0100
TZOFFSETTO:+0200
TZNAME:CEST
DTSTART:20260329T010000
END:DAYLIGHT
BEGIN:STANDARD
TZOFFSETFROM:+0200
TZOFFSETTO:+0100
TZNAME:CET
DTSTART:20261025T010000
END:STANDARD
BEGIN:DAYLIGHT
TZOFFSETFROM:+0100
TZOFFSETTO:+0200
TZNAME:CEST
DTSTART:20270328T010000
END:DAYLIGHT
BEGIN:STANDARD
TZOFFSETFROM:+0200
TZOFFSETTO:+0100
TZNAME:CET
DTSTART:20271031T010000
END:STANDARD
END:VTIMEZONE
BEGIN:VEVENT
DTSTART;TZID=Europe/Berlin:20260422T121500
DTEND;TZID=Europe/Berlin:20260422T131500
DTSTAMP:20260421T120353
CREATED:20240909T121329Z
LAST-MODIFIED:20240909T121329Z
UID:10025372-1776860100-1776863700@eimsbuettel-senioren.de
SUMMARY:Hockersport
DESCRIPTION:
URL:https://eimsbuettel-senioren.de/angebot/hockersport/2026-04-22/
LOCATION:AWO Aktivtreff Stellingen\, Jugendstr. 11\, Hamburg\, Hamburg\, 22527\, Deutschland
CATEGORIES:Bewegung / Gesundheit
END:VEVENT
BEGIN:VEVENT
DTSTART;TZID=Europe/Berlin:20260429T121500
DTEND;TZID=Europe/Berlin:20260429T131500
DTSTAMP:20260421T120353
CREATED:20240909T121329Z
LAST-MODIFIED:20240909T121329Z
UID:10025373-1777464900-1777468500@eimsbuettel-senioren.de
SUMMARY:Hockersport
DESCRIPTION:
URL:https://eimsbuettel-senioren.de/angebot/hockersport/2026-04-29/
LOCATION:AWO Aktivtreff Stellingen\, Jugendstr. 11\, Hamburg\, Hamburg\, 22527\, Deutschland
CATEGORIES:Bewegung / Gesundheit
END:VEVENT
BEGIN:VEVENT
DTSTART;TZID=Europe/Berlin:20260506T121500
DTEND;TZID=Europe/Berlin:20260506T131500
DTSTAMP:20260421T120353
CREATED:20240909T121329Z
LAST-MODIFIED:20240909T121329Z
UID:10025374-1778069700-1778073300@eimsbuettel-senioren.de
SUMMARY:Hockersport
DESCRIPTION:
URL:https://eimsbuettel-senioren.de/angebot/hockersport/2026-05-06/
LOCATION:AWO Aktivtreff Stellingen\, Jugendstr. 11\, Hamburg\, Hamburg\, 22527\, Deutschland
CATEGORIES:Bewegung / Gesundheit
END:VEVENT
BEGIN:VEVENT
DTSTART;TZID=Europe/Berlin:20260513T121500
DTEND;TZID=Europe/Berlin:20260513T131500
DTSTAMP:20260421T120353
CREATED:20240909T121329Z
LAST-MODIFIED:20240909T121329Z
UID:10025375-1778674500-1778678100@eimsbuettel-senioren.de
SUMMARY:Hockersport
DESCRIPTION:
URL:https://eimsbuettel-senioren.de/angebot/hockersport/2026-05-13/
LOCATION:AWO Aktivtreff Stellingen\, Jugendstr. 11\, Hamburg\, Hamburg\, 22527\, Deutschland
CATEGORIES:Bewegung / Gesundheit
END:VEVENT
BEGIN:VEVENT
DTSTART;TZID=Europe/Berlin:20260520T121500
DTEND;TZID=Europe/Berlin:20260520T131500
DTSTAMP:20260421T120353
CREATED:20240909T121329Z
LAST-MODIFIED:20240909T121329Z
UID:10025376-1779279300-1779282900@eimsbuettel-senioren.de
SUMMARY:Hockersport
DESCRIPTION:
URL:https://eimsbuettel-senioren.de/angebot/hockersport/2026-05-20/
LOCATION:AWO Aktivtreff Stellingen\, Jugendstr. 11\, Hamburg\, Hamburg\, 22527\, Deutschland
CATEGORIES:Bewegung / Gesundheit
END:VEVENT
BEGIN:VEVENT
DTSTART;TZID=Europe/Berlin:20260527T121500
DTEND;TZID=Europe/Berlin:20260527T131500
DTSTAMP:20260421T120353
CREATED:20240909T121329Z
LAST-MODIFIED:20240909T121329Z
UID:10025377-1779884100-1779887700@eimsbuettel-senioren.de
SUMMARY:Hockersport
DESCRIPTION:
URL:https://eimsbuettel-senioren.de/angebot/hockersport/2026-05-27/
LOCATION:AWO Aktivtreff Stellingen\, Jugendstr. 11\, Hamburg\, Hamburg\, 22527\, Deutschland
CATEGORIES:Bewegung / Gesundheit
END:VEVENT
BEGIN:VEVENT
DTSTART;TZID=Europe/Berlin:20260603T121500
DTEND;TZID=Europe/Berlin:20260603T131500
DTSTAMP:20260421T120353
CREATED:20240909T121329Z
LAST-MODIFIED:20240909T121329Z
UID:10025378-1780488900-1780492500@eimsbuettel-senioren.de
SUMMARY:Hockersport
DESCRIPTION:
URL:https://eimsbuettel-senioren.de/angebot/hockersport/2026-06-03/
LOCATION:AWO Aktivtreff Stellingen\, Jugendstr. 11\, Hamburg\, Hamburg\, 22527\, Deutschland
CATEGORIES:Bewegung / Gesundheit
END:VEVENT
BEGIN:VEVENT
DTSTART;TZID=Europe/Berlin:20260610T121500
DTEND;TZID=Europe/Berlin:20260610T131500
DTSTAMP:20260421T120353
CREATED:20240909T121329Z
LAST-MODIFIED:20240909T121329Z
UID:10025379-1781093700-1781097300@eimsbuettel-senioren.de
SUMMARY:Hockersport
DESCRIPTION:
URL:https://eimsbuettel-senioren.de/angebot/hockersport/2026-06-10/
LOCATION:AWO Aktivtreff Stellingen\, Jugendstr. 11\, Hamburg\, Hamburg\, 22527\, Deutschland
CATEGORIES:Bewegung / Gesundheit
END:VEVENT
BEGIN:VEVENT
DTSTART;TZID=Europe/Berlin:20260617T121500
DTEND;TZID=Europe/Berlin:20260617T131500
DTSTAMP:20260421T120353
CREATED:20240909T121329Z
LAST-MODIFIED:20240909T121329Z
UID:10025380-1781698500-1781702100@eimsbuettel-senioren.de
SUMMARY:Hockersport
DESCRIPTION:
URL:https://eimsbuettel-senioren.de/angebot/hockersport/2026-06-17/
LOCATION:AWO Aktivtreff Stellingen\, Jugendstr. 11\, Hamburg\, Hamburg\, 22527\, Deutschland
CATEGORIES:Bewegung / Gesundheit
END:VEVENT
BEGIN:VEVENT
DTSTART;TZID=Europe/Berlin:20260624T121500
DTEND;TZID=Europe/Berlin:20260624T131500
DTSTAMP:20260421T120353
CREATED:20240909T121329Z
LAST-MODIFIED:20240909T121329Z
UID:10025381-1782303300-1782306900@eimsbuettel-senioren.de
SUMMARY:Hockersport
DESCRIPTION:
URL:https://eimsbuettel-senioren.de/angebot/hockersport/2026-06-24/
LOCATION:AWO Aktivtreff Stellingen\, Jugendstr. 11\, Hamburg\, Hamburg\, 22527\, Deutschland
CATEGORIES:Bewegung / Gesundheit
END:VEVENT
BEGIN:VEVENT
DTSTART;TZID=Europe/Berlin:20260701T121500
DTEND;TZID=Europe/Berlin:20260701T131500
DTSTAMP:20260421T120353
CREATED:20240909T121329Z
LAST-MODIFIED:20240909T121329Z
UID:10025382-1782908100-1782911700@eimsbuettel-senioren.de
SUMMARY:Hockersport
DESCRIPTION:
URL:https://eimsbuettel-senioren.de/angebot/hockersport/2026-07-01/
LOCATION:AWO Aktivtreff Stellingen\, Jugendstr. 11\, Hamburg\, Hamburg\, 22527\, Deutschland
CATEGORIES:Bewegung / Gesundheit
END:VEVENT
BEGIN:VEVENT
DTSTART;TZID=Europe/Berlin:20260708T121500
DTEND;TZID=Europe/Berlin:20260708T131500
DTSTAMP:20260421T120353
CREATED:20240909T121329Z
LAST-MODIFIED:20240909T121329Z
UID:10025383-1783512900-1783516500@eimsbuettel-senioren.de
SUMMARY:Hockersport
DESCRIPTION:
URL:https://eimsbuettel-senioren.de/angebot/hockersport/2026-07-08/
LOCATION:AWO Aktivtreff Stellingen\, Jugendstr. 11\, Hamburg\, Hamburg\, 22527\, Deutschland
CATEGORIES:Bewegung / Gesundheit
END:VEVENT
BEGIN:VEVENT
DTSTART;TZID=Europe/Berlin:20260715T121500
DTEND;TZID=Europe/Berlin:20260715T131500
DTSTAMP:20260421T120353
CREATED:20240909T121329Z
LAST-MODIFIED:20240909T121329Z
UID:10025384-1784117700-1784121300@eimsbuettel-senioren.de
SUMMARY:Hockersport
DESCRIPTION:
URL:https://eimsbuettel-senioren.de/angebot/hockersport/2026-07-15/
LOCATION:AWO Aktivtreff Stellingen\, Jugendstr. 11\, Hamburg\, Hamburg\, 22527\, Deutschland
CATEGORIES:Bewegung / Gesundheit
END:VEVENT
BEGIN:VEVENT
DTSTART;TZID=Europe/Berlin:20260722T121500
DTEND;TZID=Europe/Berlin:20260722T131500
DTSTAMP:20260421T120353
CREATED:20240909T121329Z
LAST-MODIFIED:20240909T121329Z
UID:10025385-1784722500-1784726100@eimsbuettel-senioren.de
SUMMARY:Hockersport
DESCRIPTION:
URL:https://eimsbuettel-senioren.de/angebot/hockersport/2026-07-22/
LOCATION:AWO Aktivtreff Stellingen\, Jugendstr. 11\, Hamburg\, Hamburg\, 22527\, Deutschland
CATEGORIES:Bewegung / Gesundheit
END:VEVENT
BEGIN:VEVENT
DTSTART;TZID=Europe/Berlin:20260729T121500
DTEND;TZID=Europe/Berlin:20260729T131500
DTSTAMP:20260421T120353
CREATED:20240909T121329Z
LAST-MODIFIED:20240909T121329Z
UID:10025386-1785327300-1785330900@eimsbuettel-senioren.de
SUMMARY:Hockersport
DESCRIPTION:
URL:https://eimsbuettel-senioren.de/angebot/hockersport/2026-07-29/
LOCATION:AWO Aktivtreff Stellingen\, Jugendstr. 11\, Hamburg\, Hamburg\, 22527\, Deutschland
CATEGORIES:Bewegung / Gesundheit
END:VEVENT
BEGIN:VEVENT
DTSTART;TZID=Europe/Berlin:20260805T121500
DTEND;TZID=Europe/Berlin:20260805T131500
DTSTAMP:20260421T120353
CREATED:20240909T121329Z
LAST-MODIFIED:20240909T121329Z
UID:10025387-1785932100-1785935700@eimsbuettel-senioren.de
SUMMARY:Hockersport
DESCRIPTION:
URL:https://eimsbuettel-senioren.de/angebot/hockersport/2026-08-05/
LOCATION:AWO Aktivtreff Stellingen\, Jugendstr. 11\, Hamburg\, Hamburg\, 22527\, Deutschland
CATEGORIES:Bewegung / Gesundheit
END:VEVENT
BEGIN:VEVENT
DTSTART;TZID=Europe/Berlin:20260812T121500
DTEND;TZID=Europe/Berlin:20260812T131500
DTSTAMP:20260421T120353
CREATED:20240909T121329Z
LAST-MODIFIED:20240909T121329Z
UID:10025388-1786536900-1786540500@eimsbuettel-senioren.de
SUMMARY:Hockersport
DESCRIPTION:
URL:https://eimsbuettel-senioren.de/angebot/hockersport/2026-08-12/
LOCATION:AWO Aktivtreff Stellingen\, Jugendstr. 11\, Hamburg\, Hamburg\, 22527\, Deutschland
CATEGORIES:Bewegung / Gesundheit
END:VEVENT
BEGIN:VEVENT
DTSTART;TZID=Europe/Berlin:20260819T121500
DTEND;TZID=Europe/Berlin:20260819T131500
DTSTAMP:20260421T120353
CREATED:20240909T121329Z
LAST-MODIFIED:20240909T121329Z
UID:10025389-1787141700-1787145300@eimsbuettel-senioren.de
SUMMARY:Hockersport
DESCRIPTION:
URL:https://eimsbuettel-senioren.de/angebot/hockersport/2026-08-19/
LOCATION:AWO Aktivtreff Stellingen\, Jugendstr. 11\, Hamburg\, Hamburg\, 22527\, Deutschland
CATEGORIES:Bewegung / Gesundheit
END:VEVENT
BEGIN:VEVENT
DTSTART;TZID=Europe/Berlin:20260826T121500
DTEND;TZID=Europe/Berlin:20260826T131500
DTSTAMP:20260421T120353
CREATED:20240909T121329Z
LAST-MODIFIED:20240909T121329Z
UID:10025390-1787746500-1787750100@eimsbuettel-senioren.de
SUMMARY:Hockersport
DESCRIPTION:
URL:https://eimsbuettel-senioren.de/angebot/hockersport/2026-08-26/
LOCATION:AWO Aktivtreff Stellingen\, Jugendstr. 11\, Hamburg\, Hamburg\, 22527\, Deutschland
CATEGORIES:Bewegung / Gesundheit
END:VEVENT
BEGIN:VEVENT
DTSTART;TZID=Europe/Berlin:20260902T121500
DTEND;TZID=Europe/Berlin:20260902T131500
DTSTAMP:20260421T120353
CREATED:20240909T121329Z
LAST-MODIFIED:20240909T121329Z
UID:10025391-1788351300-1788354900@eimsbuettel-senioren.de
SUMMARY:Hockersport
DESCRIPTION:
URL:https://eimsbuettel-senioren.de/angebot/hockersport/2026-09-02/
LOCATION:AWO Aktivtreff Stellingen\, Jugendstr. 11\, Hamburg\, Hamburg\, 22527\, Deutschland
CATEGORIES:Bewegung / Gesundheit
END:VEVENT
BEGIN:VEVENT
DTSTART;TZID=Europe/Berlin:20260909T121500
DTEND;TZID=Europe/Berlin:20260909T131500
DTSTAMP:20260421T120353
CREATED:20240909T121329Z
LAST-MODIFIED:20240909T121329Z
UID:10025392-1788956100-1788959700@eimsbuettel-senioren.de
SUMMARY:Hockersport
DESCRIPTION:
URL:https://eimsbuettel-senioren.de/angebot/hockersport/2026-09-09/
LOCATION:AWO Aktivtreff Stellingen\, Jugendstr. 11\, Hamburg\, Hamburg\, 22527\, Deutschland
CATEGORIES:Bewegung / Gesundheit
END:VEVENT
BEGIN:VEVENT
DTSTART;TZID=Europe/Berlin:20260916T121500
DTEND;TZID=Europe/Berlin:20260916T131500
DTSTAMP:20260421T120353
CREATED:20240909T121329Z
LAST-MODIFIED:20240909T121329Z
UID:10025393-1789560900-1789564500@eimsbuettel-senioren.de
SUMMARY:Hockersport
DESCRIPTION:
URL:https://eimsbuettel-senioren.de/angebot/hockersport/2026-09-16/
LOCATION:AWO Aktivtreff Stellingen\, Jugendstr. 11\, Hamburg\, Hamburg\, 22527\, Deutschland
CATEGORIES:Bewegung / Gesundheit
END:VEVENT
BEGIN:VEVENT
DTSTART;TZID=Europe/Berlin:20260923T121500
DTEND;TZID=Europe/Berlin:20260923T131500
DTSTAMP:20260421T120353
CREATED:20240909T121329Z
LAST-MODIFIED:20240909T121329Z
UID:10025394-1790165700-1790169300@eimsbuettel-senioren.de
SUMMARY:Hockersport
DESCRIPTION:
URL:https://eimsbuettel-senioren.de/angebot/hockersport/2026-09-23/
LOCATION:AWO Aktivtreff Stellingen\, Jugendstr. 11\, Hamburg\, Hamburg\, 22527\, Deutschland
CATEGORIES:Bewegung / Gesundheit
END:VEVENT
BEGIN:VEVENT
DTSTART;TZID=Europe/Berlin:20260930T121500
DTEND;TZID=Europe/Berlin:20260930T131500
DTSTAMP:20260421T120353
CREATED:20240909T121329Z
LAST-MODIFIED:20240909T121329Z
UID:10025395-1790770500-1790774100@eimsbuettel-senioren.de
SUMMARY:Hockersport
DESCRIPTION:
URL:https://eimsbuettel-senioren.de/angebot/hockersport/2026-09-30/
LOCATION:AWO Aktivtreff Stellingen\, Jugendstr. 11\, Hamburg\, Hamburg\, 22527\, Deutschland
CATEGORIES:Bewegung / Gesundheit
END:VEVENT
BEGIN:VEVENT
DTSTART;TZID=Europe/Berlin:20261007T121500
DTEND;TZID=Europe/Berlin:20261007T131500
DTSTAMP:20260421T120353
CREATED:20240909T121329Z
LAST-MODIFIED:20240909T121329Z
UID:10025396-1791375300-1791378900@eimsbuettel-senioren.de
SUMMARY:Hockersport
DESCRIPTION:
URL:https://eimsbuettel-senioren.de/angebot/hockersport/2026-10-07/
LOCATION:AWO Aktivtreff Stellingen\, Jugendstr. 11\, Hamburg\, Hamburg\, 22527\, Deutschland
CATEGORIES:Bewegung / Gesundheit
END:VEVENT
BEGIN:VEVENT
DTSTART;TZID=Europe/Berlin:20261014T121500
DTEND;TZID=Europe/Berlin:20261014T131500
DTSTAMP:20260421T120353
CREATED:20240909T121329Z
LAST-MODIFIED:20240909T121329Z
UID:10025397-1791980100-1791983700@eimsbuettel-senioren.de
SUMMARY:Hockersport
DESCRIPTION:
URL:https://eimsbuettel-senioren.de/angebot/hockersport/2026-10-14/
LOCATION:AWO Aktivtreff Stellingen\, Jugendstr. 11\, Hamburg\, Hamburg\, 22527\, Deutschland
CATEGORIES:Bewegung / Gesundheit
END:VEVENT
BEGIN:VEVENT
DTSTART;TZID=Europe/Berlin:20261021T121500
DTEND;TZID=Europe/Berlin:20261021T131500
DTSTAMP:20260421T120353
CREATED:20240909T121329Z
LAST-MODIFIED:20240909T121329Z
UID:10025398-1792584900-1792588500@eimsbuettel-senioren.de
SUMMARY:Hockersport
DESCRIPTION:
URL:https://eimsbuettel-senioren.de/angebot/hockersport/2026-10-21/
LOCATION:AWO Aktivtreff Stellingen\, Jugendstr. 11\, Hamburg\, Hamburg\, 22527\, Deutschland
CATEGORIES:Bewegung / Gesundheit
END:VEVENT
BEGIN:VEVENT
DTSTART;TZID=Europe/Berlin:20261028T121500
DTEND;TZID=Europe/Berlin:20261028T131500
DTSTAMP:20260421T120353
CREATED:20240909T121329Z
LAST-MODIFIED:20240909T121329Z
UID:10025399-1793189700-1793193300@eimsbuettel-senioren.de
SUMMARY:Hockersport
DESCRIPTION:
URL:https://eimsbuettel-senioren.de/angebot/hockersport/2026-10-28/
LOCATION:AWO Aktivtreff Stellingen\, Jugendstr. 11\, Hamburg\, Hamburg\, 22527\, Deutschland
CATEGORIES:Bewegung / Gesundheit
END:VEVENT
BEGIN:VEVENT
DTSTART;TZID=Europe/Berlin:20261104T121500
DTEND;TZID=Europe/Berlin:20261104T131500
DTSTAMP:20260421T120353
CREATED:20240909T121329Z
LAST-MODIFIED:20240909T121329Z
UID:10025400-1793794500-1793798100@eimsbuettel-senioren.de
SUMMARY:Hockersport
DESCRIPTION:
URL:https://eimsbuettel-senioren.de/angebot/hockersport/2026-11-04/
LOCATION:AWO Aktivtreff Stellingen\, Jugendstr. 11\, Hamburg\, Hamburg\, 22527\, Deutschland
CATEGORIES:Bewegung / Gesundheit
END:VEVENT
BEGIN:VEVENT
DTSTART;TZID=Europe/Berlin:20261111T121500
DTEND;TZID=Europe/Berlin:20261111T131500
DTSTAMP:20260421T120353
CREATED:20240909T121329Z
LAST-MODIFIED:20240909T121329Z
UID:10025401-1794399300-1794402900@eimsbuettel-senioren.de
SUMMARY:Hockersport
DESCRIPTION:
URL:https://eimsbuettel-senioren.de/angebot/hockersport/2026-11-11/
LOCATION:AWO Aktivtreff Stellingen\, Jugendstr. 11\, Hamburg\, Hamburg\, 22527\, Deutschland
CATEGORIES:Bewegung / Gesundheit
END:VEVENT
END:VCALENDAR