BEGIN:VCALENDAR
VERSION:2.0
PRODID:-//Angebote für Seniorinnen und Senioren im Bezirk Eimsbüttel - ECPv6.15.18//NONSGML v1.0//EN
CALSCALE:GREGORIAN
METHOD:PUBLISH
X-WR-CALNAME:Angebote für Seniorinnen und Senioren im Bezirk Eimsbüttel
X-ORIGINAL-URL:https://eimsbuettel-senioren.de
X-WR-CALDESC:Veranstaltungen für Angebote für Seniorinnen und Senioren im Bezirk Eimsbüttel
REFRESH-INTERVAL;VALUE=DURATION:PT1H
X-Robots-Tag:noindex
X-PUBLISHED-TTL:PT1H
BEGIN:VTIMEZONE
TZID:Europe/Berlin
BEGIN:DAYLIGHT
TZOFFSETFROM:+0100
TZOFFSETTO:+0200
TZNAME:CEST
DTSTART:20250330T010000
END:DAYLIGHT
BEGIN:STANDARD
TZOFFSETFROM:+0200
TZOFFSETTO:+0100
TZNAME:CET
DTSTART:20251026T010000
END:STANDARD
BEGIN:DAYLIGHT
TZOFFSETFROM:+0100
TZOFFSETTO:+0200
TZNAME:CEST
DTSTART:20260329T010000
END:DAYLIGHT
BEGIN:STANDARD
TZOFFSETFROM:+0200
TZOFFSETTO:+0100
TZNAME:CET
DTSTART:20261025T010000
END:STANDARD
BEGIN:DAYLIGHT
TZOFFSETFROM:+0100
TZOFFSETTO:+0200
TZNAME:CEST
DTSTART:20270328T010000
END:DAYLIGHT
BEGIN:STANDARD
TZOFFSETFROM:+0200
TZOFFSETTO:+0100
TZNAME:CET
DTSTART:20271031T010000
END:STANDARD
BEGIN:DAYLIGHT
TZOFFSETFROM:+0100
TZOFFSETTO:+0200
TZNAME:CEST
DTSTART:20280326T010000
END:DAYLIGHT
BEGIN:STANDARD
TZOFFSETFROM:+0200
TZOFFSETTO:+0100
TZNAME:CET
DTSTART:20281029T010000
END:STANDARD
BEGIN:DAYLIGHT
TZOFFSETFROM:+0100
TZOFFSETTO:+0200
TZNAME:CEST
DTSTART:20290325T010000
END:DAYLIGHT
BEGIN:STANDARD
TZOFFSETFROM:+0200
TZOFFSETTO:+0100
TZNAME:CET
DTSTART:20291028T010000
END:STANDARD
END:VTIMEZONE
BEGIN:VEVENT
DTSTART;TZID=Europe/Berlin:20260428T143000
DTEND;TZID=Europe/Berlin:20260428T163000
DTSTAMP:20260423T193529
CREATED:20240909T120955Z
LAST-MODIFIED:20240909T121121Z
UID:10025247-1777386600-1777393800@eimsbuettel-senioren.de
SUMMARY:Schlaganfall-Gruppe
DESCRIPTION:Schlaganfall-Gruppe jeden letzten Dienstag im Monat
URL:https://eimsbuettel-senioren.de/angebot/schlaganfall-gruppe/2026-04-28/
LOCATION:AWO Aktivtreff Stellingen\, Jugendstr. 11\, Hamburg\, Hamburg\, 22527\, Deutschland
CATEGORIES:Beratung
END:VEVENT
BEGIN:VEVENT
DTSTART;TZID=Europe/Berlin:20260526T143000
DTEND;TZID=Europe/Berlin:20260526T163000
DTSTAMP:20260423T193529
CREATED:20240909T120955Z
LAST-MODIFIED:20240909T121121Z
UID:10025248-1779805800-1779813000@eimsbuettel-senioren.de
SUMMARY:Schlaganfall-Gruppe
DESCRIPTION:Schlaganfall-Gruppe jeden letzten Dienstag im Monat
URL:https://eimsbuettel-senioren.de/angebot/schlaganfall-gruppe/2026-05-26/
LOCATION:AWO Aktivtreff Stellingen\, Jugendstr. 11\, Hamburg\, Hamburg\, 22527\, Deutschland
CATEGORIES:Beratung
END:VEVENT
BEGIN:VEVENT
DTSTART;TZID=Europe/Berlin:20260623T143000
DTEND;TZID=Europe/Berlin:20260623T163000
DTSTAMP:20260423T193529
CREATED:20240909T120955Z
LAST-MODIFIED:20240909T121121Z
UID:10025249-1782225000-1782232200@eimsbuettel-senioren.de
SUMMARY:Schlaganfall-Gruppe
DESCRIPTION:Schlaganfall-Gruppe jeden letzten Dienstag im Monat
URL:https://eimsbuettel-senioren.de/angebot/schlaganfall-gruppe/2026-06-23/
LOCATION:AWO Aktivtreff Stellingen\, Jugendstr. 11\, Hamburg\, Hamburg\, 22527\, Deutschland
CATEGORIES:Beratung
END:VEVENT
BEGIN:VEVENT
DTSTART;TZID=Europe/Berlin:20260728T143000
DTEND;TZID=Europe/Berlin:20260728T163000
DTSTAMP:20260423T193529
CREATED:20240909T120955Z
LAST-MODIFIED:20240909T121121Z
UID:10025250-1785249000-1785256200@eimsbuettel-senioren.de
SUMMARY:Schlaganfall-Gruppe
DESCRIPTION:Schlaganfall-Gruppe jeden letzten Dienstag im Monat
URL:https://eimsbuettel-senioren.de/angebot/schlaganfall-gruppe/2026-07-28/
LOCATION:AWO Aktivtreff Stellingen\, Jugendstr. 11\, Hamburg\, Hamburg\, 22527\, Deutschland
CATEGORIES:Beratung
END:VEVENT
BEGIN:VEVENT
DTSTART;TZID=Europe/Berlin:20260825T143000
DTEND;TZID=Europe/Berlin:20260825T163000
DTSTAMP:20260423T193529
CREATED:20240909T120955Z
LAST-MODIFIED:20240909T121121Z
UID:10025251-1787668200-1787675400@eimsbuettel-senioren.de
SUMMARY:Schlaganfall-Gruppe
DESCRIPTION:Schlaganfall-Gruppe jeden letzten Dienstag im Monat
URL:https://eimsbuettel-senioren.de/angebot/schlaganfall-gruppe/2026-08-25/
LOCATION:AWO Aktivtreff Stellingen\, Jugendstr. 11\, Hamburg\, Hamburg\, 22527\, Deutschland
CATEGORIES:Beratung
END:VEVENT
BEGIN:VEVENT
DTSTART;TZID=Europe/Berlin:20260922T143000
DTEND;TZID=Europe/Berlin:20260922T163000
DTSTAMP:20260423T193529
CREATED:20240909T120955Z
LAST-MODIFIED:20240909T121121Z
UID:10025252-1790087400-1790094600@eimsbuettel-senioren.de
SUMMARY:Schlaganfall-Gruppe
DESCRIPTION:Schlaganfall-Gruppe jeden letzten Dienstag im Monat
URL:https://eimsbuettel-senioren.de/angebot/schlaganfall-gruppe/2026-09-22/
LOCATION:AWO Aktivtreff Stellingen\, Jugendstr. 11\, Hamburg\, Hamburg\, 22527\, Deutschland
CATEGORIES:Beratung
END:VEVENT
BEGIN:VEVENT
DTSTART;TZID=Europe/Berlin:20261027T143000
DTEND;TZID=Europe/Berlin:20261027T163000
DTSTAMP:20260423T193529
CREATED:20240909T120955Z
LAST-MODIFIED:20240909T121121Z
UID:10025253-1793111400-1793118600@eimsbuettel-senioren.de
SUMMARY:Schlaganfall-Gruppe
DESCRIPTION:Schlaganfall-Gruppe jeden letzten Dienstag im Monat
URL:https://eimsbuettel-senioren.de/angebot/schlaganfall-gruppe/2026-10-27/
LOCATION:AWO Aktivtreff Stellingen\, Jugendstr. 11\, Hamburg\, Hamburg\, 22527\, Deutschland
CATEGORIES:Beratung
END:VEVENT
BEGIN:VEVENT
DTSTART;TZID=Europe/Berlin:20261124T143000
DTEND;TZID=Europe/Berlin:20261124T163000
DTSTAMP:20260423T193529
CREATED:20240909T120955Z
LAST-MODIFIED:20240909T121121Z
UID:10025254-1795530600-1795537800@eimsbuettel-senioren.de
SUMMARY:Schlaganfall-Gruppe
DESCRIPTION:Schlaganfall-Gruppe jeden letzten Dienstag im Monat
URL:https://eimsbuettel-senioren.de/angebot/schlaganfall-gruppe/2026-11-24/
LOCATION:AWO Aktivtreff Stellingen\, Jugendstr. 11\, Hamburg\, Hamburg\, 22527\, Deutschland
CATEGORIES:Beratung
END:VEVENT
BEGIN:VEVENT
DTSTART;TZID=Europe/Berlin:20261222T143000
DTEND;TZID=Europe/Berlin:20261222T163000
DTSTAMP:20260423T193529
CREATED:20240909T120955Z
LAST-MODIFIED:20240909T121121Z
UID:10025255-1797949800-1797957000@eimsbuettel-senioren.de
SUMMARY:Schlaganfall-Gruppe
DESCRIPTION:Schlaganfall-Gruppe jeden letzten Dienstag im Monat
URL:https://eimsbuettel-senioren.de/angebot/schlaganfall-gruppe/2026-12-22/
LOCATION:AWO Aktivtreff Stellingen\, Jugendstr. 11\, Hamburg\, Hamburg\, 22527\, Deutschland
CATEGORIES:Beratung
END:VEVENT
BEGIN:VEVENT
DTSTART;TZID=Europe/Berlin:20270126T143000
DTEND;TZID=Europe/Berlin:20270126T163000
DTSTAMP:20260423T193529
CREATED:20240909T120955Z
LAST-MODIFIED:20240909T121121Z
UID:10025256-1800973800-1800981000@eimsbuettel-senioren.de
SUMMARY:Schlaganfall-Gruppe
DESCRIPTION:Schlaganfall-Gruppe jeden letzten Dienstag im Monat
URL:https://eimsbuettel-senioren.de/angebot/schlaganfall-gruppe/2027-01-26/
LOCATION:AWO Aktivtreff Stellingen\, Jugendstr. 11\, Hamburg\, Hamburg\, 22527\, Deutschland
CATEGORIES:Beratung
END:VEVENT
BEGIN:VEVENT
DTSTART;TZID=Europe/Berlin:20270223T143000
DTEND;TZID=Europe/Berlin:20270223T163000
DTSTAMP:20260423T193529
CREATED:20240909T120955Z
LAST-MODIFIED:20240909T121121Z
UID:10025257-1803393000-1803400200@eimsbuettel-senioren.de
SUMMARY:Schlaganfall-Gruppe
DESCRIPTION:Schlaganfall-Gruppe jeden letzten Dienstag im Monat
URL:https://eimsbuettel-senioren.de/angebot/schlaganfall-gruppe/2027-02-23/
LOCATION:AWO Aktivtreff Stellingen\, Jugendstr. 11\, Hamburg\, Hamburg\, 22527\, Deutschland
CATEGORIES:Beratung
END:VEVENT
BEGIN:VEVENT
DTSTART;TZID=Europe/Berlin:20270323T143000
DTEND;TZID=Europe/Berlin:20270323T163000
DTSTAMP:20260423T193529
CREATED:20240909T120955Z
LAST-MODIFIED:20240909T121121Z
UID:10025258-1805812200-1805819400@eimsbuettel-senioren.de
SUMMARY:Schlaganfall-Gruppe
DESCRIPTION:Schlaganfall-Gruppe jeden letzten Dienstag im Monat
URL:https://eimsbuettel-senioren.de/angebot/schlaganfall-gruppe/2027-03-23/
LOCATION:AWO Aktivtreff Stellingen\, Jugendstr. 11\, Hamburg\, Hamburg\, 22527\, Deutschland
CATEGORIES:Beratung
END:VEVENT
BEGIN:VEVENT
DTSTART;TZID=Europe/Berlin:20270427T143000
DTEND;TZID=Europe/Berlin:20270427T163000
DTSTAMP:20260423T193529
CREATED:20240909T120955Z
LAST-MODIFIED:20240909T121121Z
UID:10025259-1808836200-1808843400@eimsbuettel-senioren.de
SUMMARY:Schlaganfall-Gruppe
DESCRIPTION:Schlaganfall-Gruppe jeden letzten Dienstag im Monat
URL:https://eimsbuettel-senioren.de/angebot/schlaganfall-gruppe/2027-04-27/
LOCATION:AWO Aktivtreff Stellingen\, Jugendstr. 11\, Hamburg\, Hamburg\, 22527\, Deutschland
CATEGORIES:Beratung
END:VEVENT
BEGIN:VEVENT
DTSTART;TZID=Europe/Berlin:20270525T143000
DTEND;TZID=Europe/Berlin:20270525T163000
DTSTAMP:20260423T193529
CREATED:20240909T120955Z
LAST-MODIFIED:20240909T121121Z
UID:10025260-1811255400-1811262600@eimsbuettel-senioren.de
SUMMARY:Schlaganfall-Gruppe
DESCRIPTION:Schlaganfall-Gruppe jeden letzten Dienstag im Monat
URL:https://eimsbuettel-senioren.de/angebot/schlaganfall-gruppe/2027-05-25/
LOCATION:AWO Aktivtreff Stellingen\, Jugendstr. 11\, Hamburg\, Hamburg\, 22527\, Deutschland
CATEGORIES:Beratung
END:VEVENT
BEGIN:VEVENT
DTSTART;TZID=Europe/Berlin:20270622T143000
DTEND;TZID=Europe/Berlin:20270622T163000
DTSTAMP:20260423T193529
CREATED:20240909T120955Z
LAST-MODIFIED:20240909T121121Z
UID:10025261-1813674600-1813681800@eimsbuettel-senioren.de
SUMMARY:Schlaganfall-Gruppe
DESCRIPTION:Schlaganfall-Gruppe jeden letzten Dienstag im Monat
URL:https://eimsbuettel-senioren.de/angebot/schlaganfall-gruppe/2027-06-22/
LOCATION:AWO Aktivtreff Stellingen\, Jugendstr. 11\, Hamburg\, Hamburg\, 22527\, Deutschland
CATEGORIES:Beratung
END:VEVENT
BEGIN:VEVENT
DTSTART;TZID=Europe/Berlin:20270727T143000
DTEND;TZID=Europe/Berlin:20270727T163000
DTSTAMP:20260423T193529
CREATED:20240909T120955Z
LAST-MODIFIED:20240909T121121Z
UID:10025262-1816698600-1816705800@eimsbuettel-senioren.de
SUMMARY:Schlaganfall-Gruppe
DESCRIPTION:Schlaganfall-Gruppe jeden letzten Dienstag im Monat
URL:https://eimsbuettel-senioren.de/angebot/schlaganfall-gruppe/2027-07-27/
LOCATION:AWO Aktivtreff Stellingen\, Jugendstr. 11\, Hamburg\, Hamburg\, 22527\, Deutschland
CATEGORIES:Beratung
END:VEVENT
BEGIN:VEVENT
DTSTART;TZID=Europe/Berlin:20270824T143000
DTEND;TZID=Europe/Berlin:20270824T163000
DTSTAMP:20260423T193529
CREATED:20240909T120955Z
LAST-MODIFIED:20240909T121121Z
UID:10025263-1819117800-1819125000@eimsbuettel-senioren.de
SUMMARY:Schlaganfall-Gruppe
DESCRIPTION:Schlaganfall-Gruppe jeden letzten Dienstag im Monat
URL:https://eimsbuettel-senioren.de/angebot/schlaganfall-gruppe/2027-08-24/
LOCATION:AWO Aktivtreff Stellingen\, Jugendstr. 11\, Hamburg\, Hamburg\, 22527\, Deutschland
CATEGORIES:Beratung
END:VEVENT
BEGIN:VEVENT
DTSTART;TZID=Europe/Berlin:20270928T143000
DTEND;TZID=Europe/Berlin:20270928T163000
DTSTAMP:20260423T193529
CREATED:20240909T120955Z
LAST-MODIFIED:20240909T121121Z
UID:10025264-1822141800-1822149000@eimsbuettel-senioren.de
SUMMARY:Schlaganfall-Gruppe
DESCRIPTION:Schlaganfall-Gruppe jeden letzten Dienstag im Monat
URL:https://eimsbuettel-senioren.de/angebot/schlaganfall-gruppe/2027-09-28/
LOCATION:AWO Aktivtreff Stellingen\, Jugendstr. 11\, Hamburg\, Hamburg\, 22527\, Deutschland
CATEGORIES:Beratung
END:VEVENT
BEGIN:VEVENT
DTSTART;TZID=Europe/Berlin:20271026T143000
DTEND;TZID=Europe/Berlin:20271026T163000
DTSTAMP:20260423T193529
CREATED:20240909T120955Z
LAST-MODIFIED:20240909T121121Z
UID:10025265-1824561000-1824568200@eimsbuettel-senioren.de
SUMMARY:Schlaganfall-Gruppe
DESCRIPTION:Schlaganfall-Gruppe jeden letzten Dienstag im Monat
URL:https://eimsbuettel-senioren.de/angebot/schlaganfall-gruppe/2027-10-26/
LOCATION:AWO Aktivtreff Stellingen\, Jugendstr. 11\, Hamburg\, Hamburg\, 22527\, Deutschland
CATEGORIES:Beratung
END:VEVENT
BEGIN:VEVENT
DTSTART;TZID=Europe/Berlin:20271123T143000
DTEND;TZID=Europe/Berlin:20271123T163000
DTSTAMP:20260423T193529
CREATED:20240909T120955Z
LAST-MODIFIED:20240909T121121Z
UID:10025266-1826980200-1826987400@eimsbuettel-senioren.de
SUMMARY:Schlaganfall-Gruppe
DESCRIPTION:Schlaganfall-Gruppe jeden letzten Dienstag im Monat
URL:https://eimsbuettel-senioren.de/angebot/schlaganfall-gruppe/2027-11-23/
LOCATION:AWO Aktivtreff Stellingen\, Jugendstr. 11\, Hamburg\, Hamburg\, 22527\, Deutschland
CATEGORIES:Beratung
END:VEVENT
BEGIN:VEVENT
DTSTART;TZID=Europe/Berlin:20271228T143000
DTEND;TZID=Europe/Berlin:20271228T163000
DTSTAMP:20260423T193529
CREATED:20240909T120955Z
LAST-MODIFIED:20240909T121121Z
UID:10025267-1830004200-1830011400@eimsbuettel-senioren.de
SUMMARY:Schlaganfall-Gruppe
DESCRIPTION:Schlaganfall-Gruppe jeden letzten Dienstag im Monat
URL:https://eimsbuettel-senioren.de/angebot/schlaganfall-gruppe/2027-12-28/
LOCATION:AWO Aktivtreff Stellingen\, Jugendstr. 11\, Hamburg\, Hamburg\, 22527\, Deutschland
CATEGORIES:Beratung
END:VEVENT
BEGIN:VEVENT
DTSTART;TZID=Europe/Berlin:20280125T143000
DTEND;TZID=Europe/Berlin:20280125T163000
DTSTAMP:20260423T193529
CREATED:20240909T120955Z
LAST-MODIFIED:20240909T121121Z
UID:10025268-1832423400-1832430600@eimsbuettel-senioren.de
SUMMARY:Schlaganfall-Gruppe
DESCRIPTION:Schlaganfall-Gruppe jeden letzten Dienstag im Monat
URL:https://eimsbuettel-senioren.de/angebot/schlaganfall-gruppe/2028-01-25/
LOCATION:AWO Aktivtreff Stellingen\, Jugendstr. 11\, Hamburg\, Hamburg\, 22527\, Deutschland
CATEGORIES:Beratung
END:VEVENT
BEGIN:VEVENT
DTSTART;TZID=Europe/Berlin:20280222T143000
DTEND;TZID=Europe/Berlin:20280222T163000
DTSTAMP:20260423T193529
CREATED:20240909T120955Z
LAST-MODIFIED:20240909T121121Z
UID:10025269-1834842600-1834849800@eimsbuettel-senioren.de
SUMMARY:Schlaganfall-Gruppe
DESCRIPTION:Schlaganfall-Gruppe jeden letzten Dienstag im Monat
URL:https://eimsbuettel-senioren.de/angebot/schlaganfall-gruppe/2028-02-22/
LOCATION:AWO Aktivtreff Stellingen\, Jugendstr. 11\, Hamburg\, Hamburg\, 22527\, Deutschland
CATEGORIES:Beratung
END:VEVENT
BEGIN:VEVENT
DTSTART;TZID=Europe/Berlin:20280328T143000
DTEND;TZID=Europe/Berlin:20280328T163000
DTSTAMP:20260423T193529
CREATED:20240909T120955Z
LAST-MODIFIED:20240909T121121Z
UID:10025270-1837866600-1837873800@eimsbuettel-senioren.de
SUMMARY:Schlaganfall-Gruppe
DESCRIPTION:Schlaganfall-Gruppe jeden letzten Dienstag im Monat
URL:https://eimsbuettel-senioren.de/angebot/schlaganfall-gruppe/2028-03-28/
LOCATION:AWO Aktivtreff Stellingen\, Jugendstr. 11\, Hamburg\, Hamburg\, 22527\, Deutschland
CATEGORIES:Beratung
END:VEVENT
BEGIN:VEVENT
DTSTART;TZID=Europe/Berlin:20280425T143000
DTEND;TZID=Europe/Berlin:20280425T163000
DTSTAMP:20260423T193529
CREATED:20240909T120955Z
LAST-MODIFIED:20240909T121121Z
UID:10025271-1840285800-1840293000@eimsbuettel-senioren.de
SUMMARY:Schlaganfall-Gruppe
DESCRIPTION:Schlaganfall-Gruppe jeden letzten Dienstag im Monat
URL:https://eimsbuettel-senioren.de/angebot/schlaganfall-gruppe/2028-04-25/
LOCATION:AWO Aktivtreff Stellingen\, Jugendstr. 11\, Hamburg\, Hamburg\, 22527\, Deutschland
CATEGORIES:Beratung
END:VEVENT
BEGIN:VEVENT
DTSTART;TZID=Europe/Berlin:20280523T143000
DTEND;TZID=Europe/Berlin:20280523T163000
DTSTAMP:20260423T193529
CREATED:20240909T120955Z
LAST-MODIFIED:20240909T121121Z
UID:10025272-1842705000-1842712200@eimsbuettel-senioren.de
SUMMARY:Schlaganfall-Gruppe
DESCRIPTION:Schlaganfall-Gruppe jeden letzten Dienstag im Monat
URL:https://eimsbuettel-senioren.de/angebot/schlaganfall-gruppe/2028-05-23/
LOCATION:AWO Aktivtreff Stellingen\, Jugendstr. 11\, Hamburg\, Hamburg\, 22527\, Deutschland
CATEGORIES:Beratung
END:VEVENT
BEGIN:VEVENT
DTSTART;TZID=Europe/Berlin:20280627T143000
DTEND;TZID=Europe/Berlin:20280627T163000
DTSTAMP:20260423T193529
CREATED:20240909T120955Z
LAST-MODIFIED:20240909T121121Z
UID:10025273-1845729000-1845736200@eimsbuettel-senioren.de
SUMMARY:Schlaganfall-Gruppe
DESCRIPTION:Schlaganfall-Gruppe jeden letzten Dienstag im Monat
URL:https://eimsbuettel-senioren.de/angebot/schlaganfall-gruppe/2028-06-27/
LOCATION:AWO Aktivtreff Stellingen\, Jugendstr. 11\, Hamburg\, Hamburg\, 22527\, Deutschland
CATEGORIES:Beratung
END:VEVENT
BEGIN:VEVENT
DTSTART;TZID=Europe/Berlin:20280725T143000
DTEND;TZID=Europe/Berlin:20280725T163000
DTSTAMP:20260423T193529
CREATED:20240909T120955Z
LAST-MODIFIED:20240909T121121Z
UID:10025274-1848148200-1848155400@eimsbuettel-senioren.de
SUMMARY:Schlaganfall-Gruppe
DESCRIPTION:Schlaganfall-Gruppe jeden letzten Dienstag im Monat
URL:https://eimsbuettel-senioren.de/angebot/schlaganfall-gruppe/2028-07-25/
LOCATION:AWO Aktivtreff Stellingen\, Jugendstr. 11\, Hamburg\, Hamburg\, 22527\, Deutschland
CATEGORIES:Beratung
END:VEVENT
BEGIN:VEVENT
DTSTART;TZID=Europe/Berlin:20280822T143000
DTEND;TZID=Europe/Berlin:20280822T163000
DTSTAMP:20260423T193529
CREATED:20240909T120955Z
LAST-MODIFIED:20240909T121121Z
UID:10025275-1850567400-1850574600@eimsbuettel-senioren.de
SUMMARY:Schlaganfall-Gruppe
DESCRIPTION:Schlaganfall-Gruppe jeden letzten Dienstag im Monat
URL:https://eimsbuettel-senioren.de/angebot/schlaganfall-gruppe/2028-08-22/
LOCATION:AWO Aktivtreff Stellingen\, Jugendstr. 11\, Hamburg\, Hamburg\, 22527\, Deutschland
CATEGORIES:Beratung
END:VEVENT
BEGIN:VEVENT
DTSTART;TZID=Europe/Berlin:20280926T143000
DTEND;TZID=Europe/Berlin:20280926T163000
DTSTAMP:20260423T193529
CREATED:20240909T120955Z
LAST-MODIFIED:20240909T121121Z
UID:10025276-1853591400-1853598600@eimsbuettel-senioren.de
SUMMARY:Schlaganfall-Gruppe
DESCRIPTION:Schlaganfall-Gruppe jeden letzten Dienstag im Monat
URL:https://eimsbuettel-senioren.de/angebot/schlaganfall-gruppe/2028-09-26/
LOCATION:AWO Aktivtreff Stellingen\, Jugendstr. 11\, Hamburg\, Hamburg\, 22527\, Deutschland
CATEGORIES:Beratung
END:VEVENT
END:VCALENDAR