BEGIN:VCALENDAR
VERSION:2.0
PRODID:-//Angebote für Seniorinnen und Senioren im Bezirk Eimsbüttel - ECPv6.15.18//NONSGML v1.0//EN
CALSCALE:GREGORIAN
METHOD:PUBLISH
X-WR-CALNAME:Angebote für Seniorinnen und Senioren im Bezirk Eimsbüttel
X-ORIGINAL-URL:https://eimsbuettel-senioren.de
X-WR-CALDESC:Veranstaltungen für Angebote für Seniorinnen und Senioren im Bezirk Eimsbüttel
REFRESH-INTERVAL;VALUE=DURATION:PT1H
X-Robots-Tag:noindex
X-PUBLISHED-TTL:PT1H
BEGIN:VTIMEZONE
TZID:Europe/Berlin
BEGIN:DAYLIGHT
TZOFFSETFROM:+0100
TZOFFSETTO:+0200
TZNAME:CEST
DTSTART:20250330T010000
END:DAYLIGHT
BEGIN:STANDARD
TZOFFSETFROM:+0200
TZOFFSETTO:+0100
TZNAME:CET
DTSTART:20251026T010000
END:STANDARD
BEGIN:DAYLIGHT
TZOFFSETFROM:+0100
TZOFFSETTO:+0200
TZNAME:CEST
DTSTART:20260329T010000
END:DAYLIGHT
BEGIN:STANDARD
TZOFFSETFROM:+0200
TZOFFSETTO:+0100
TZNAME:CET
DTSTART:20261025T010000
END:STANDARD
BEGIN:DAYLIGHT
TZOFFSETFROM:+0100
TZOFFSETTO:+0200
TZNAME:CEST
DTSTART:20270328T010000
END:DAYLIGHT
BEGIN:STANDARD
TZOFFSETFROM:+0200
TZOFFSETTO:+0100
TZNAME:CET
DTSTART:20271031T010000
END:STANDARD
END:VTIMEZONE
BEGIN:VEVENT
DTSTART;TZID=Europe/Berlin:20260420T140000
DTEND;TZID=Europe/Berlin:20260420T150000
DTSTAMP:20260419T221028
CREATED:20240909T120342Z
LAST-MODIFIED:20240909T120342Z
UID:10024790-1776693600-1776697200@eimsbuettel-senioren.de
SUMMARY:Smartphone-Sprechstunde
DESCRIPTION:Smartphone-Sprechstunde für Android mit Dimitri
URL:https://eimsbuettel-senioren.de/angebot/smartphone-sprechstunde/2026-04-20/
LOCATION:AWO Aktivtreff Stellingen\, Jugendstr. 11\, Hamburg\, Hamburg\, 22527\, Deutschland
CATEGORIES:Beratung
END:VEVENT
BEGIN:VEVENT
DTSTART;TZID=Europe/Berlin:20260427T140000
DTEND;TZID=Europe/Berlin:20260427T150000
DTSTAMP:20260419T221028
CREATED:20240909T120342Z
LAST-MODIFIED:20240909T120342Z
UID:10024791-1777298400-1777302000@eimsbuettel-senioren.de
SUMMARY:Smartphone-Sprechstunde
DESCRIPTION:Smartphone-Sprechstunde für Android mit Dimitri
URL:https://eimsbuettel-senioren.de/angebot/smartphone-sprechstunde/2026-04-27/
LOCATION:AWO Aktivtreff Stellingen\, Jugendstr. 11\, Hamburg\, Hamburg\, 22527\, Deutschland
CATEGORIES:Beratung
END:VEVENT
BEGIN:VEVENT
DTSTART;TZID=Europe/Berlin:20260504T140000
DTEND;TZID=Europe/Berlin:20260504T150000
DTSTAMP:20260419T221028
CREATED:20240909T120342Z
LAST-MODIFIED:20240909T120342Z
UID:10024792-1777903200-1777906800@eimsbuettel-senioren.de
SUMMARY:Smartphone-Sprechstunde
DESCRIPTION:Smartphone-Sprechstunde für Android mit Dimitri
URL:https://eimsbuettel-senioren.de/angebot/smartphone-sprechstunde/2026-05-04/
LOCATION:AWO Aktivtreff Stellingen\, Jugendstr. 11\, Hamburg\, Hamburg\, 22527\, Deutschland
CATEGORIES:Beratung
END:VEVENT
BEGIN:VEVENT
DTSTART;TZID=Europe/Berlin:20260511T140000
DTEND;TZID=Europe/Berlin:20260511T150000
DTSTAMP:20260419T221028
CREATED:20240909T120342Z
LAST-MODIFIED:20240909T120342Z
UID:10024793-1778508000-1778511600@eimsbuettel-senioren.de
SUMMARY:Smartphone-Sprechstunde
DESCRIPTION:Smartphone-Sprechstunde für Android mit Dimitri
URL:https://eimsbuettel-senioren.de/angebot/smartphone-sprechstunde/2026-05-11/
LOCATION:AWO Aktivtreff Stellingen\, Jugendstr. 11\, Hamburg\, Hamburg\, 22527\, Deutschland
CATEGORIES:Beratung
END:VEVENT
BEGIN:VEVENT
DTSTART;TZID=Europe/Berlin:20260518T140000
DTEND;TZID=Europe/Berlin:20260518T150000
DTSTAMP:20260419T221028
CREATED:20240909T120342Z
LAST-MODIFIED:20240909T120342Z
UID:10024794-1779112800-1779116400@eimsbuettel-senioren.de
SUMMARY:Smartphone-Sprechstunde
DESCRIPTION:Smartphone-Sprechstunde für Android mit Dimitri
URL:https://eimsbuettel-senioren.de/angebot/smartphone-sprechstunde/2026-05-18/
LOCATION:AWO Aktivtreff Stellingen\, Jugendstr. 11\, Hamburg\, Hamburg\, 22527\, Deutschland
CATEGORIES:Beratung
END:VEVENT
BEGIN:VEVENT
DTSTART;TZID=Europe/Berlin:20260525T140000
DTEND;TZID=Europe/Berlin:20260525T150000
DTSTAMP:20260419T221028
CREATED:20240909T120342Z
LAST-MODIFIED:20240909T120342Z
UID:10024795-1779717600-1779721200@eimsbuettel-senioren.de
SUMMARY:Smartphone-Sprechstunde
DESCRIPTION:Smartphone-Sprechstunde für Android mit Dimitri
URL:https://eimsbuettel-senioren.de/angebot/smartphone-sprechstunde/2026-05-25/
LOCATION:AWO Aktivtreff Stellingen\, Jugendstr. 11\, Hamburg\, Hamburg\, 22527\, Deutschland
CATEGORIES:Beratung
END:VEVENT
BEGIN:VEVENT
DTSTART;TZID=Europe/Berlin:20260601T140000
DTEND;TZID=Europe/Berlin:20260601T150000
DTSTAMP:20260419T221028
CREATED:20240909T120342Z
LAST-MODIFIED:20240909T120342Z
UID:10024796-1780322400-1780326000@eimsbuettel-senioren.de
SUMMARY:Smartphone-Sprechstunde
DESCRIPTION:Smartphone-Sprechstunde für Android mit Dimitri
URL:https://eimsbuettel-senioren.de/angebot/smartphone-sprechstunde/2026-06-01/
LOCATION:AWO Aktivtreff Stellingen\, Jugendstr. 11\, Hamburg\, Hamburg\, 22527\, Deutschland
CATEGORIES:Beratung
END:VEVENT
BEGIN:VEVENT
DTSTART;TZID=Europe/Berlin:20260608T140000
DTEND;TZID=Europe/Berlin:20260608T150000
DTSTAMP:20260419T221028
CREATED:20240909T120342Z
LAST-MODIFIED:20240909T120342Z
UID:10024797-1780927200-1780930800@eimsbuettel-senioren.de
SUMMARY:Smartphone-Sprechstunde
DESCRIPTION:Smartphone-Sprechstunde für Android mit Dimitri
URL:https://eimsbuettel-senioren.de/angebot/smartphone-sprechstunde/2026-06-08/
LOCATION:AWO Aktivtreff Stellingen\, Jugendstr. 11\, Hamburg\, Hamburg\, 22527\, Deutschland
CATEGORIES:Beratung
END:VEVENT
BEGIN:VEVENT
DTSTART;TZID=Europe/Berlin:20260615T140000
DTEND;TZID=Europe/Berlin:20260615T150000
DTSTAMP:20260419T221028
CREATED:20240909T120342Z
LAST-MODIFIED:20240909T120342Z
UID:10024798-1781532000-1781535600@eimsbuettel-senioren.de
SUMMARY:Smartphone-Sprechstunde
DESCRIPTION:Smartphone-Sprechstunde für Android mit Dimitri
URL:https://eimsbuettel-senioren.de/angebot/smartphone-sprechstunde/2026-06-15/
LOCATION:AWO Aktivtreff Stellingen\, Jugendstr. 11\, Hamburg\, Hamburg\, 22527\, Deutschland
CATEGORIES:Beratung
END:VEVENT
BEGIN:VEVENT
DTSTART;TZID=Europe/Berlin:20260622T140000
DTEND;TZID=Europe/Berlin:20260622T150000
DTSTAMP:20260419T221028
CREATED:20240909T120342Z
LAST-MODIFIED:20240909T120342Z
UID:10024799-1782136800-1782140400@eimsbuettel-senioren.de
SUMMARY:Smartphone-Sprechstunde
DESCRIPTION:Smartphone-Sprechstunde für Android mit Dimitri
URL:https://eimsbuettel-senioren.de/angebot/smartphone-sprechstunde/2026-06-22/
LOCATION:AWO Aktivtreff Stellingen\, Jugendstr. 11\, Hamburg\, Hamburg\, 22527\, Deutschland
CATEGORIES:Beratung
END:VEVENT
BEGIN:VEVENT
DTSTART;TZID=Europe/Berlin:20260629T140000
DTEND;TZID=Europe/Berlin:20260629T150000
DTSTAMP:20260419T221028
CREATED:20240909T120342Z
LAST-MODIFIED:20240909T120342Z
UID:10024800-1782741600-1782745200@eimsbuettel-senioren.de
SUMMARY:Smartphone-Sprechstunde
DESCRIPTION:Smartphone-Sprechstunde für Android mit Dimitri
URL:https://eimsbuettel-senioren.de/angebot/smartphone-sprechstunde/2026-06-29/
LOCATION:AWO Aktivtreff Stellingen\, Jugendstr. 11\, Hamburg\, Hamburg\, 22527\, Deutschland
CATEGORIES:Beratung
END:VEVENT
BEGIN:VEVENT
DTSTART;TZID=Europe/Berlin:20260706T140000
DTEND;TZID=Europe/Berlin:20260706T150000
DTSTAMP:20260419T221028
CREATED:20240909T120342Z
LAST-MODIFIED:20240909T120342Z
UID:10024801-1783346400-1783350000@eimsbuettel-senioren.de
SUMMARY:Smartphone-Sprechstunde
DESCRIPTION:Smartphone-Sprechstunde für Android mit Dimitri
URL:https://eimsbuettel-senioren.de/angebot/smartphone-sprechstunde/2026-07-06/
LOCATION:AWO Aktivtreff Stellingen\, Jugendstr. 11\, Hamburg\, Hamburg\, 22527\, Deutschland
CATEGORIES:Beratung
END:VEVENT
BEGIN:VEVENT
DTSTART;TZID=Europe/Berlin:20260713T140000
DTEND;TZID=Europe/Berlin:20260713T150000
DTSTAMP:20260419T221028
CREATED:20240909T120342Z
LAST-MODIFIED:20240909T120342Z
UID:10024802-1783951200-1783954800@eimsbuettel-senioren.de
SUMMARY:Smartphone-Sprechstunde
DESCRIPTION:Smartphone-Sprechstunde für Android mit Dimitri
URL:https://eimsbuettel-senioren.de/angebot/smartphone-sprechstunde/2026-07-13/
LOCATION:AWO Aktivtreff Stellingen\, Jugendstr. 11\, Hamburg\, Hamburg\, 22527\, Deutschland
CATEGORIES:Beratung
END:VEVENT
BEGIN:VEVENT
DTSTART;TZID=Europe/Berlin:20260720T140000
DTEND;TZID=Europe/Berlin:20260720T150000
DTSTAMP:20260419T221028
CREATED:20240909T120342Z
LAST-MODIFIED:20240909T120342Z
UID:10024803-1784556000-1784559600@eimsbuettel-senioren.de
SUMMARY:Smartphone-Sprechstunde
DESCRIPTION:Smartphone-Sprechstunde für Android mit Dimitri
URL:https://eimsbuettel-senioren.de/angebot/smartphone-sprechstunde/2026-07-20/
LOCATION:AWO Aktivtreff Stellingen\, Jugendstr. 11\, Hamburg\, Hamburg\, 22527\, Deutschland
CATEGORIES:Beratung
END:VEVENT
BEGIN:VEVENT
DTSTART;TZID=Europe/Berlin:20260727T140000
DTEND;TZID=Europe/Berlin:20260727T150000
DTSTAMP:20260419T221028
CREATED:20240909T120342Z
LAST-MODIFIED:20240909T120342Z
UID:10024804-1785160800-1785164400@eimsbuettel-senioren.de
SUMMARY:Smartphone-Sprechstunde
DESCRIPTION:Smartphone-Sprechstunde für Android mit Dimitri
URL:https://eimsbuettel-senioren.de/angebot/smartphone-sprechstunde/2026-07-27/
LOCATION:AWO Aktivtreff Stellingen\, Jugendstr. 11\, Hamburg\, Hamburg\, 22527\, Deutschland
CATEGORIES:Beratung
END:VEVENT
BEGIN:VEVENT
DTSTART;TZID=Europe/Berlin:20260803T140000
DTEND;TZID=Europe/Berlin:20260803T150000
DTSTAMP:20260419T221028
CREATED:20240909T120342Z
LAST-MODIFIED:20240909T120342Z
UID:10024805-1785765600-1785769200@eimsbuettel-senioren.de
SUMMARY:Smartphone-Sprechstunde
DESCRIPTION:Smartphone-Sprechstunde für Android mit Dimitri
URL:https://eimsbuettel-senioren.de/angebot/smartphone-sprechstunde/2026-08-03/
LOCATION:AWO Aktivtreff Stellingen\, Jugendstr. 11\, Hamburg\, Hamburg\, 22527\, Deutschland
CATEGORIES:Beratung
END:VEVENT
BEGIN:VEVENT
DTSTART;TZID=Europe/Berlin:20260810T140000
DTEND;TZID=Europe/Berlin:20260810T150000
DTSTAMP:20260419T221028
CREATED:20240909T120342Z
LAST-MODIFIED:20240909T120342Z
UID:10024806-1786370400-1786374000@eimsbuettel-senioren.de
SUMMARY:Smartphone-Sprechstunde
DESCRIPTION:Smartphone-Sprechstunde für Android mit Dimitri
URL:https://eimsbuettel-senioren.de/angebot/smartphone-sprechstunde/2026-08-10/
LOCATION:AWO Aktivtreff Stellingen\, Jugendstr. 11\, Hamburg\, Hamburg\, 22527\, Deutschland
CATEGORIES:Beratung
END:VEVENT
BEGIN:VEVENT
DTSTART;TZID=Europe/Berlin:20260817T140000
DTEND;TZID=Europe/Berlin:20260817T150000
DTSTAMP:20260419T221028
CREATED:20240909T120342Z
LAST-MODIFIED:20240909T120342Z
UID:10024807-1786975200-1786978800@eimsbuettel-senioren.de
SUMMARY:Smartphone-Sprechstunde
DESCRIPTION:Smartphone-Sprechstunde für Android mit Dimitri
URL:https://eimsbuettel-senioren.de/angebot/smartphone-sprechstunde/2026-08-17/
LOCATION:AWO Aktivtreff Stellingen\, Jugendstr. 11\, Hamburg\, Hamburg\, 22527\, Deutschland
CATEGORIES:Beratung
END:VEVENT
BEGIN:VEVENT
DTSTART;TZID=Europe/Berlin:20260824T140000
DTEND;TZID=Europe/Berlin:20260824T150000
DTSTAMP:20260419T221028
CREATED:20240909T120342Z
LAST-MODIFIED:20240909T120342Z
UID:10024808-1787580000-1787583600@eimsbuettel-senioren.de
SUMMARY:Smartphone-Sprechstunde
DESCRIPTION:Smartphone-Sprechstunde für Android mit Dimitri
URL:https://eimsbuettel-senioren.de/angebot/smartphone-sprechstunde/2026-08-24/
LOCATION:AWO Aktivtreff Stellingen\, Jugendstr. 11\, Hamburg\, Hamburg\, 22527\, Deutschland
CATEGORIES:Beratung
END:VEVENT
BEGIN:VEVENT
DTSTART;TZID=Europe/Berlin:20260831T140000
DTEND;TZID=Europe/Berlin:20260831T150000
DTSTAMP:20260419T221028
CREATED:20240909T120342Z
LAST-MODIFIED:20240909T120342Z
UID:10024809-1788184800-1788188400@eimsbuettel-senioren.de
SUMMARY:Smartphone-Sprechstunde
DESCRIPTION:Smartphone-Sprechstunde für Android mit Dimitri
URL:https://eimsbuettel-senioren.de/angebot/smartphone-sprechstunde/2026-08-31/
LOCATION:AWO Aktivtreff Stellingen\, Jugendstr. 11\, Hamburg\, Hamburg\, 22527\, Deutschland
CATEGORIES:Beratung
END:VEVENT
BEGIN:VEVENT
DTSTART;TZID=Europe/Berlin:20260907T140000
DTEND;TZID=Europe/Berlin:20260907T150000
DTSTAMP:20260419T221028
CREATED:20240909T120342Z
LAST-MODIFIED:20240909T120342Z
UID:10024810-1788789600-1788793200@eimsbuettel-senioren.de
SUMMARY:Smartphone-Sprechstunde
DESCRIPTION:Smartphone-Sprechstunde für Android mit Dimitri
URL:https://eimsbuettel-senioren.de/angebot/smartphone-sprechstunde/2026-09-07/
LOCATION:AWO Aktivtreff Stellingen\, Jugendstr. 11\, Hamburg\, Hamburg\, 22527\, Deutschland
CATEGORIES:Beratung
END:VEVENT
BEGIN:VEVENT
DTSTART;TZID=Europe/Berlin:20260914T140000
DTEND;TZID=Europe/Berlin:20260914T150000
DTSTAMP:20260419T221028
CREATED:20240909T120342Z
LAST-MODIFIED:20240909T120342Z
UID:10024811-1789394400-1789398000@eimsbuettel-senioren.de
SUMMARY:Smartphone-Sprechstunde
DESCRIPTION:Smartphone-Sprechstunde für Android mit Dimitri
URL:https://eimsbuettel-senioren.de/angebot/smartphone-sprechstunde/2026-09-14/
LOCATION:AWO Aktivtreff Stellingen\, Jugendstr. 11\, Hamburg\, Hamburg\, 22527\, Deutschland
CATEGORIES:Beratung
END:VEVENT
BEGIN:VEVENT
DTSTART;TZID=Europe/Berlin:20260921T140000
DTEND;TZID=Europe/Berlin:20260921T150000
DTSTAMP:20260419T221028
CREATED:20240909T120342Z
LAST-MODIFIED:20240909T120342Z
UID:10024812-1789999200-1790002800@eimsbuettel-senioren.de
SUMMARY:Smartphone-Sprechstunde
DESCRIPTION:Smartphone-Sprechstunde für Android mit Dimitri
URL:https://eimsbuettel-senioren.de/angebot/smartphone-sprechstunde/2026-09-21/
LOCATION:AWO Aktivtreff Stellingen\, Jugendstr. 11\, Hamburg\, Hamburg\, 22527\, Deutschland
CATEGORIES:Beratung
END:VEVENT
BEGIN:VEVENT
DTSTART;TZID=Europe/Berlin:20260928T140000
DTEND;TZID=Europe/Berlin:20260928T150000
DTSTAMP:20260419T221028
CREATED:20240909T120342Z
LAST-MODIFIED:20240909T120342Z
UID:10024813-1790604000-1790607600@eimsbuettel-senioren.de
SUMMARY:Smartphone-Sprechstunde
DESCRIPTION:Smartphone-Sprechstunde für Android mit Dimitri
URL:https://eimsbuettel-senioren.de/angebot/smartphone-sprechstunde/2026-09-28/
LOCATION:AWO Aktivtreff Stellingen\, Jugendstr. 11\, Hamburg\, Hamburg\, 22527\, Deutschland
CATEGORIES:Beratung
END:VEVENT
BEGIN:VEVENT
DTSTART;TZID=Europe/Berlin:20261005T140000
DTEND;TZID=Europe/Berlin:20261005T150000
DTSTAMP:20260419T221028
CREATED:20240909T120342Z
LAST-MODIFIED:20240909T120342Z
UID:10024814-1791208800-1791212400@eimsbuettel-senioren.de
SUMMARY:Smartphone-Sprechstunde
DESCRIPTION:Smartphone-Sprechstunde für Android mit Dimitri
URL:https://eimsbuettel-senioren.de/angebot/smartphone-sprechstunde/2026-10-05/
LOCATION:AWO Aktivtreff Stellingen\, Jugendstr. 11\, Hamburg\, Hamburg\, 22527\, Deutschland
CATEGORIES:Beratung
END:VEVENT
BEGIN:VEVENT
DTSTART;TZID=Europe/Berlin:20261012T140000
DTEND;TZID=Europe/Berlin:20261012T150000
DTSTAMP:20260419T221028
CREATED:20240909T120342Z
LAST-MODIFIED:20240909T120342Z
UID:10024815-1791813600-1791817200@eimsbuettel-senioren.de
SUMMARY:Smartphone-Sprechstunde
DESCRIPTION:Smartphone-Sprechstunde für Android mit Dimitri
URL:https://eimsbuettel-senioren.de/angebot/smartphone-sprechstunde/2026-10-12/
LOCATION:AWO Aktivtreff Stellingen\, Jugendstr. 11\, Hamburg\, Hamburg\, 22527\, Deutschland
CATEGORIES:Beratung
END:VEVENT
BEGIN:VEVENT
DTSTART;TZID=Europe/Berlin:20261019T140000
DTEND;TZID=Europe/Berlin:20261019T150000
DTSTAMP:20260419T221028
CREATED:20240909T120342Z
LAST-MODIFIED:20240909T120342Z
UID:10024816-1792418400-1792422000@eimsbuettel-senioren.de
SUMMARY:Smartphone-Sprechstunde
DESCRIPTION:Smartphone-Sprechstunde für Android mit Dimitri
URL:https://eimsbuettel-senioren.de/angebot/smartphone-sprechstunde/2026-10-19/
LOCATION:AWO Aktivtreff Stellingen\, Jugendstr. 11\, Hamburg\, Hamburg\, 22527\, Deutschland
CATEGORIES:Beratung
END:VEVENT
BEGIN:VEVENT
DTSTART;TZID=Europe/Berlin:20261026T140000
DTEND;TZID=Europe/Berlin:20261026T150000
DTSTAMP:20260419T221028
CREATED:20240909T120342Z
LAST-MODIFIED:20240909T120342Z
UID:10024817-1793023200-1793026800@eimsbuettel-senioren.de
SUMMARY:Smartphone-Sprechstunde
DESCRIPTION:Smartphone-Sprechstunde für Android mit Dimitri
URL:https://eimsbuettel-senioren.de/angebot/smartphone-sprechstunde/2026-10-26/
LOCATION:AWO Aktivtreff Stellingen\, Jugendstr. 11\, Hamburg\, Hamburg\, 22527\, Deutschland
CATEGORIES:Beratung
END:VEVENT
BEGIN:VEVENT
DTSTART;TZID=Europe/Berlin:20261102T140000
DTEND;TZID=Europe/Berlin:20261102T150000
DTSTAMP:20260419T221028
CREATED:20240909T120342Z
LAST-MODIFIED:20240909T120342Z
UID:10024818-1793628000-1793631600@eimsbuettel-senioren.de
SUMMARY:Smartphone-Sprechstunde
DESCRIPTION:Smartphone-Sprechstunde für Android mit Dimitri
URL:https://eimsbuettel-senioren.de/angebot/smartphone-sprechstunde/2026-11-02/
LOCATION:AWO Aktivtreff Stellingen\, Jugendstr. 11\, Hamburg\, Hamburg\, 22527\, Deutschland
CATEGORIES:Beratung
END:VEVENT
BEGIN:VEVENT
DTSTART;TZID=Europe/Berlin:20261109T140000
DTEND;TZID=Europe/Berlin:20261109T150000
DTSTAMP:20260419T221028
CREATED:20240909T120342Z
LAST-MODIFIED:20240909T120342Z
UID:10024819-1794232800-1794236400@eimsbuettel-senioren.de
SUMMARY:Smartphone-Sprechstunde
DESCRIPTION:Smartphone-Sprechstunde für Android mit Dimitri
URL:https://eimsbuettel-senioren.de/angebot/smartphone-sprechstunde/2026-11-09/
LOCATION:AWO Aktivtreff Stellingen\, Jugendstr. 11\, Hamburg\, Hamburg\, 22527\, Deutschland
CATEGORIES:Beratung
END:VEVENT
END:VCALENDAR