BEGIN:VCALENDAR
VERSION:2.0
PRODID:-//Angebote für Seniorinnen und Senioren im Bezirk Eimsbüttel - ECPv6.15.18//NONSGML v1.0//EN
CALSCALE:GREGORIAN
METHOD:PUBLISH
X-WR-CALNAME:Angebote für Seniorinnen und Senioren im Bezirk Eimsbüttel
X-ORIGINAL-URL:https://eimsbuettel-senioren.de
X-WR-CALDESC:Veranstaltungen für Angebote für Seniorinnen und Senioren im Bezirk Eimsbüttel
REFRESH-INTERVAL;VALUE=DURATION:PT1H
X-Robots-Tag:noindex
X-PUBLISHED-TTL:PT1H
BEGIN:VTIMEZONE
TZID:Europe/Berlin
BEGIN:DAYLIGHT
TZOFFSETFROM:+0100
TZOFFSETTO:+0200
TZNAME:CEST
DTSTART:20250330T010000
END:DAYLIGHT
BEGIN:STANDARD
TZOFFSETFROM:+0200
TZOFFSETTO:+0100
TZNAME:CET
DTSTART:20251026T010000
END:STANDARD
BEGIN:DAYLIGHT
TZOFFSETFROM:+0100
TZOFFSETTO:+0200
TZNAME:CEST
DTSTART:20260329T010000
END:DAYLIGHT
BEGIN:STANDARD
TZOFFSETFROM:+0200
TZOFFSETTO:+0100
TZNAME:CET
DTSTART:20261025T010000
END:STANDARD
BEGIN:DAYLIGHT
TZOFFSETFROM:+0100
TZOFFSETTO:+0200
TZNAME:CEST
DTSTART:20270328T010000
END:DAYLIGHT
BEGIN:STANDARD
TZOFFSETFROM:+0200
TZOFFSETTO:+0100
TZNAME:CET
DTSTART:20271031T010000
END:STANDARD
END:VTIMEZONE
BEGIN:VEVENT
DTSTART;TZID=Europe/Berlin:20260427T140000
DTEND;TZID=Europe/Berlin:20260427T170000
DTSTAMP:20260423T180155
CREATED:20240907T194830Z
LAST-MODIFIED:20240907T194830Z
UID:10024468-1777298400-1777309200@eimsbuettel-senioren.de
SUMMARY:Offener Treff
DESCRIPTION:
URL:https://eimsbuettel-senioren.de/angebot/offener-treff/2026-04-27/
LOCATION:AWO Aktivtreff Stellingen\, Jugendstr. 11\, Hamburg\, Hamburg\, 22527\, Deutschland
CATEGORIES:Sonstiges,Spiel / Gesellschaft
END:VEVENT
BEGIN:VEVENT
DTSTART;TZID=Europe/Berlin:20260504T140000
DTEND;TZID=Europe/Berlin:20260504T170000
DTSTAMP:20260423T180155
CREATED:20240907T194830Z
LAST-MODIFIED:20240907T194830Z
UID:10024469-1777903200-1777914000@eimsbuettel-senioren.de
SUMMARY:Offener Treff
DESCRIPTION:
URL:https://eimsbuettel-senioren.de/angebot/offener-treff/2026-05-04/
LOCATION:AWO Aktivtreff Stellingen\, Jugendstr. 11\, Hamburg\, Hamburg\, 22527\, Deutschland
CATEGORIES:Sonstiges,Spiel / Gesellschaft
END:VEVENT
BEGIN:VEVENT
DTSTART;TZID=Europe/Berlin:20260511T140000
DTEND;TZID=Europe/Berlin:20260511T170000
DTSTAMP:20260423T180155
CREATED:20240907T194830Z
LAST-MODIFIED:20240907T194830Z
UID:10024470-1778508000-1778518800@eimsbuettel-senioren.de
SUMMARY:Offener Treff
DESCRIPTION:
URL:https://eimsbuettel-senioren.de/angebot/offener-treff/2026-05-11/
LOCATION:AWO Aktivtreff Stellingen\, Jugendstr. 11\, Hamburg\, Hamburg\, 22527\, Deutschland
CATEGORIES:Sonstiges,Spiel / Gesellschaft
END:VEVENT
BEGIN:VEVENT
DTSTART;TZID=Europe/Berlin:20260518T140000
DTEND;TZID=Europe/Berlin:20260518T170000
DTSTAMP:20260423T180155
CREATED:20240907T194830Z
LAST-MODIFIED:20240907T194830Z
UID:10024471-1779112800-1779123600@eimsbuettel-senioren.de
SUMMARY:Offener Treff
DESCRIPTION:
URL:https://eimsbuettel-senioren.de/angebot/offener-treff/2026-05-18/
LOCATION:AWO Aktivtreff Stellingen\, Jugendstr. 11\, Hamburg\, Hamburg\, 22527\, Deutschland
CATEGORIES:Sonstiges,Spiel / Gesellschaft
END:VEVENT
BEGIN:VEVENT
DTSTART;TZID=Europe/Berlin:20260525T140000
DTEND;TZID=Europe/Berlin:20260525T170000
DTSTAMP:20260423T180155
CREATED:20240907T194830Z
LAST-MODIFIED:20240907T194830Z
UID:10024472-1779717600-1779728400@eimsbuettel-senioren.de
SUMMARY:Offener Treff
DESCRIPTION:
URL:https://eimsbuettel-senioren.de/angebot/offener-treff/2026-05-25/
LOCATION:AWO Aktivtreff Stellingen\, Jugendstr. 11\, Hamburg\, Hamburg\, 22527\, Deutschland
CATEGORIES:Sonstiges,Spiel / Gesellschaft
END:VEVENT
BEGIN:VEVENT
DTSTART;TZID=Europe/Berlin:20260601T140000
DTEND;TZID=Europe/Berlin:20260601T170000
DTSTAMP:20260423T180155
CREATED:20240907T194830Z
LAST-MODIFIED:20240907T194830Z
UID:10024473-1780322400-1780333200@eimsbuettel-senioren.de
SUMMARY:Offener Treff
DESCRIPTION:
URL:https://eimsbuettel-senioren.de/angebot/offener-treff/2026-06-01/
LOCATION:AWO Aktivtreff Stellingen\, Jugendstr. 11\, Hamburg\, Hamburg\, 22527\, Deutschland
CATEGORIES:Sonstiges,Spiel / Gesellschaft
END:VEVENT
BEGIN:VEVENT
DTSTART;TZID=Europe/Berlin:20260608T140000
DTEND;TZID=Europe/Berlin:20260608T170000
DTSTAMP:20260423T180155
CREATED:20240907T194830Z
LAST-MODIFIED:20240907T194830Z
UID:10024474-1780927200-1780938000@eimsbuettel-senioren.de
SUMMARY:Offener Treff
DESCRIPTION:
URL:https://eimsbuettel-senioren.de/angebot/offener-treff/2026-06-08/
LOCATION:AWO Aktivtreff Stellingen\, Jugendstr. 11\, Hamburg\, Hamburg\, 22527\, Deutschland
CATEGORIES:Sonstiges,Spiel / Gesellschaft
END:VEVENT
BEGIN:VEVENT
DTSTART;TZID=Europe/Berlin:20260615T140000
DTEND;TZID=Europe/Berlin:20260615T170000
DTSTAMP:20260423T180155
CREATED:20240907T194830Z
LAST-MODIFIED:20240907T194830Z
UID:10024475-1781532000-1781542800@eimsbuettel-senioren.de
SUMMARY:Offener Treff
DESCRIPTION:
URL:https://eimsbuettel-senioren.de/angebot/offener-treff/2026-06-15/
LOCATION:AWO Aktivtreff Stellingen\, Jugendstr. 11\, Hamburg\, Hamburg\, 22527\, Deutschland
CATEGORIES:Sonstiges,Spiel / Gesellschaft
END:VEVENT
BEGIN:VEVENT
DTSTART;TZID=Europe/Berlin:20260622T140000
DTEND;TZID=Europe/Berlin:20260622T170000
DTSTAMP:20260423T180155
CREATED:20240907T194830Z
LAST-MODIFIED:20240907T194830Z
UID:10024476-1782136800-1782147600@eimsbuettel-senioren.de
SUMMARY:Offener Treff
DESCRIPTION:
URL:https://eimsbuettel-senioren.de/angebot/offener-treff/2026-06-22/
LOCATION:AWO Aktivtreff Stellingen\, Jugendstr. 11\, Hamburg\, Hamburg\, 22527\, Deutschland
CATEGORIES:Sonstiges,Spiel / Gesellschaft
END:VEVENT
BEGIN:VEVENT
DTSTART;TZID=Europe/Berlin:20260629T140000
DTEND;TZID=Europe/Berlin:20260629T170000
DTSTAMP:20260423T180155
CREATED:20240907T194830Z
LAST-MODIFIED:20240907T194830Z
UID:10024477-1782741600-1782752400@eimsbuettel-senioren.de
SUMMARY:Offener Treff
DESCRIPTION:
URL:https://eimsbuettel-senioren.de/angebot/offener-treff/2026-06-29/
LOCATION:AWO Aktivtreff Stellingen\, Jugendstr. 11\, Hamburg\, Hamburg\, 22527\, Deutschland
CATEGORIES:Sonstiges,Spiel / Gesellschaft
END:VEVENT
BEGIN:VEVENT
DTSTART;TZID=Europe/Berlin:20260706T140000
DTEND;TZID=Europe/Berlin:20260706T170000
DTSTAMP:20260423T180155
CREATED:20240907T194830Z
LAST-MODIFIED:20240907T194830Z
UID:10024478-1783346400-1783357200@eimsbuettel-senioren.de
SUMMARY:Offener Treff
DESCRIPTION:
URL:https://eimsbuettel-senioren.de/angebot/offener-treff/2026-07-06/
LOCATION:AWO Aktivtreff Stellingen\, Jugendstr. 11\, Hamburg\, Hamburg\, 22527\, Deutschland
CATEGORIES:Sonstiges,Spiel / Gesellschaft
END:VEVENT
BEGIN:VEVENT
DTSTART;TZID=Europe/Berlin:20260713T140000
DTEND;TZID=Europe/Berlin:20260713T170000
DTSTAMP:20260423T180155
CREATED:20240907T194830Z
LAST-MODIFIED:20240907T194830Z
UID:10024479-1783951200-1783962000@eimsbuettel-senioren.de
SUMMARY:Offener Treff
DESCRIPTION:
URL:https://eimsbuettel-senioren.de/angebot/offener-treff/2026-07-13/
LOCATION:AWO Aktivtreff Stellingen\, Jugendstr. 11\, Hamburg\, Hamburg\, 22527\, Deutschland
CATEGORIES:Sonstiges,Spiel / Gesellschaft
END:VEVENT
BEGIN:VEVENT
DTSTART;TZID=Europe/Berlin:20260720T140000
DTEND;TZID=Europe/Berlin:20260720T170000
DTSTAMP:20260423T180155
CREATED:20240907T194830Z
LAST-MODIFIED:20240907T194830Z
UID:10024480-1784556000-1784566800@eimsbuettel-senioren.de
SUMMARY:Offener Treff
DESCRIPTION:
URL:https://eimsbuettel-senioren.de/angebot/offener-treff/2026-07-20/
LOCATION:AWO Aktivtreff Stellingen\, Jugendstr. 11\, Hamburg\, Hamburg\, 22527\, Deutschland
CATEGORIES:Sonstiges,Spiel / Gesellschaft
END:VEVENT
BEGIN:VEVENT
DTSTART;TZID=Europe/Berlin:20260727T140000
DTEND;TZID=Europe/Berlin:20260727T170000
DTSTAMP:20260423T180155
CREATED:20240907T194830Z
LAST-MODIFIED:20240907T194830Z
UID:10024481-1785160800-1785171600@eimsbuettel-senioren.de
SUMMARY:Offener Treff
DESCRIPTION:
URL:https://eimsbuettel-senioren.de/angebot/offener-treff/2026-07-27/
LOCATION:AWO Aktivtreff Stellingen\, Jugendstr. 11\, Hamburg\, Hamburg\, 22527\, Deutschland
CATEGORIES:Sonstiges,Spiel / Gesellschaft
END:VEVENT
BEGIN:VEVENT
DTSTART;TZID=Europe/Berlin:20260803T140000
DTEND;TZID=Europe/Berlin:20260803T170000
DTSTAMP:20260423T180155
CREATED:20240907T194830Z
LAST-MODIFIED:20240907T194830Z
UID:10024482-1785765600-1785776400@eimsbuettel-senioren.de
SUMMARY:Offener Treff
DESCRIPTION:
URL:https://eimsbuettel-senioren.de/angebot/offener-treff/2026-08-03/
LOCATION:AWO Aktivtreff Stellingen\, Jugendstr. 11\, Hamburg\, Hamburg\, 22527\, Deutschland
CATEGORIES:Sonstiges,Spiel / Gesellschaft
END:VEVENT
BEGIN:VEVENT
DTSTART;TZID=Europe/Berlin:20260810T140000
DTEND;TZID=Europe/Berlin:20260810T170000
DTSTAMP:20260423T180155
CREATED:20240907T194830Z
LAST-MODIFIED:20240907T194830Z
UID:10024483-1786370400-1786381200@eimsbuettel-senioren.de
SUMMARY:Offener Treff
DESCRIPTION:
URL:https://eimsbuettel-senioren.de/angebot/offener-treff/2026-08-10/
LOCATION:AWO Aktivtreff Stellingen\, Jugendstr. 11\, Hamburg\, Hamburg\, 22527\, Deutschland
CATEGORIES:Sonstiges,Spiel / Gesellschaft
END:VEVENT
BEGIN:VEVENT
DTSTART;TZID=Europe/Berlin:20260817T140000
DTEND;TZID=Europe/Berlin:20260817T170000
DTSTAMP:20260423T180155
CREATED:20240907T194830Z
LAST-MODIFIED:20240907T194830Z
UID:10024484-1786975200-1786986000@eimsbuettel-senioren.de
SUMMARY:Offener Treff
DESCRIPTION:
URL:https://eimsbuettel-senioren.de/angebot/offener-treff/2026-08-17/
LOCATION:AWO Aktivtreff Stellingen\, Jugendstr. 11\, Hamburg\, Hamburg\, 22527\, Deutschland
CATEGORIES:Sonstiges,Spiel / Gesellschaft
END:VEVENT
BEGIN:VEVENT
DTSTART;TZID=Europe/Berlin:20260824T140000
DTEND;TZID=Europe/Berlin:20260824T170000
DTSTAMP:20260423T180155
CREATED:20240907T194830Z
LAST-MODIFIED:20240907T194830Z
UID:10024485-1787580000-1787590800@eimsbuettel-senioren.de
SUMMARY:Offener Treff
DESCRIPTION:
URL:https://eimsbuettel-senioren.de/angebot/offener-treff/2026-08-24/
LOCATION:AWO Aktivtreff Stellingen\, Jugendstr. 11\, Hamburg\, Hamburg\, 22527\, Deutschland
CATEGORIES:Sonstiges,Spiel / Gesellschaft
END:VEVENT
BEGIN:VEVENT
DTSTART;TZID=Europe/Berlin:20260831T140000
DTEND;TZID=Europe/Berlin:20260831T170000
DTSTAMP:20260423T180155
CREATED:20240907T194830Z
LAST-MODIFIED:20240907T194830Z
UID:10024486-1788184800-1788195600@eimsbuettel-senioren.de
SUMMARY:Offener Treff
DESCRIPTION:
URL:https://eimsbuettel-senioren.de/angebot/offener-treff/2026-08-31/
LOCATION:AWO Aktivtreff Stellingen\, Jugendstr. 11\, Hamburg\, Hamburg\, 22527\, Deutschland
CATEGORIES:Sonstiges,Spiel / Gesellschaft
END:VEVENT
BEGIN:VEVENT
DTSTART;TZID=Europe/Berlin:20260907T140000
DTEND;TZID=Europe/Berlin:20260907T170000
DTSTAMP:20260423T180155
CREATED:20240907T194830Z
LAST-MODIFIED:20240907T194830Z
UID:10024487-1788789600-1788800400@eimsbuettel-senioren.de
SUMMARY:Offener Treff
DESCRIPTION:
URL:https://eimsbuettel-senioren.de/angebot/offener-treff/2026-09-07/
LOCATION:AWO Aktivtreff Stellingen\, Jugendstr. 11\, Hamburg\, Hamburg\, 22527\, Deutschland
CATEGORIES:Sonstiges,Spiel / Gesellschaft
END:VEVENT
BEGIN:VEVENT
DTSTART;TZID=Europe/Berlin:20260914T140000
DTEND;TZID=Europe/Berlin:20260914T170000
DTSTAMP:20260423T180155
CREATED:20240907T194830Z
LAST-MODIFIED:20240907T194830Z
UID:10024488-1789394400-1789405200@eimsbuettel-senioren.de
SUMMARY:Offener Treff
DESCRIPTION:
URL:https://eimsbuettel-senioren.de/angebot/offener-treff/2026-09-14/
LOCATION:AWO Aktivtreff Stellingen\, Jugendstr. 11\, Hamburg\, Hamburg\, 22527\, Deutschland
CATEGORIES:Sonstiges,Spiel / Gesellschaft
END:VEVENT
BEGIN:VEVENT
DTSTART;TZID=Europe/Berlin:20260921T140000
DTEND;TZID=Europe/Berlin:20260921T170000
DTSTAMP:20260423T180155
CREATED:20240907T194830Z
LAST-MODIFIED:20240907T194830Z
UID:10024489-1789999200-1790010000@eimsbuettel-senioren.de
SUMMARY:Offener Treff
DESCRIPTION:
URL:https://eimsbuettel-senioren.de/angebot/offener-treff/2026-09-21/
LOCATION:AWO Aktivtreff Stellingen\, Jugendstr. 11\, Hamburg\, Hamburg\, 22527\, Deutschland
CATEGORIES:Sonstiges,Spiel / Gesellschaft
END:VEVENT
BEGIN:VEVENT
DTSTART;TZID=Europe/Berlin:20260928T140000
DTEND;TZID=Europe/Berlin:20260928T170000
DTSTAMP:20260423T180155
CREATED:20240907T194830Z
LAST-MODIFIED:20240907T194830Z
UID:10024490-1790604000-1790614800@eimsbuettel-senioren.de
SUMMARY:Offener Treff
DESCRIPTION:
URL:https://eimsbuettel-senioren.de/angebot/offener-treff/2026-09-28/
LOCATION:AWO Aktivtreff Stellingen\, Jugendstr. 11\, Hamburg\, Hamburg\, 22527\, Deutschland
CATEGORIES:Sonstiges,Spiel / Gesellschaft
END:VEVENT
BEGIN:VEVENT
DTSTART;TZID=Europe/Berlin:20261005T140000
DTEND;TZID=Europe/Berlin:20261005T170000
DTSTAMP:20260423T180155
CREATED:20240907T194830Z
LAST-MODIFIED:20240907T194830Z
UID:10024491-1791208800-1791219600@eimsbuettel-senioren.de
SUMMARY:Offener Treff
DESCRIPTION:
URL:https://eimsbuettel-senioren.de/angebot/offener-treff/2026-10-05/
LOCATION:AWO Aktivtreff Stellingen\, Jugendstr. 11\, Hamburg\, Hamburg\, 22527\, Deutschland
CATEGORIES:Sonstiges,Spiel / Gesellschaft
END:VEVENT
BEGIN:VEVENT
DTSTART;TZID=Europe/Berlin:20261012T140000
DTEND;TZID=Europe/Berlin:20261012T170000
DTSTAMP:20260423T180155
CREATED:20240907T194830Z
LAST-MODIFIED:20240907T194830Z
UID:10024492-1791813600-1791824400@eimsbuettel-senioren.de
SUMMARY:Offener Treff
DESCRIPTION:
URL:https://eimsbuettel-senioren.de/angebot/offener-treff/2026-10-12/
LOCATION:AWO Aktivtreff Stellingen\, Jugendstr. 11\, Hamburg\, Hamburg\, 22527\, Deutschland
CATEGORIES:Sonstiges,Spiel / Gesellschaft
END:VEVENT
BEGIN:VEVENT
DTSTART;TZID=Europe/Berlin:20261019T140000
DTEND;TZID=Europe/Berlin:20261019T170000
DTSTAMP:20260423T180155
CREATED:20240907T194830Z
LAST-MODIFIED:20240907T194830Z
UID:10024493-1792418400-1792429200@eimsbuettel-senioren.de
SUMMARY:Offener Treff
DESCRIPTION:
URL:https://eimsbuettel-senioren.de/angebot/offener-treff/2026-10-19/
LOCATION:AWO Aktivtreff Stellingen\, Jugendstr. 11\, Hamburg\, Hamburg\, 22527\, Deutschland
CATEGORIES:Sonstiges,Spiel / Gesellschaft
END:VEVENT
BEGIN:VEVENT
DTSTART;TZID=Europe/Berlin:20261026T140000
DTEND;TZID=Europe/Berlin:20261026T170000
DTSTAMP:20260423T180155
CREATED:20240907T194830Z
LAST-MODIFIED:20240907T194830Z
UID:10024494-1793023200-1793034000@eimsbuettel-senioren.de
SUMMARY:Offener Treff
DESCRIPTION:
URL:https://eimsbuettel-senioren.de/angebot/offener-treff/2026-10-26/
LOCATION:AWO Aktivtreff Stellingen\, Jugendstr. 11\, Hamburg\, Hamburg\, 22527\, Deutschland
CATEGORIES:Sonstiges,Spiel / Gesellschaft
END:VEVENT
BEGIN:VEVENT
DTSTART;TZID=Europe/Berlin:20261102T140000
DTEND;TZID=Europe/Berlin:20261102T170000
DTSTAMP:20260423T180155
CREATED:20240907T194830Z
LAST-MODIFIED:20240907T194830Z
UID:10024495-1793628000-1793638800@eimsbuettel-senioren.de
SUMMARY:Offener Treff
DESCRIPTION:
URL:https://eimsbuettel-senioren.de/angebot/offener-treff/2026-11-02/
LOCATION:AWO Aktivtreff Stellingen\, Jugendstr. 11\, Hamburg\, Hamburg\, 22527\, Deutschland
CATEGORIES:Sonstiges,Spiel / Gesellschaft
END:VEVENT
BEGIN:VEVENT
DTSTART;TZID=Europe/Berlin:20261109T140000
DTEND;TZID=Europe/Berlin:20261109T170000
DTSTAMP:20260423T180155
CREATED:20240907T194830Z
LAST-MODIFIED:20240907T194830Z
UID:10024496-1794232800-1794243600@eimsbuettel-senioren.de
SUMMARY:Offener Treff
DESCRIPTION:
URL:https://eimsbuettel-senioren.de/angebot/offener-treff/2026-11-09/
LOCATION:AWO Aktivtreff Stellingen\, Jugendstr. 11\, Hamburg\, Hamburg\, 22527\, Deutschland
CATEGORIES:Sonstiges,Spiel / Gesellschaft
END:VEVENT
BEGIN:VEVENT
DTSTART;TZID=Europe/Berlin:20261116T140000
DTEND;TZID=Europe/Berlin:20261116T170000
DTSTAMP:20260423T180155
CREATED:20240907T194830Z
LAST-MODIFIED:20240907T194830Z
UID:10024497-1794837600-1794848400@eimsbuettel-senioren.de
SUMMARY:Offener Treff
DESCRIPTION:
URL:https://eimsbuettel-senioren.de/angebot/offener-treff/2026-11-16/
LOCATION:AWO Aktivtreff Stellingen\, Jugendstr. 11\, Hamburg\, Hamburg\, 22527\, Deutschland
CATEGORIES:Sonstiges,Spiel / Gesellschaft
END:VEVENT
END:VCALENDAR