BEGIN:VCALENDAR
VERSION:2.0
PRODID:-//Angebote für Seniorinnen und Senioren im Bezirk Eimsbüttel - ECPv6.15.18//NONSGML v1.0//EN
CALSCALE:GREGORIAN
METHOD:PUBLISH
X-WR-CALNAME:Angebote für Seniorinnen und Senioren im Bezirk Eimsbüttel
X-ORIGINAL-URL:https://eimsbuettel-senioren.de
X-WR-CALDESC:Veranstaltungen für Angebote für Seniorinnen und Senioren im Bezirk Eimsbüttel
REFRESH-INTERVAL;VALUE=DURATION:PT1H
X-Robots-Tag:noindex
X-PUBLISHED-TTL:PT1H
BEGIN:VTIMEZONE
TZID:Europe/Berlin
BEGIN:DAYLIGHT
TZOFFSETFROM:+0100
TZOFFSETTO:+0200
TZNAME:CEST
DTSTART:20250330T010000
END:DAYLIGHT
BEGIN:STANDARD
TZOFFSETFROM:+0200
TZOFFSETTO:+0100
TZNAME:CET
DTSTART:20251026T010000
END:STANDARD
BEGIN:DAYLIGHT
TZOFFSETFROM:+0100
TZOFFSETTO:+0200
TZNAME:CEST
DTSTART:20260329T010000
END:DAYLIGHT
BEGIN:STANDARD
TZOFFSETFROM:+0200
TZOFFSETTO:+0100
TZNAME:CET
DTSTART:20261025T010000
END:STANDARD
BEGIN:DAYLIGHT
TZOFFSETFROM:+0100
TZOFFSETTO:+0200
TZNAME:CEST
DTSTART:20270328T010000
END:DAYLIGHT
BEGIN:STANDARD
TZOFFSETFROM:+0200
TZOFFSETTO:+0100
TZNAME:CET
DTSTART:20271031T010000
END:STANDARD
BEGIN:DAYLIGHT
TZOFFSETFROM:+0100
TZOFFSETTO:+0200
TZNAME:CEST
DTSTART:20280326T010000
END:DAYLIGHT
BEGIN:STANDARD
TZOFFSETFROM:+0200
TZOFFSETTO:+0100
TZNAME:CET
DTSTART:20281029T010000
END:STANDARD
BEGIN:DAYLIGHT
TZOFFSETFROM:+0100
TZOFFSETTO:+0200
TZNAME:CEST
DTSTART:20290325T010000
END:DAYLIGHT
BEGIN:STANDARD
TZOFFSETFROM:+0200
TZOFFSETTO:+0100
TZNAME:CET
DTSTART:20291028T010000
END:STANDARD
END:VTIMEZONE
BEGIN:VEVENT
DTSTART;TZID=Europe/Berlin:20260505T100000
DTEND;TZID=Europe/Berlin:20260505T120000
DTSTAMP:20260423T193442
CREATED:20240907T194544Z
LAST-MODIFIED:20240907T194544Z
UID:10024282-1777975200-1777982400@eimsbuettel-senioren.de
SUMMARY:Frühstücksbuffet
DESCRIPTION:In Gemeinschaft den Tag beginnen – jeden 1. und 3. Dienstag im Monat
URL:https://eimsbuettel-senioren.de/angebot/fruehstuecksbuffet-2/2026-05-05/
LOCATION:AWO Aktivtreff Stellingen\, Jugendstr. 11\, Hamburg\, Hamburg\, 22527\, Deutschland
CATEGORIES:Essen / Trinken,Spiel / Gesellschaft
END:VEVENT
BEGIN:VEVENT
DTSTART;TZID=Europe/Berlin:20260602T100000
DTEND;TZID=Europe/Berlin:20260602T120000
DTSTAMP:20260423T193442
CREATED:20240907T194544Z
LAST-MODIFIED:20240907T194544Z
UID:10024283-1780394400-1780401600@eimsbuettel-senioren.de
SUMMARY:Frühstücksbuffet
DESCRIPTION:In Gemeinschaft den Tag beginnen – jeden 1. und 3. Dienstag im Monat
URL:https://eimsbuettel-senioren.de/angebot/fruehstuecksbuffet-2/2026-06-02/
LOCATION:AWO Aktivtreff Stellingen\, Jugendstr. 11\, Hamburg\, Hamburg\, 22527\, Deutschland
CATEGORIES:Essen / Trinken,Spiel / Gesellschaft
END:VEVENT
BEGIN:VEVENT
DTSTART;TZID=Europe/Berlin:20260707T100000
DTEND;TZID=Europe/Berlin:20260707T120000
DTSTAMP:20260423T193442
CREATED:20240907T194544Z
LAST-MODIFIED:20240907T194544Z
UID:10024284-1783418400-1783425600@eimsbuettel-senioren.de
SUMMARY:Frühstücksbuffet
DESCRIPTION:In Gemeinschaft den Tag beginnen – jeden 1. und 3. Dienstag im Monat
URL:https://eimsbuettel-senioren.de/angebot/fruehstuecksbuffet-2/2026-07-07/
LOCATION:AWO Aktivtreff Stellingen\, Jugendstr. 11\, Hamburg\, Hamburg\, 22527\, Deutschland
CATEGORIES:Essen / Trinken,Spiel / Gesellschaft
END:VEVENT
BEGIN:VEVENT
DTSTART;TZID=Europe/Berlin:20260804T100000
DTEND;TZID=Europe/Berlin:20260804T120000
DTSTAMP:20260423T193442
CREATED:20240907T194544Z
LAST-MODIFIED:20240907T194544Z
UID:10024285-1785837600-1785844800@eimsbuettel-senioren.de
SUMMARY:Frühstücksbuffet
DESCRIPTION:In Gemeinschaft den Tag beginnen – jeden 1. und 3. Dienstag im Monat
URL:https://eimsbuettel-senioren.de/angebot/fruehstuecksbuffet-2/2026-08-04/
LOCATION:AWO Aktivtreff Stellingen\, Jugendstr. 11\, Hamburg\, Hamburg\, 22527\, Deutschland
CATEGORIES:Essen / Trinken,Spiel / Gesellschaft
END:VEVENT
BEGIN:VEVENT
DTSTART;TZID=Europe/Berlin:20260901T100000
DTEND;TZID=Europe/Berlin:20260901T120000
DTSTAMP:20260423T193442
CREATED:20240907T194544Z
LAST-MODIFIED:20240907T194544Z
UID:10024286-1788256800-1788264000@eimsbuettel-senioren.de
SUMMARY:Frühstücksbuffet
DESCRIPTION:In Gemeinschaft den Tag beginnen – jeden 1. und 3. Dienstag im Monat
URL:https://eimsbuettel-senioren.de/angebot/fruehstuecksbuffet-2/2026-09-01/
LOCATION:AWO Aktivtreff Stellingen\, Jugendstr. 11\, Hamburg\, Hamburg\, 22527\, Deutschland
CATEGORIES:Essen / Trinken,Spiel / Gesellschaft
END:VEVENT
BEGIN:VEVENT
DTSTART;TZID=Europe/Berlin:20261006T100000
DTEND;TZID=Europe/Berlin:20261006T120000
DTSTAMP:20260423T193442
CREATED:20240907T194544Z
LAST-MODIFIED:20240907T194544Z
UID:10024287-1791280800-1791288000@eimsbuettel-senioren.de
SUMMARY:Frühstücksbuffet
DESCRIPTION:In Gemeinschaft den Tag beginnen – jeden 1. und 3. Dienstag im Monat
URL:https://eimsbuettel-senioren.de/angebot/fruehstuecksbuffet-2/2026-10-06/
LOCATION:AWO Aktivtreff Stellingen\, Jugendstr. 11\, Hamburg\, Hamburg\, 22527\, Deutschland
CATEGORIES:Essen / Trinken,Spiel / Gesellschaft
END:VEVENT
BEGIN:VEVENT
DTSTART;TZID=Europe/Berlin:20261103T100000
DTEND;TZID=Europe/Berlin:20261103T120000
DTSTAMP:20260423T193442
CREATED:20240907T194544Z
LAST-MODIFIED:20240907T194544Z
UID:10024288-1793700000-1793707200@eimsbuettel-senioren.de
SUMMARY:Frühstücksbuffet
DESCRIPTION:In Gemeinschaft den Tag beginnen – jeden 1. und 3. Dienstag im Monat
URL:https://eimsbuettel-senioren.de/angebot/fruehstuecksbuffet-2/2026-11-03/
LOCATION:AWO Aktivtreff Stellingen\, Jugendstr. 11\, Hamburg\, Hamburg\, 22527\, Deutschland
CATEGORIES:Essen / Trinken,Spiel / Gesellschaft
END:VEVENT
BEGIN:VEVENT
DTSTART;TZID=Europe/Berlin:20261201T100000
DTEND;TZID=Europe/Berlin:20261201T120000
DTSTAMP:20260423T193442
CREATED:20240907T194544Z
LAST-MODIFIED:20240907T194544Z
UID:10024289-1796119200-1796126400@eimsbuettel-senioren.de
SUMMARY:Frühstücksbuffet
DESCRIPTION:In Gemeinschaft den Tag beginnen – jeden 1. und 3. Dienstag im Monat
URL:https://eimsbuettel-senioren.de/angebot/fruehstuecksbuffet-2/2026-12-01/
LOCATION:AWO Aktivtreff Stellingen\, Jugendstr. 11\, Hamburg\, Hamburg\, 22527\, Deutschland
CATEGORIES:Essen / Trinken,Spiel / Gesellschaft
END:VEVENT
BEGIN:VEVENT
DTSTART;TZID=Europe/Berlin:20270105T100000
DTEND;TZID=Europe/Berlin:20270105T120000
DTSTAMP:20260423T193442
CREATED:20240907T194544Z
LAST-MODIFIED:20240907T194544Z
UID:10024290-1799143200-1799150400@eimsbuettel-senioren.de
SUMMARY:Frühstücksbuffet
DESCRIPTION:In Gemeinschaft den Tag beginnen – jeden 1. und 3. Dienstag im Monat
URL:https://eimsbuettel-senioren.de/angebot/fruehstuecksbuffet-2/2027-01-05/
LOCATION:AWO Aktivtreff Stellingen\, Jugendstr. 11\, Hamburg\, Hamburg\, 22527\, Deutschland
CATEGORIES:Essen / Trinken,Spiel / Gesellschaft
END:VEVENT
BEGIN:VEVENT
DTSTART;TZID=Europe/Berlin:20270202T100000
DTEND;TZID=Europe/Berlin:20270202T120000
DTSTAMP:20260423T193442
CREATED:20240907T194544Z
LAST-MODIFIED:20240907T194544Z
UID:10024291-1801562400-1801569600@eimsbuettel-senioren.de
SUMMARY:Frühstücksbuffet
DESCRIPTION:In Gemeinschaft den Tag beginnen – jeden 1. und 3. Dienstag im Monat
URL:https://eimsbuettel-senioren.de/angebot/fruehstuecksbuffet-2/2027-02-02/
LOCATION:AWO Aktivtreff Stellingen\, Jugendstr. 11\, Hamburg\, Hamburg\, 22527\, Deutschland
CATEGORIES:Essen / Trinken,Spiel / Gesellschaft
END:VEVENT
BEGIN:VEVENT
DTSTART;TZID=Europe/Berlin:20270302T100000
DTEND;TZID=Europe/Berlin:20270302T120000
DTSTAMP:20260423T193442
CREATED:20240907T194544Z
LAST-MODIFIED:20240907T194544Z
UID:10024292-1803981600-1803988800@eimsbuettel-senioren.de
SUMMARY:Frühstücksbuffet
DESCRIPTION:In Gemeinschaft den Tag beginnen – jeden 1. und 3. Dienstag im Monat
URL:https://eimsbuettel-senioren.de/angebot/fruehstuecksbuffet-2/2027-03-02/
LOCATION:AWO Aktivtreff Stellingen\, Jugendstr. 11\, Hamburg\, Hamburg\, 22527\, Deutschland
CATEGORIES:Essen / Trinken,Spiel / Gesellschaft
END:VEVENT
BEGIN:VEVENT
DTSTART;TZID=Europe/Berlin:20270406T100000
DTEND;TZID=Europe/Berlin:20270406T120000
DTSTAMP:20260423T193442
CREATED:20240907T194544Z
LAST-MODIFIED:20240907T194544Z
UID:10024293-1807005600-1807012800@eimsbuettel-senioren.de
SUMMARY:Frühstücksbuffet
DESCRIPTION:In Gemeinschaft den Tag beginnen – jeden 1. und 3. Dienstag im Monat
URL:https://eimsbuettel-senioren.de/angebot/fruehstuecksbuffet-2/2027-04-06/
LOCATION:AWO Aktivtreff Stellingen\, Jugendstr. 11\, Hamburg\, Hamburg\, 22527\, Deutschland
CATEGORIES:Essen / Trinken,Spiel / Gesellschaft
END:VEVENT
BEGIN:VEVENT
DTSTART;TZID=Europe/Berlin:20270504T100000
DTEND;TZID=Europe/Berlin:20270504T120000
DTSTAMP:20260423T193442
CREATED:20240907T194544Z
LAST-MODIFIED:20240907T194544Z
UID:10024294-1809424800-1809432000@eimsbuettel-senioren.de
SUMMARY:Frühstücksbuffet
DESCRIPTION:In Gemeinschaft den Tag beginnen – jeden 1. und 3. Dienstag im Monat
URL:https://eimsbuettel-senioren.de/angebot/fruehstuecksbuffet-2/2027-05-04/
LOCATION:AWO Aktivtreff Stellingen\, Jugendstr. 11\, Hamburg\, Hamburg\, 22527\, Deutschland
CATEGORIES:Essen / Trinken,Spiel / Gesellschaft
END:VEVENT
BEGIN:VEVENT
DTSTART;TZID=Europe/Berlin:20270601T100000
DTEND;TZID=Europe/Berlin:20270601T120000
DTSTAMP:20260423T193442
CREATED:20240907T194544Z
LAST-MODIFIED:20240907T194544Z
UID:10024295-1811844000-1811851200@eimsbuettel-senioren.de
SUMMARY:Frühstücksbuffet
DESCRIPTION:In Gemeinschaft den Tag beginnen – jeden 1. und 3. Dienstag im Monat
URL:https://eimsbuettel-senioren.de/angebot/fruehstuecksbuffet-2/2027-06-01/
LOCATION:AWO Aktivtreff Stellingen\, Jugendstr. 11\, Hamburg\, Hamburg\, 22527\, Deutschland
CATEGORIES:Essen / Trinken,Spiel / Gesellschaft
END:VEVENT
BEGIN:VEVENT
DTSTART;TZID=Europe/Berlin:20270706T100000
DTEND;TZID=Europe/Berlin:20270706T120000
DTSTAMP:20260423T193442
CREATED:20240907T194544Z
LAST-MODIFIED:20240907T194544Z
UID:10024296-1814868000-1814875200@eimsbuettel-senioren.de
SUMMARY:Frühstücksbuffet
DESCRIPTION:In Gemeinschaft den Tag beginnen – jeden 1. und 3. Dienstag im Monat
URL:https://eimsbuettel-senioren.de/angebot/fruehstuecksbuffet-2/2027-07-06/
LOCATION:AWO Aktivtreff Stellingen\, Jugendstr. 11\, Hamburg\, Hamburg\, 22527\, Deutschland
CATEGORIES:Essen / Trinken,Spiel / Gesellschaft
END:VEVENT
BEGIN:VEVENT
DTSTART;TZID=Europe/Berlin:20270803T100000
DTEND;TZID=Europe/Berlin:20270803T120000
DTSTAMP:20260423T193442
CREATED:20240907T194544Z
LAST-MODIFIED:20240907T194544Z
UID:10024297-1817287200-1817294400@eimsbuettel-senioren.de
SUMMARY:Frühstücksbuffet
DESCRIPTION:In Gemeinschaft den Tag beginnen – jeden 1. und 3. Dienstag im Monat
URL:https://eimsbuettel-senioren.de/angebot/fruehstuecksbuffet-2/2027-08-03/
LOCATION:AWO Aktivtreff Stellingen\, Jugendstr. 11\, Hamburg\, Hamburg\, 22527\, Deutschland
CATEGORIES:Essen / Trinken,Spiel / Gesellschaft
END:VEVENT
BEGIN:VEVENT
DTSTART;TZID=Europe/Berlin:20270907T100000
DTEND;TZID=Europe/Berlin:20270907T120000
DTSTAMP:20260423T193442
CREATED:20240907T194544Z
LAST-MODIFIED:20240907T194544Z
UID:10024298-1820311200-1820318400@eimsbuettel-senioren.de
SUMMARY:Frühstücksbuffet
DESCRIPTION:In Gemeinschaft den Tag beginnen – jeden 1. und 3. Dienstag im Monat
URL:https://eimsbuettel-senioren.de/angebot/fruehstuecksbuffet-2/2027-09-07/
LOCATION:AWO Aktivtreff Stellingen\, Jugendstr. 11\, Hamburg\, Hamburg\, 22527\, Deutschland
CATEGORIES:Essen / Trinken,Spiel / Gesellschaft
END:VEVENT
BEGIN:VEVENT
DTSTART;TZID=Europe/Berlin:20271005T100000
DTEND;TZID=Europe/Berlin:20271005T120000
DTSTAMP:20260423T193442
CREATED:20240907T194544Z
LAST-MODIFIED:20240907T194544Z
UID:10024299-1822730400-1822737600@eimsbuettel-senioren.de
SUMMARY:Frühstücksbuffet
DESCRIPTION:In Gemeinschaft den Tag beginnen – jeden 1. und 3. Dienstag im Monat
URL:https://eimsbuettel-senioren.de/angebot/fruehstuecksbuffet-2/2027-10-05/
LOCATION:AWO Aktivtreff Stellingen\, Jugendstr. 11\, Hamburg\, Hamburg\, 22527\, Deutschland
CATEGORIES:Essen / Trinken,Spiel / Gesellschaft
END:VEVENT
BEGIN:VEVENT
DTSTART;TZID=Europe/Berlin:20271102T100000
DTEND;TZID=Europe/Berlin:20271102T120000
DTSTAMP:20260423T193442
CREATED:20240907T194544Z
LAST-MODIFIED:20240907T194544Z
UID:10024300-1825149600-1825156800@eimsbuettel-senioren.de
SUMMARY:Frühstücksbuffet
DESCRIPTION:In Gemeinschaft den Tag beginnen – jeden 1. und 3. Dienstag im Monat
URL:https://eimsbuettel-senioren.de/angebot/fruehstuecksbuffet-2/2027-11-02/
LOCATION:AWO Aktivtreff Stellingen\, Jugendstr. 11\, Hamburg\, Hamburg\, 22527\, Deutschland
CATEGORIES:Essen / Trinken,Spiel / Gesellschaft
END:VEVENT
BEGIN:VEVENT
DTSTART;TZID=Europe/Berlin:20271207T100000
DTEND;TZID=Europe/Berlin:20271207T120000
DTSTAMP:20260423T193442
CREATED:20240907T194544Z
LAST-MODIFIED:20240907T194544Z
UID:10024301-1828173600-1828180800@eimsbuettel-senioren.de
SUMMARY:Frühstücksbuffet
DESCRIPTION:In Gemeinschaft den Tag beginnen – jeden 1. und 3. Dienstag im Monat
URL:https://eimsbuettel-senioren.de/angebot/fruehstuecksbuffet-2/2027-12-07/
LOCATION:AWO Aktivtreff Stellingen\, Jugendstr. 11\, Hamburg\, Hamburg\, 22527\, Deutschland
CATEGORIES:Essen / Trinken,Spiel / Gesellschaft
END:VEVENT
BEGIN:VEVENT
DTSTART;TZID=Europe/Berlin:20280104T100000
DTEND;TZID=Europe/Berlin:20280104T120000
DTSTAMP:20260423T193442
CREATED:20240907T194544Z
LAST-MODIFIED:20240907T194544Z
UID:10024302-1830592800-1830600000@eimsbuettel-senioren.de
SUMMARY:Frühstücksbuffet
DESCRIPTION:In Gemeinschaft den Tag beginnen – jeden 1. und 3. Dienstag im Monat
URL:https://eimsbuettel-senioren.de/angebot/fruehstuecksbuffet-2/2028-01-04/
LOCATION:AWO Aktivtreff Stellingen\, Jugendstr. 11\, Hamburg\, Hamburg\, 22527\, Deutschland
CATEGORIES:Essen / Trinken,Spiel / Gesellschaft
END:VEVENT
BEGIN:VEVENT
DTSTART;TZID=Europe/Berlin:20280201T100000
DTEND;TZID=Europe/Berlin:20280201T120000
DTSTAMP:20260423T193442
CREATED:20240907T194544Z
LAST-MODIFIED:20240907T194544Z
UID:10024303-1833012000-1833019200@eimsbuettel-senioren.de
SUMMARY:Frühstücksbuffet
DESCRIPTION:In Gemeinschaft den Tag beginnen – jeden 1. und 3. Dienstag im Monat
URL:https://eimsbuettel-senioren.de/angebot/fruehstuecksbuffet-2/2028-02-01/
LOCATION:AWO Aktivtreff Stellingen\, Jugendstr. 11\, Hamburg\, Hamburg\, 22527\, Deutschland
CATEGORIES:Essen / Trinken,Spiel / Gesellschaft
END:VEVENT
BEGIN:VEVENT
DTSTART;TZID=Europe/Berlin:20280307T100000
DTEND;TZID=Europe/Berlin:20280307T120000
DTSTAMP:20260423T193442
CREATED:20240907T194544Z
LAST-MODIFIED:20240907T194544Z
UID:10024304-1836036000-1836043200@eimsbuettel-senioren.de
SUMMARY:Frühstücksbuffet
DESCRIPTION:In Gemeinschaft den Tag beginnen – jeden 1. und 3. Dienstag im Monat
URL:https://eimsbuettel-senioren.de/angebot/fruehstuecksbuffet-2/2028-03-07/
LOCATION:AWO Aktivtreff Stellingen\, Jugendstr. 11\, Hamburg\, Hamburg\, 22527\, Deutschland
CATEGORIES:Essen / Trinken,Spiel / Gesellschaft
END:VEVENT
BEGIN:VEVENT
DTSTART;TZID=Europe/Berlin:20280404T100000
DTEND;TZID=Europe/Berlin:20280404T120000
DTSTAMP:20260423T193442
CREATED:20240907T194544Z
LAST-MODIFIED:20240907T194544Z
UID:10024305-1838455200-1838462400@eimsbuettel-senioren.de
SUMMARY:Frühstücksbuffet
DESCRIPTION:In Gemeinschaft den Tag beginnen – jeden 1. und 3. Dienstag im Monat
URL:https://eimsbuettel-senioren.de/angebot/fruehstuecksbuffet-2/2028-04-04/
LOCATION:AWO Aktivtreff Stellingen\, Jugendstr. 11\, Hamburg\, Hamburg\, 22527\, Deutschland
CATEGORIES:Essen / Trinken,Spiel / Gesellschaft
END:VEVENT
BEGIN:VEVENT
DTSTART;TZID=Europe/Berlin:20280502T100000
DTEND;TZID=Europe/Berlin:20280502T120000
DTSTAMP:20260423T193442
CREATED:20240907T194544Z
LAST-MODIFIED:20240907T194544Z
UID:10024306-1840874400-1840881600@eimsbuettel-senioren.de
SUMMARY:Frühstücksbuffet
DESCRIPTION:In Gemeinschaft den Tag beginnen – jeden 1. und 3. Dienstag im Monat
URL:https://eimsbuettel-senioren.de/angebot/fruehstuecksbuffet-2/2028-05-02/
LOCATION:AWO Aktivtreff Stellingen\, Jugendstr. 11\, Hamburg\, Hamburg\, 22527\, Deutschland
CATEGORIES:Essen / Trinken,Spiel / Gesellschaft
END:VEVENT
BEGIN:VEVENT
DTSTART;TZID=Europe/Berlin:20280606T100000
DTEND;TZID=Europe/Berlin:20280606T120000
DTSTAMP:20260423T193442
CREATED:20240907T194544Z
LAST-MODIFIED:20240907T194544Z
UID:10024307-1843898400-1843905600@eimsbuettel-senioren.de
SUMMARY:Frühstücksbuffet
DESCRIPTION:In Gemeinschaft den Tag beginnen – jeden 1. und 3. Dienstag im Monat
URL:https://eimsbuettel-senioren.de/angebot/fruehstuecksbuffet-2/2028-06-06/
LOCATION:AWO Aktivtreff Stellingen\, Jugendstr. 11\, Hamburg\, Hamburg\, 22527\, Deutschland
CATEGORIES:Essen / Trinken,Spiel / Gesellschaft
END:VEVENT
BEGIN:VEVENT
DTSTART;TZID=Europe/Berlin:20280704T100000
DTEND;TZID=Europe/Berlin:20280704T120000
DTSTAMP:20260423T193442
CREATED:20240907T194544Z
LAST-MODIFIED:20240907T194544Z
UID:10024308-1846317600-1846324800@eimsbuettel-senioren.de
SUMMARY:Frühstücksbuffet
DESCRIPTION:In Gemeinschaft den Tag beginnen – jeden 1. und 3. Dienstag im Monat
URL:https://eimsbuettel-senioren.de/angebot/fruehstuecksbuffet-2/2028-07-04/
LOCATION:AWO Aktivtreff Stellingen\, Jugendstr. 11\, Hamburg\, Hamburg\, 22527\, Deutschland
CATEGORIES:Essen / Trinken,Spiel / Gesellschaft
END:VEVENT
BEGIN:VEVENT
DTSTART;TZID=Europe/Berlin:20280801T100000
DTEND;TZID=Europe/Berlin:20280801T120000
DTSTAMP:20260423T193442
CREATED:20240907T194544Z
LAST-MODIFIED:20240907T194544Z
UID:10024309-1848736800-1848744000@eimsbuettel-senioren.de
SUMMARY:Frühstücksbuffet
DESCRIPTION:In Gemeinschaft den Tag beginnen – jeden 1. und 3. Dienstag im Monat
URL:https://eimsbuettel-senioren.de/angebot/fruehstuecksbuffet-2/2028-08-01/
LOCATION:AWO Aktivtreff Stellingen\, Jugendstr. 11\, Hamburg\, Hamburg\, 22527\, Deutschland
CATEGORIES:Essen / Trinken,Spiel / Gesellschaft
END:VEVENT
BEGIN:VEVENT
DTSTART;TZID=Europe/Berlin:20280905T100000
DTEND;TZID=Europe/Berlin:20280905T120000
DTSTAMP:20260423T193442
CREATED:20240907T194544Z
LAST-MODIFIED:20240907T194544Z
UID:10024310-1851760800-1851768000@eimsbuettel-senioren.de
SUMMARY:Frühstücksbuffet
DESCRIPTION:In Gemeinschaft den Tag beginnen – jeden 1. und 3. Dienstag im Monat
URL:https://eimsbuettel-senioren.de/angebot/fruehstuecksbuffet-2/2028-09-05/
LOCATION:AWO Aktivtreff Stellingen\, Jugendstr. 11\, Hamburg\, Hamburg\, 22527\, Deutschland
CATEGORIES:Essen / Trinken,Spiel / Gesellschaft
END:VEVENT
BEGIN:VEVENT
DTSTART;TZID=Europe/Berlin:20281003T100000
DTEND;TZID=Europe/Berlin:20281003T120000
DTSTAMP:20260423T193442
CREATED:20240907T194544Z
LAST-MODIFIED:20240907T194544Z
UID:10024311-1854180000-1854187200@eimsbuettel-senioren.de
SUMMARY:Frühstücksbuffet
DESCRIPTION:In Gemeinschaft den Tag beginnen – jeden 1. und 3. Dienstag im Monat
URL:https://eimsbuettel-senioren.de/angebot/fruehstuecksbuffet-2/2028-10-03/
LOCATION:AWO Aktivtreff Stellingen\, Jugendstr. 11\, Hamburg\, Hamburg\, 22527\, Deutschland
CATEGORIES:Essen / Trinken,Spiel / Gesellschaft
END:VEVENT
END:VCALENDAR