BEGIN:VCALENDAR
VERSION:2.0
PRODID:-//Angebote für Seniorinnen und Senioren im Bezirk Eimsbüttel - ECPv6.15.18//NONSGML v1.0//EN
CALSCALE:GREGORIAN
METHOD:PUBLISH
X-WR-CALNAME:Angebote für Seniorinnen und Senioren im Bezirk Eimsbüttel
X-ORIGINAL-URL:https://eimsbuettel-senioren.de
X-WR-CALDESC:Veranstaltungen für Angebote für Seniorinnen und Senioren im Bezirk Eimsbüttel
REFRESH-INTERVAL;VALUE=DURATION:PT1H
X-Robots-Tag:noindex
X-PUBLISHED-TTL:PT1H
BEGIN:VTIMEZONE
TZID:Europe/Berlin
BEGIN:DAYLIGHT
TZOFFSETFROM:+0100
TZOFFSETTO:+0200
TZNAME:CEST
DTSTART:20250330T010000
END:DAYLIGHT
BEGIN:STANDARD
TZOFFSETFROM:+0200
TZOFFSETTO:+0100
TZNAME:CET
DTSTART:20251026T010000
END:STANDARD
BEGIN:DAYLIGHT
TZOFFSETFROM:+0100
TZOFFSETTO:+0200
TZNAME:CEST
DTSTART:20260329T010000
END:DAYLIGHT
BEGIN:STANDARD
TZOFFSETFROM:+0200
TZOFFSETTO:+0100
TZNAME:CET
DTSTART:20261025T010000
END:STANDARD
BEGIN:DAYLIGHT
TZOFFSETFROM:+0100
TZOFFSETTO:+0200
TZNAME:CEST
DTSTART:20270328T010000
END:DAYLIGHT
BEGIN:STANDARD
TZOFFSETFROM:+0200
TZOFFSETTO:+0100
TZNAME:CET
DTSTART:20271031T010000
END:STANDARD
END:VTIMEZONE
BEGIN:VEVENT
DTSTART;TZID=Europe/Berlin:20260430T183000
DTEND;TZID=Europe/Berlin:20260430T193000
DTSTAMP:20260423T195034
CREATED:20240301T111353Z
LAST-MODIFIED:20250801T151111Z
UID:10023050-1777573800-1777577400@eimsbuettel-senioren.de
SUMMARY:Meditation in Bewegung - Tai Chi für alle 50+
DESCRIPTION:Durch das regelmäßige Üben mit Tai-Chi-Lehrerin Anne Schmidt verbesserst du deine\nBeweglichkeit & dein Gleichgewicht. Spaß in netter Runde sind inklusive. \nDu brauchst: Bequeme Kleidung und Getränke. \nVorkenntnisse sind nicht nötig! \nGruppenleitung: Anne Schmidt
URL:https://eimsbuettel-senioren.de/angebot/meditation-in-bewegung-tai-chi-fuer-alle-50/2026-04-30/
LOCATION:Treffpunkt im ReeWie-Haus. Gemeinsam_aktiv_Älterwerden\, Wiebischenkamp 58\, Hamburg\, 22523
CATEGORIES:Bewegung / Gesundheit
ORGANIZER;CN="Carmen Ripper (Koordinatorin Treffpunkt im ReeWie-Haus)":MAILTO:st-eidelstedt@seniorenbuero-hamburg.de
END:VEVENT
BEGIN:VEVENT
DTSTART;TZID=Europe/Berlin:20260507T183000
DTEND;TZID=Europe/Berlin:20260507T193000
DTSTAMP:20260423T195034
CREATED:20240301T111353Z
LAST-MODIFIED:20250801T151111Z
UID:10023051-1778178600-1778182200@eimsbuettel-senioren.de
SUMMARY:Meditation in Bewegung - Tai Chi für alle 50+
DESCRIPTION:Durch das regelmäßige Üben mit Tai-Chi-Lehrerin Anne Schmidt verbesserst du deine\nBeweglichkeit & dein Gleichgewicht. Spaß in netter Runde sind inklusive. \nDu brauchst: Bequeme Kleidung und Getränke. \nVorkenntnisse sind nicht nötig! \nGruppenleitung: Anne Schmidt
URL:https://eimsbuettel-senioren.de/angebot/meditation-in-bewegung-tai-chi-fuer-alle-50/2026-05-07/
LOCATION:Treffpunkt im ReeWie-Haus. Gemeinsam_aktiv_Älterwerden\, Wiebischenkamp 58\, Hamburg\, 22523
CATEGORIES:Bewegung / Gesundheit
ORGANIZER;CN="Carmen Ripper (Koordinatorin Treffpunkt im ReeWie-Haus)":MAILTO:st-eidelstedt@seniorenbuero-hamburg.de
END:VEVENT
BEGIN:VEVENT
DTSTART;TZID=Europe/Berlin:20260514T183000
DTEND;TZID=Europe/Berlin:20260514T193000
DTSTAMP:20260423T195034
CREATED:20240301T111353Z
LAST-MODIFIED:20250801T151111Z
UID:10023052-1778783400-1778787000@eimsbuettel-senioren.de
SUMMARY:Meditation in Bewegung - Tai Chi für alle 50+
DESCRIPTION:Durch das regelmäßige Üben mit Tai-Chi-Lehrerin Anne Schmidt verbesserst du deine\nBeweglichkeit & dein Gleichgewicht. Spaß in netter Runde sind inklusive. \nDu brauchst: Bequeme Kleidung und Getränke. \nVorkenntnisse sind nicht nötig! \nGruppenleitung: Anne Schmidt
URL:https://eimsbuettel-senioren.de/angebot/meditation-in-bewegung-tai-chi-fuer-alle-50/2026-05-14/
LOCATION:Treffpunkt im ReeWie-Haus. Gemeinsam_aktiv_Älterwerden\, Wiebischenkamp 58\, Hamburg\, 22523
CATEGORIES:Bewegung / Gesundheit
ORGANIZER;CN="Carmen Ripper (Koordinatorin Treffpunkt im ReeWie-Haus)":MAILTO:st-eidelstedt@seniorenbuero-hamburg.de
END:VEVENT
BEGIN:VEVENT
DTSTART;TZID=Europe/Berlin:20260521T183000
DTEND;TZID=Europe/Berlin:20260521T193000
DTSTAMP:20260423T195034
CREATED:20240301T111353Z
LAST-MODIFIED:20250801T151111Z
UID:10023053-1779388200-1779391800@eimsbuettel-senioren.de
SUMMARY:Meditation in Bewegung - Tai Chi für alle 50+
DESCRIPTION:Durch das regelmäßige Üben mit Tai-Chi-Lehrerin Anne Schmidt verbesserst du deine\nBeweglichkeit & dein Gleichgewicht. Spaß in netter Runde sind inklusive. \nDu brauchst: Bequeme Kleidung und Getränke. \nVorkenntnisse sind nicht nötig! \nGruppenleitung: Anne Schmidt
URL:https://eimsbuettel-senioren.de/angebot/meditation-in-bewegung-tai-chi-fuer-alle-50/2026-05-21/
LOCATION:Treffpunkt im ReeWie-Haus. Gemeinsam_aktiv_Älterwerden\, Wiebischenkamp 58\, Hamburg\, 22523
CATEGORIES:Bewegung / Gesundheit
ORGANIZER;CN="Carmen Ripper (Koordinatorin Treffpunkt im ReeWie-Haus)":MAILTO:st-eidelstedt@seniorenbuero-hamburg.de
END:VEVENT
BEGIN:VEVENT
DTSTART;TZID=Europe/Berlin:20260528T183000
DTEND;TZID=Europe/Berlin:20260528T193000
DTSTAMP:20260423T195034
CREATED:20240301T111353Z
LAST-MODIFIED:20250801T151111Z
UID:10023054-1779993000-1779996600@eimsbuettel-senioren.de
SUMMARY:Meditation in Bewegung - Tai Chi für alle 50+
DESCRIPTION:Durch das regelmäßige Üben mit Tai-Chi-Lehrerin Anne Schmidt verbesserst du deine\nBeweglichkeit & dein Gleichgewicht. Spaß in netter Runde sind inklusive. \nDu brauchst: Bequeme Kleidung und Getränke. \nVorkenntnisse sind nicht nötig! \nGruppenleitung: Anne Schmidt
URL:https://eimsbuettel-senioren.de/angebot/meditation-in-bewegung-tai-chi-fuer-alle-50/2026-05-28/
LOCATION:Treffpunkt im ReeWie-Haus. Gemeinsam_aktiv_Älterwerden\, Wiebischenkamp 58\, Hamburg\, 22523
CATEGORIES:Bewegung / Gesundheit
ORGANIZER;CN="Carmen Ripper (Koordinatorin Treffpunkt im ReeWie-Haus)":MAILTO:st-eidelstedt@seniorenbuero-hamburg.de
END:VEVENT
BEGIN:VEVENT
DTSTART;TZID=Europe/Berlin:20260604T183000
DTEND;TZID=Europe/Berlin:20260604T193000
DTSTAMP:20260423T195034
CREATED:20240301T111353Z
LAST-MODIFIED:20250801T151111Z
UID:10023055-1780597800-1780601400@eimsbuettel-senioren.de
SUMMARY:Meditation in Bewegung - Tai Chi für alle 50+
DESCRIPTION:Durch das regelmäßige Üben mit Tai-Chi-Lehrerin Anne Schmidt verbesserst du deine\nBeweglichkeit & dein Gleichgewicht. Spaß in netter Runde sind inklusive. \nDu brauchst: Bequeme Kleidung und Getränke. \nVorkenntnisse sind nicht nötig! \nGruppenleitung: Anne Schmidt
URL:https://eimsbuettel-senioren.de/angebot/meditation-in-bewegung-tai-chi-fuer-alle-50/2026-06-04/
LOCATION:Treffpunkt im ReeWie-Haus. Gemeinsam_aktiv_Älterwerden\, Wiebischenkamp 58\, Hamburg\, 22523
CATEGORIES:Bewegung / Gesundheit
ORGANIZER;CN="Carmen Ripper (Koordinatorin Treffpunkt im ReeWie-Haus)":MAILTO:st-eidelstedt@seniorenbuero-hamburg.de
END:VEVENT
BEGIN:VEVENT
DTSTART;TZID=Europe/Berlin:20260611T183000
DTEND;TZID=Europe/Berlin:20260611T193000
DTSTAMP:20260423T195034
CREATED:20240301T111353Z
LAST-MODIFIED:20250801T151111Z
UID:10023056-1781202600-1781206200@eimsbuettel-senioren.de
SUMMARY:Meditation in Bewegung - Tai Chi für alle 50+
DESCRIPTION:Durch das regelmäßige Üben mit Tai-Chi-Lehrerin Anne Schmidt verbesserst du deine\nBeweglichkeit & dein Gleichgewicht. Spaß in netter Runde sind inklusive. \nDu brauchst: Bequeme Kleidung und Getränke. \nVorkenntnisse sind nicht nötig! \nGruppenleitung: Anne Schmidt
URL:https://eimsbuettel-senioren.de/angebot/meditation-in-bewegung-tai-chi-fuer-alle-50/2026-06-11/
LOCATION:Treffpunkt im ReeWie-Haus. Gemeinsam_aktiv_Älterwerden\, Wiebischenkamp 58\, Hamburg\, 22523
CATEGORIES:Bewegung / Gesundheit
ORGANIZER;CN="Carmen Ripper (Koordinatorin Treffpunkt im ReeWie-Haus)":MAILTO:st-eidelstedt@seniorenbuero-hamburg.de
END:VEVENT
BEGIN:VEVENT
DTSTART;TZID=Europe/Berlin:20260618T183000
DTEND;TZID=Europe/Berlin:20260618T193000
DTSTAMP:20260423T195034
CREATED:20240301T111353Z
LAST-MODIFIED:20250801T151111Z
UID:10023057-1781807400-1781811000@eimsbuettel-senioren.de
SUMMARY:Meditation in Bewegung - Tai Chi für alle 50+
DESCRIPTION:Durch das regelmäßige Üben mit Tai-Chi-Lehrerin Anne Schmidt verbesserst du deine\nBeweglichkeit & dein Gleichgewicht. Spaß in netter Runde sind inklusive. \nDu brauchst: Bequeme Kleidung und Getränke. \nVorkenntnisse sind nicht nötig! \nGruppenleitung: Anne Schmidt
URL:https://eimsbuettel-senioren.de/angebot/meditation-in-bewegung-tai-chi-fuer-alle-50/2026-06-18/
LOCATION:Treffpunkt im ReeWie-Haus. Gemeinsam_aktiv_Älterwerden\, Wiebischenkamp 58\, Hamburg\, 22523
CATEGORIES:Bewegung / Gesundheit
ORGANIZER;CN="Carmen Ripper (Koordinatorin Treffpunkt im ReeWie-Haus)":MAILTO:st-eidelstedt@seniorenbuero-hamburg.de
END:VEVENT
BEGIN:VEVENT
DTSTART;TZID=Europe/Berlin:20260625T183000
DTEND;TZID=Europe/Berlin:20260625T193000
DTSTAMP:20260423T195034
CREATED:20240301T111353Z
LAST-MODIFIED:20250801T151111Z
UID:10023058-1782412200-1782415800@eimsbuettel-senioren.de
SUMMARY:Meditation in Bewegung - Tai Chi für alle 50+
DESCRIPTION:Durch das regelmäßige Üben mit Tai-Chi-Lehrerin Anne Schmidt verbesserst du deine\nBeweglichkeit & dein Gleichgewicht. Spaß in netter Runde sind inklusive. \nDu brauchst: Bequeme Kleidung und Getränke. \nVorkenntnisse sind nicht nötig! \nGruppenleitung: Anne Schmidt
URL:https://eimsbuettel-senioren.de/angebot/meditation-in-bewegung-tai-chi-fuer-alle-50/2026-06-25/
LOCATION:Treffpunkt im ReeWie-Haus. Gemeinsam_aktiv_Älterwerden\, Wiebischenkamp 58\, Hamburg\, 22523
CATEGORIES:Bewegung / Gesundheit
ORGANIZER;CN="Carmen Ripper (Koordinatorin Treffpunkt im ReeWie-Haus)":MAILTO:st-eidelstedt@seniorenbuero-hamburg.de
END:VEVENT
BEGIN:VEVENT
DTSTART;TZID=Europe/Berlin:20260702T183000
DTEND;TZID=Europe/Berlin:20260702T193000
DTSTAMP:20260423T195034
CREATED:20240301T111353Z
LAST-MODIFIED:20250801T151111Z
UID:10023059-1783017000-1783020600@eimsbuettel-senioren.de
SUMMARY:Meditation in Bewegung - Tai Chi für alle 50+
DESCRIPTION:Durch das regelmäßige Üben mit Tai-Chi-Lehrerin Anne Schmidt verbesserst du deine\nBeweglichkeit & dein Gleichgewicht. Spaß in netter Runde sind inklusive. \nDu brauchst: Bequeme Kleidung und Getränke. \nVorkenntnisse sind nicht nötig! \nGruppenleitung: Anne Schmidt
URL:https://eimsbuettel-senioren.de/angebot/meditation-in-bewegung-tai-chi-fuer-alle-50/2026-07-02/
LOCATION:Treffpunkt im ReeWie-Haus. Gemeinsam_aktiv_Älterwerden\, Wiebischenkamp 58\, Hamburg\, 22523
CATEGORIES:Bewegung / Gesundheit
ORGANIZER;CN="Carmen Ripper (Koordinatorin Treffpunkt im ReeWie-Haus)":MAILTO:st-eidelstedt@seniorenbuero-hamburg.de
END:VEVENT
BEGIN:VEVENT
DTSTART;TZID=Europe/Berlin:20260709T183000
DTEND;TZID=Europe/Berlin:20260709T193000
DTSTAMP:20260423T195034
CREATED:20240301T111353Z
LAST-MODIFIED:20250801T151111Z
UID:10023060-1783621800-1783625400@eimsbuettel-senioren.de
SUMMARY:Meditation in Bewegung - Tai Chi für alle 50+
DESCRIPTION:Durch das regelmäßige Üben mit Tai-Chi-Lehrerin Anne Schmidt verbesserst du deine\nBeweglichkeit & dein Gleichgewicht. Spaß in netter Runde sind inklusive. \nDu brauchst: Bequeme Kleidung und Getränke. \nVorkenntnisse sind nicht nötig! \nGruppenleitung: Anne Schmidt
URL:https://eimsbuettel-senioren.de/angebot/meditation-in-bewegung-tai-chi-fuer-alle-50/2026-07-09/
LOCATION:Treffpunkt im ReeWie-Haus. Gemeinsam_aktiv_Älterwerden\, Wiebischenkamp 58\, Hamburg\, 22523
CATEGORIES:Bewegung / Gesundheit
ORGANIZER;CN="Carmen Ripper (Koordinatorin Treffpunkt im ReeWie-Haus)":MAILTO:st-eidelstedt@seniorenbuero-hamburg.de
END:VEVENT
BEGIN:VEVENT
DTSTART;TZID=Europe/Berlin:20260716T183000
DTEND;TZID=Europe/Berlin:20260716T193000
DTSTAMP:20260423T195034
CREATED:20240301T111353Z
LAST-MODIFIED:20250801T151111Z
UID:10023061-1784226600-1784230200@eimsbuettel-senioren.de
SUMMARY:Meditation in Bewegung - Tai Chi für alle 50+
DESCRIPTION:Durch das regelmäßige Üben mit Tai-Chi-Lehrerin Anne Schmidt verbesserst du deine\nBeweglichkeit & dein Gleichgewicht. Spaß in netter Runde sind inklusive. \nDu brauchst: Bequeme Kleidung und Getränke. \nVorkenntnisse sind nicht nötig! \nGruppenleitung: Anne Schmidt
URL:https://eimsbuettel-senioren.de/angebot/meditation-in-bewegung-tai-chi-fuer-alle-50/2026-07-16/
LOCATION:Treffpunkt im ReeWie-Haus. Gemeinsam_aktiv_Älterwerden\, Wiebischenkamp 58\, Hamburg\, 22523
CATEGORIES:Bewegung / Gesundheit
ORGANIZER;CN="Carmen Ripper (Koordinatorin Treffpunkt im ReeWie-Haus)":MAILTO:st-eidelstedt@seniorenbuero-hamburg.de
END:VEVENT
BEGIN:VEVENT
DTSTART;TZID=Europe/Berlin:20260723T183000
DTEND;TZID=Europe/Berlin:20260723T193000
DTSTAMP:20260423T195034
CREATED:20240301T111353Z
LAST-MODIFIED:20250801T151111Z
UID:10023062-1784831400-1784835000@eimsbuettel-senioren.de
SUMMARY:Meditation in Bewegung - Tai Chi für alle 50+
DESCRIPTION:Durch das regelmäßige Üben mit Tai-Chi-Lehrerin Anne Schmidt verbesserst du deine\nBeweglichkeit & dein Gleichgewicht. Spaß in netter Runde sind inklusive. \nDu brauchst: Bequeme Kleidung und Getränke. \nVorkenntnisse sind nicht nötig! \nGruppenleitung: Anne Schmidt
URL:https://eimsbuettel-senioren.de/angebot/meditation-in-bewegung-tai-chi-fuer-alle-50/2026-07-23/
LOCATION:Treffpunkt im ReeWie-Haus. Gemeinsam_aktiv_Älterwerden\, Wiebischenkamp 58\, Hamburg\, 22523
CATEGORIES:Bewegung / Gesundheit
ORGANIZER;CN="Carmen Ripper (Koordinatorin Treffpunkt im ReeWie-Haus)":MAILTO:st-eidelstedt@seniorenbuero-hamburg.de
END:VEVENT
BEGIN:VEVENT
DTSTART;TZID=Europe/Berlin:20260730T183000
DTEND;TZID=Europe/Berlin:20260730T193000
DTSTAMP:20260423T195034
CREATED:20240301T111353Z
LAST-MODIFIED:20250801T151111Z
UID:10023063-1785436200-1785439800@eimsbuettel-senioren.de
SUMMARY:Meditation in Bewegung - Tai Chi für alle 50+
DESCRIPTION:Durch das regelmäßige Üben mit Tai-Chi-Lehrerin Anne Schmidt verbesserst du deine\nBeweglichkeit & dein Gleichgewicht. Spaß in netter Runde sind inklusive. \nDu brauchst: Bequeme Kleidung und Getränke. \nVorkenntnisse sind nicht nötig! \nGruppenleitung: Anne Schmidt
URL:https://eimsbuettel-senioren.de/angebot/meditation-in-bewegung-tai-chi-fuer-alle-50/2026-07-30/
LOCATION:Treffpunkt im ReeWie-Haus. Gemeinsam_aktiv_Älterwerden\, Wiebischenkamp 58\, Hamburg\, 22523
CATEGORIES:Bewegung / Gesundheit
ORGANIZER;CN="Carmen Ripper (Koordinatorin Treffpunkt im ReeWie-Haus)":MAILTO:st-eidelstedt@seniorenbuero-hamburg.de
END:VEVENT
BEGIN:VEVENT
DTSTART;TZID=Europe/Berlin:20260806T183000
DTEND;TZID=Europe/Berlin:20260806T193000
DTSTAMP:20260423T195034
CREATED:20240301T111353Z
LAST-MODIFIED:20250801T151111Z
UID:10023064-1786041000-1786044600@eimsbuettel-senioren.de
SUMMARY:Meditation in Bewegung - Tai Chi für alle 50+
DESCRIPTION:Durch das regelmäßige Üben mit Tai-Chi-Lehrerin Anne Schmidt verbesserst du deine\nBeweglichkeit & dein Gleichgewicht. Spaß in netter Runde sind inklusive. \nDu brauchst: Bequeme Kleidung und Getränke. \nVorkenntnisse sind nicht nötig! \nGruppenleitung: Anne Schmidt
URL:https://eimsbuettel-senioren.de/angebot/meditation-in-bewegung-tai-chi-fuer-alle-50/2026-08-06/
LOCATION:Treffpunkt im ReeWie-Haus. Gemeinsam_aktiv_Älterwerden\, Wiebischenkamp 58\, Hamburg\, 22523
CATEGORIES:Bewegung / Gesundheit
ORGANIZER;CN="Carmen Ripper (Koordinatorin Treffpunkt im ReeWie-Haus)":MAILTO:st-eidelstedt@seniorenbuero-hamburg.de
END:VEVENT
BEGIN:VEVENT
DTSTART;TZID=Europe/Berlin:20260813T183000
DTEND;TZID=Europe/Berlin:20260813T193000
DTSTAMP:20260423T195034
CREATED:20240301T111353Z
LAST-MODIFIED:20250801T151111Z
UID:10023065-1786645800-1786649400@eimsbuettel-senioren.de
SUMMARY:Meditation in Bewegung - Tai Chi für alle 50+
DESCRIPTION:Durch das regelmäßige Üben mit Tai-Chi-Lehrerin Anne Schmidt verbesserst du deine\nBeweglichkeit & dein Gleichgewicht. Spaß in netter Runde sind inklusive. \nDu brauchst: Bequeme Kleidung und Getränke. \nVorkenntnisse sind nicht nötig! \nGruppenleitung: Anne Schmidt
URL:https://eimsbuettel-senioren.de/angebot/meditation-in-bewegung-tai-chi-fuer-alle-50/2026-08-13/
LOCATION:Treffpunkt im ReeWie-Haus. Gemeinsam_aktiv_Älterwerden\, Wiebischenkamp 58\, Hamburg\, 22523
CATEGORIES:Bewegung / Gesundheit
ORGANIZER;CN="Carmen Ripper (Koordinatorin Treffpunkt im ReeWie-Haus)":MAILTO:st-eidelstedt@seniorenbuero-hamburg.de
END:VEVENT
BEGIN:VEVENT
DTSTART;TZID=Europe/Berlin:20260820T183000
DTEND;TZID=Europe/Berlin:20260820T193000
DTSTAMP:20260423T195034
CREATED:20240301T111353Z
LAST-MODIFIED:20250801T151111Z
UID:10023066-1787250600-1787254200@eimsbuettel-senioren.de
SUMMARY:Meditation in Bewegung - Tai Chi für alle 50+
DESCRIPTION:Durch das regelmäßige Üben mit Tai-Chi-Lehrerin Anne Schmidt verbesserst du deine\nBeweglichkeit & dein Gleichgewicht. Spaß in netter Runde sind inklusive. \nDu brauchst: Bequeme Kleidung und Getränke. \nVorkenntnisse sind nicht nötig! \nGruppenleitung: Anne Schmidt
URL:https://eimsbuettel-senioren.de/angebot/meditation-in-bewegung-tai-chi-fuer-alle-50/2026-08-20/
LOCATION:Treffpunkt im ReeWie-Haus. Gemeinsam_aktiv_Älterwerden\, Wiebischenkamp 58\, Hamburg\, 22523
CATEGORIES:Bewegung / Gesundheit
ORGANIZER;CN="Carmen Ripper (Koordinatorin Treffpunkt im ReeWie-Haus)":MAILTO:st-eidelstedt@seniorenbuero-hamburg.de
END:VEVENT
BEGIN:VEVENT
DTSTART;TZID=Europe/Berlin:20260827T183000
DTEND;TZID=Europe/Berlin:20260827T193000
DTSTAMP:20260423T195034
CREATED:20240301T111353Z
LAST-MODIFIED:20250801T151111Z
UID:10023067-1787855400-1787859000@eimsbuettel-senioren.de
SUMMARY:Meditation in Bewegung - Tai Chi für alle 50+
DESCRIPTION:Durch das regelmäßige Üben mit Tai-Chi-Lehrerin Anne Schmidt verbesserst du deine\nBeweglichkeit & dein Gleichgewicht. Spaß in netter Runde sind inklusive. \nDu brauchst: Bequeme Kleidung und Getränke. \nVorkenntnisse sind nicht nötig! \nGruppenleitung: Anne Schmidt
URL:https://eimsbuettel-senioren.de/angebot/meditation-in-bewegung-tai-chi-fuer-alle-50/2026-08-27/
LOCATION:Treffpunkt im ReeWie-Haus. Gemeinsam_aktiv_Älterwerden\, Wiebischenkamp 58\, Hamburg\, 22523
CATEGORIES:Bewegung / Gesundheit
ORGANIZER;CN="Carmen Ripper (Koordinatorin Treffpunkt im ReeWie-Haus)":MAILTO:st-eidelstedt@seniorenbuero-hamburg.de
END:VEVENT
BEGIN:VEVENT
DTSTART;TZID=Europe/Berlin:20260903T183000
DTEND;TZID=Europe/Berlin:20260903T193000
DTSTAMP:20260423T195034
CREATED:20240301T111353Z
LAST-MODIFIED:20250801T151111Z
UID:10023068-1788460200-1788463800@eimsbuettel-senioren.de
SUMMARY:Meditation in Bewegung - Tai Chi für alle 50+
DESCRIPTION:Durch das regelmäßige Üben mit Tai-Chi-Lehrerin Anne Schmidt verbesserst du deine\nBeweglichkeit & dein Gleichgewicht. Spaß in netter Runde sind inklusive. \nDu brauchst: Bequeme Kleidung und Getränke. \nVorkenntnisse sind nicht nötig! \nGruppenleitung: Anne Schmidt
URL:https://eimsbuettel-senioren.de/angebot/meditation-in-bewegung-tai-chi-fuer-alle-50/2026-09-03/
LOCATION:Treffpunkt im ReeWie-Haus. Gemeinsam_aktiv_Älterwerden\, Wiebischenkamp 58\, Hamburg\, 22523
CATEGORIES:Bewegung / Gesundheit
ORGANIZER;CN="Carmen Ripper (Koordinatorin Treffpunkt im ReeWie-Haus)":MAILTO:st-eidelstedt@seniorenbuero-hamburg.de
END:VEVENT
BEGIN:VEVENT
DTSTART;TZID=Europe/Berlin:20260910T183000
DTEND;TZID=Europe/Berlin:20260910T193000
DTSTAMP:20260423T195034
CREATED:20240301T111353Z
LAST-MODIFIED:20250801T151111Z
UID:10023069-1789065000-1789068600@eimsbuettel-senioren.de
SUMMARY:Meditation in Bewegung - Tai Chi für alle 50+
DESCRIPTION:Durch das regelmäßige Üben mit Tai-Chi-Lehrerin Anne Schmidt verbesserst du deine\nBeweglichkeit & dein Gleichgewicht. Spaß in netter Runde sind inklusive. \nDu brauchst: Bequeme Kleidung und Getränke. \nVorkenntnisse sind nicht nötig! \nGruppenleitung: Anne Schmidt
URL:https://eimsbuettel-senioren.de/angebot/meditation-in-bewegung-tai-chi-fuer-alle-50/2026-09-10/
LOCATION:Treffpunkt im ReeWie-Haus. Gemeinsam_aktiv_Älterwerden\, Wiebischenkamp 58\, Hamburg\, 22523
CATEGORIES:Bewegung / Gesundheit
ORGANIZER;CN="Carmen Ripper (Koordinatorin Treffpunkt im ReeWie-Haus)":MAILTO:st-eidelstedt@seniorenbuero-hamburg.de
END:VEVENT
BEGIN:VEVENT
DTSTART;TZID=Europe/Berlin:20260917T183000
DTEND;TZID=Europe/Berlin:20260917T193000
DTSTAMP:20260423T195034
CREATED:20240301T111353Z
LAST-MODIFIED:20250801T151111Z
UID:10023070-1789669800-1789673400@eimsbuettel-senioren.de
SUMMARY:Meditation in Bewegung - Tai Chi für alle 50+
DESCRIPTION:Durch das regelmäßige Üben mit Tai-Chi-Lehrerin Anne Schmidt verbesserst du deine\nBeweglichkeit & dein Gleichgewicht. Spaß in netter Runde sind inklusive. \nDu brauchst: Bequeme Kleidung und Getränke. \nVorkenntnisse sind nicht nötig! \nGruppenleitung: Anne Schmidt
URL:https://eimsbuettel-senioren.de/angebot/meditation-in-bewegung-tai-chi-fuer-alle-50/2026-09-17/
LOCATION:Treffpunkt im ReeWie-Haus. Gemeinsam_aktiv_Älterwerden\, Wiebischenkamp 58\, Hamburg\, 22523
CATEGORIES:Bewegung / Gesundheit
ORGANIZER;CN="Carmen Ripper (Koordinatorin Treffpunkt im ReeWie-Haus)":MAILTO:st-eidelstedt@seniorenbuero-hamburg.de
END:VEVENT
BEGIN:VEVENT
DTSTART;TZID=Europe/Berlin:20260924T183000
DTEND;TZID=Europe/Berlin:20260924T193000
DTSTAMP:20260423T195034
CREATED:20240301T111353Z
LAST-MODIFIED:20250801T151111Z
UID:10023071-1790274600-1790278200@eimsbuettel-senioren.de
SUMMARY:Meditation in Bewegung - Tai Chi für alle 50+
DESCRIPTION:Durch das regelmäßige Üben mit Tai-Chi-Lehrerin Anne Schmidt verbesserst du deine\nBeweglichkeit & dein Gleichgewicht. Spaß in netter Runde sind inklusive. \nDu brauchst: Bequeme Kleidung und Getränke. \nVorkenntnisse sind nicht nötig! \nGruppenleitung: Anne Schmidt
URL:https://eimsbuettel-senioren.de/angebot/meditation-in-bewegung-tai-chi-fuer-alle-50/2026-09-24/
LOCATION:Treffpunkt im ReeWie-Haus. Gemeinsam_aktiv_Älterwerden\, Wiebischenkamp 58\, Hamburg\, 22523
CATEGORIES:Bewegung / Gesundheit
ORGANIZER;CN="Carmen Ripper (Koordinatorin Treffpunkt im ReeWie-Haus)":MAILTO:st-eidelstedt@seniorenbuero-hamburg.de
END:VEVENT
BEGIN:VEVENT
DTSTART;TZID=Europe/Berlin:20261001T183000
DTEND;TZID=Europe/Berlin:20261001T193000
DTSTAMP:20260423T195034
CREATED:20240301T111353Z
LAST-MODIFIED:20250801T151111Z
UID:10023072-1790879400-1790883000@eimsbuettel-senioren.de
SUMMARY:Meditation in Bewegung - Tai Chi für alle 50+
DESCRIPTION:Durch das regelmäßige Üben mit Tai-Chi-Lehrerin Anne Schmidt verbesserst du deine\nBeweglichkeit & dein Gleichgewicht. Spaß in netter Runde sind inklusive. \nDu brauchst: Bequeme Kleidung und Getränke. \nVorkenntnisse sind nicht nötig! \nGruppenleitung: Anne Schmidt
URL:https://eimsbuettel-senioren.de/angebot/meditation-in-bewegung-tai-chi-fuer-alle-50/2026-10-01/
LOCATION:Treffpunkt im ReeWie-Haus. Gemeinsam_aktiv_Älterwerden\, Wiebischenkamp 58\, Hamburg\, 22523
CATEGORIES:Bewegung / Gesundheit
ORGANIZER;CN="Carmen Ripper (Koordinatorin Treffpunkt im ReeWie-Haus)":MAILTO:st-eidelstedt@seniorenbuero-hamburg.de
END:VEVENT
BEGIN:VEVENT
DTSTART;TZID=Europe/Berlin:20261008T183000
DTEND;TZID=Europe/Berlin:20261008T193000
DTSTAMP:20260423T195034
CREATED:20240301T111353Z
LAST-MODIFIED:20250801T151111Z
UID:10023073-1791484200-1791487800@eimsbuettel-senioren.de
SUMMARY:Meditation in Bewegung - Tai Chi für alle 50+
DESCRIPTION:Durch das regelmäßige Üben mit Tai-Chi-Lehrerin Anne Schmidt verbesserst du deine\nBeweglichkeit & dein Gleichgewicht. Spaß in netter Runde sind inklusive. \nDu brauchst: Bequeme Kleidung und Getränke. \nVorkenntnisse sind nicht nötig! \nGruppenleitung: Anne Schmidt
URL:https://eimsbuettel-senioren.de/angebot/meditation-in-bewegung-tai-chi-fuer-alle-50/2026-10-08/
LOCATION:Treffpunkt im ReeWie-Haus. Gemeinsam_aktiv_Älterwerden\, Wiebischenkamp 58\, Hamburg\, 22523
CATEGORIES:Bewegung / Gesundheit
ORGANIZER;CN="Carmen Ripper (Koordinatorin Treffpunkt im ReeWie-Haus)":MAILTO:st-eidelstedt@seniorenbuero-hamburg.de
END:VEVENT
BEGIN:VEVENT
DTSTART;TZID=Europe/Berlin:20261015T183000
DTEND;TZID=Europe/Berlin:20261015T193000
DTSTAMP:20260423T195034
CREATED:20240301T111353Z
LAST-MODIFIED:20250801T151111Z
UID:10023074-1792089000-1792092600@eimsbuettel-senioren.de
SUMMARY:Meditation in Bewegung - Tai Chi für alle 50+
DESCRIPTION:Durch das regelmäßige Üben mit Tai-Chi-Lehrerin Anne Schmidt verbesserst du deine\nBeweglichkeit & dein Gleichgewicht. Spaß in netter Runde sind inklusive. \nDu brauchst: Bequeme Kleidung und Getränke. \nVorkenntnisse sind nicht nötig! \nGruppenleitung: Anne Schmidt
URL:https://eimsbuettel-senioren.de/angebot/meditation-in-bewegung-tai-chi-fuer-alle-50/2026-10-15/
LOCATION:Treffpunkt im ReeWie-Haus. Gemeinsam_aktiv_Älterwerden\, Wiebischenkamp 58\, Hamburg\, 22523
CATEGORIES:Bewegung / Gesundheit
ORGANIZER;CN="Carmen Ripper (Koordinatorin Treffpunkt im ReeWie-Haus)":MAILTO:st-eidelstedt@seniorenbuero-hamburg.de
END:VEVENT
BEGIN:VEVENT
DTSTART;TZID=Europe/Berlin:20261022T183000
DTEND;TZID=Europe/Berlin:20261022T193000
DTSTAMP:20260423T195034
CREATED:20240301T111353Z
LAST-MODIFIED:20250801T151111Z
UID:10023075-1792693800-1792697400@eimsbuettel-senioren.de
SUMMARY:Meditation in Bewegung - Tai Chi für alle 50+
DESCRIPTION:Durch das regelmäßige Üben mit Tai-Chi-Lehrerin Anne Schmidt verbesserst du deine\nBeweglichkeit & dein Gleichgewicht. Spaß in netter Runde sind inklusive. \nDu brauchst: Bequeme Kleidung und Getränke. \nVorkenntnisse sind nicht nötig! \nGruppenleitung: Anne Schmidt
URL:https://eimsbuettel-senioren.de/angebot/meditation-in-bewegung-tai-chi-fuer-alle-50/2026-10-22/
LOCATION:Treffpunkt im ReeWie-Haus. Gemeinsam_aktiv_Älterwerden\, Wiebischenkamp 58\, Hamburg\, 22523
CATEGORIES:Bewegung / Gesundheit
ORGANIZER;CN="Carmen Ripper (Koordinatorin Treffpunkt im ReeWie-Haus)":MAILTO:st-eidelstedt@seniorenbuero-hamburg.de
END:VEVENT
BEGIN:VEVENT
DTSTART;TZID=Europe/Berlin:20261029T183000
DTEND;TZID=Europe/Berlin:20261029T193000
DTSTAMP:20260423T195034
CREATED:20240301T111353Z
LAST-MODIFIED:20250801T151111Z
UID:10023076-1793298600-1793302200@eimsbuettel-senioren.de
SUMMARY:Meditation in Bewegung - Tai Chi für alle 50+
DESCRIPTION:Durch das regelmäßige Üben mit Tai-Chi-Lehrerin Anne Schmidt verbesserst du deine\nBeweglichkeit & dein Gleichgewicht. Spaß in netter Runde sind inklusive. \nDu brauchst: Bequeme Kleidung und Getränke. \nVorkenntnisse sind nicht nötig! \nGruppenleitung: Anne Schmidt
URL:https://eimsbuettel-senioren.de/angebot/meditation-in-bewegung-tai-chi-fuer-alle-50/2026-10-29/
LOCATION:Treffpunkt im ReeWie-Haus. Gemeinsam_aktiv_Älterwerden\, Wiebischenkamp 58\, Hamburg\, 22523
CATEGORIES:Bewegung / Gesundheit
ORGANIZER;CN="Carmen Ripper (Koordinatorin Treffpunkt im ReeWie-Haus)":MAILTO:st-eidelstedt@seniorenbuero-hamburg.de
END:VEVENT
BEGIN:VEVENT
DTSTART;TZID=Europe/Berlin:20261105T183000
DTEND;TZID=Europe/Berlin:20261105T193000
DTSTAMP:20260423T195034
CREATED:20240301T111353Z
LAST-MODIFIED:20250801T151111Z
UID:10023077-1793903400-1793907000@eimsbuettel-senioren.de
SUMMARY:Meditation in Bewegung - Tai Chi für alle 50+
DESCRIPTION:Durch das regelmäßige Üben mit Tai-Chi-Lehrerin Anne Schmidt verbesserst du deine\nBeweglichkeit & dein Gleichgewicht. Spaß in netter Runde sind inklusive. \nDu brauchst: Bequeme Kleidung und Getränke. \nVorkenntnisse sind nicht nötig! \nGruppenleitung: Anne Schmidt
URL:https://eimsbuettel-senioren.de/angebot/meditation-in-bewegung-tai-chi-fuer-alle-50/2026-11-05/
LOCATION:Treffpunkt im ReeWie-Haus. Gemeinsam_aktiv_Älterwerden\, Wiebischenkamp 58\, Hamburg\, 22523
CATEGORIES:Bewegung / Gesundheit
ORGANIZER;CN="Carmen Ripper (Koordinatorin Treffpunkt im ReeWie-Haus)":MAILTO:st-eidelstedt@seniorenbuero-hamburg.de
END:VEVENT
BEGIN:VEVENT
DTSTART;TZID=Europe/Berlin:20261112T183000
DTEND;TZID=Europe/Berlin:20261112T193000
DTSTAMP:20260423T195034
CREATED:20240301T111353Z
LAST-MODIFIED:20250801T151111Z
UID:10023078-1794508200-1794511800@eimsbuettel-senioren.de
SUMMARY:Meditation in Bewegung - Tai Chi für alle 50+
DESCRIPTION:Durch das regelmäßige Üben mit Tai-Chi-Lehrerin Anne Schmidt verbesserst du deine\nBeweglichkeit & dein Gleichgewicht. Spaß in netter Runde sind inklusive. \nDu brauchst: Bequeme Kleidung und Getränke. \nVorkenntnisse sind nicht nötig! \nGruppenleitung: Anne Schmidt
URL:https://eimsbuettel-senioren.de/angebot/meditation-in-bewegung-tai-chi-fuer-alle-50/2026-11-12/
LOCATION:Treffpunkt im ReeWie-Haus. Gemeinsam_aktiv_Älterwerden\, Wiebischenkamp 58\, Hamburg\, 22523
CATEGORIES:Bewegung / Gesundheit
ORGANIZER;CN="Carmen Ripper (Koordinatorin Treffpunkt im ReeWie-Haus)":MAILTO:st-eidelstedt@seniorenbuero-hamburg.de
END:VEVENT
BEGIN:VEVENT
DTSTART;TZID=Europe/Berlin:20261119T183000
DTEND;TZID=Europe/Berlin:20261119T193000
DTSTAMP:20260423T195034
CREATED:20240301T111353Z
LAST-MODIFIED:20250801T151111Z
UID:10023079-1795113000-1795116600@eimsbuettel-senioren.de
SUMMARY:Meditation in Bewegung - Tai Chi für alle 50+
DESCRIPTION:Durch das regelmäßige Üben mit Tai-Chi-Lehrerin Anne Schmidt verbesserst du deine\nBeweglichkeit & dein Gleichgewicht. Spaß in netter Runde sind inklusive. \nDu brauchst: Bequeme Kleidung und Getränke. \nVorkenntnisse sind nicht nötig! \nGruppenleitung: Anne Schmidt
URL:https://eimsbuettel-senioren.de/angebot/meditation-in-bewegung-tai-chi-fuer-alle-50/2026-11-19/
LOCATION:Treffpunkt im ReeWie-Haus. Gemeinsam_aktiv_Älterwerden\, Wiebischenkamp 58\, Hamburg\, 22523
CATEGORIES:Bewegung / Gesundheit
ORGANIZER;CN="Carmen Ripper (Koordinatorin Treffpunkt im ReeWie-Haus)":MAILTO:st-eidelstedt@seniorenbuero-hamburg.de
END:VEVENT
END:VCALENDAR