BEGIN:VCALENDAR
VERSION:2.0
PRODID:-//Angebote für Seniorinnen und Senioren im Bezirk Eimsbüttel - ECPv6.15.18//NONSGML v1.0//EN
CALSCALE:GREGORIAN
METHOD:PUBLISH
X-WR-CALNAME:Angebote für Seniorinnen und Senioren im Bezirk Eimsbüttel
X-ORIGINAL-URL:https://eimsbuettel-senioren.de
X-WR-CALDESC:Veranstaltungen für Angebote für Seniorinnen und Senioren im Bezirk Eimsbüttel
REFRESH-INTERVAL;VALUE=DURATION:PT1H
X-Robots-Tag:noindex
X-PUBLISHED-TTL:PT1H
BEGIN:VTIMEZONE
TZID:Europe/Berlin
BEGIN:DAYLIGHT
TZOFFSETFROM:+0100
TZOFFSETTO:+0200
TZNAME:CEST
DTSTART:20250330T010000
END:DAYLIGHT
BEGIN:STANDARD
TZOFFSETFROM:+0200
TZOFFSETTO:+0100
TZNAME:CET
DTSTART:20251026T010000
END:STANDARD
BEGIN:DAYLIGHT
TZOFFSETFROM:+0100
TZOFFSETTO:+0200
TZNAME:CEST
DTSTART:20260329T010000
END:DAYLIGHT
BEGIN:STANDARD
TZOFFSETFROM:+0200
TZOFFSETTO:+0100
TZNAME:CET
DTSTART:20261025T010000
END:STANDARD
BEGIN:DAYLIGHT
TZOFFSETFROM:+0100
TZOFFSETTO:+0200
TZNAME:CEST
DTSTART:20270328T010000
END:DAYLIGHT
BEGIN:STANDARD
TZOFFSETFROM:+0200
TZOFFSETTO:+0100
TZNAME:CET
DTSTART:20271031T010000
END:STANDARD
END:VTIMEZONE
BEGIN:VEVENT
DTSTART;TZID=Europe/Berlin:20260421T180000
DTEND;TZID=Europe/Berlin:20260421T200000
DTSTAMP:20260421T161047
CREATED:20231120T174425Z
LAST-MODIFIED:20231120T174540Z
UID:10018033-1776794400-1776801600@eimsbuettel-senioren.de
SUMMARY:Häkelbüdelclub
DESCRIPTION:Der Häkelbüdelklub freut sich auf neue Teilnehmer/innen. \nHier wird gehäkelt\, gestrickt\, gebastelt und geschnackt. Und das alles gleichzeitig. \nDienstags\, 18:00 – 20:00 Uhr \nRaum 6\, Freizeitzentrum Schnelsen
URL:https://eimsbuettel-senioren.de/angebot/haekelbuedelclub/2026-04-21/
LOCATION:Freizeitzentrum Schnelsen e.V.\, Wählingsallee 16\, Hamburg\, Hamburg\, 22459\, Deutschland
CATEGORIES:Sonstiges
END:VEVENT
BEGIN:VEVENT
DTSTART;TZID=Europe/Berlin:20260428T180000
DTEND;TZID=Europe/Berlin:20260428T200000
DTSTAMP:20260421T161047
CREATED:20231120T174425Z
LAST-MODIFIED:20231120T174540Z
UID:10018034-1777399200-1777406400@eimsbuettel-senioren.de
SUMMARY:Häkelbüdelclub
DESCRIPTION:Der Häkelbüdelklub freut sich auf neue Teilnehmer/innen. \nHier wird gehäkelt\, gestrickt\, gebastelt und geschnackt. Und das alles gleichzeitig. \nDienstags\, 18:00 – 20:00 Uhr \nRaum 6\, Freizeitzentrum Schnelsen
URL:https://eimsbuettel-senioren.de/angebot/haekelbuedelclub/2026-04-28/
LOCATION:Freizeitzentrum Schnelsen e.V.\, Wählingsallee 16\, Hamburg\, Hamburg\, 22459\, Deutschland
CATEGORIES:Sonstiges
END:VEVENT
BEGIN:VEVENT
DTSTART;TZID=Europe/Berlin:20260505T180000
DTEND;TZID=Europe/Berlin:20260505T200000
DTSTAMP:20260421T161047
CREATED:20231120T174425Z
LAST-MODIFIED:20231120T174540Z
UID:10018035-1778004000-1778011200@eimsbuettel-senioren.de
SUMMARY:Häkelbüdelclub
DESCRIPTION:Der Häkelbüdelklub freut sich auf neue Teilnehmer/innen. \nHier wird gehäkelt\, gestrickt\, gebastelt und geschnackt. Und das alles gleichzeitig. \nDienstags\, 18:00 – 20:00 Uhr \nRaum 6\, Freizeitzentrum Schnelsen
URL:https://eimsbuettel-senioren.de/angebot/haekelbuedelclub/2026-05-05/
LOCATION:Freizeitzentrum Schnelsen e.V.\, Wählingsallee 16\, Hamburg\, Hamburg\, 22459\, Deutschland
CATEGORIES:Sonstiges
END:VEVENT
BEGIN:VEVENT
DTSTART;TZID=Europe/Berlin:20260512T180000
DTEND;TZID=Europe/Berlin:20260512T200000
DTSTAMP:20260421T161047
CREATED:20231120T174425Z
LAST-MODIFIED:20231120T174540Z
UID:10018036-1778608800-1778616000@eimsbuettel-senioren.de
SUMMARY:Häkelbüdelclub
DESCRIPTION:Der Häkelbüdelklub freut sich auf neue Teilnehmer/innen. \nHier wird gehäkelt\, gestrickt\, gebastelt und geschnackt. Und das alles gleichzeitig. \nDienstags\, 18:00 – 20:00 Uhr \nRaum 6\, Freizeitzentrum Schnelsen
URL:https://eimsbuettel-senioren.de/angebot/haekelbuedelclub/2026-05-12/
LOCATION:Freizeitzentrum Schnelsen e.V.\, Wählingsallee 16\, Hamburg\, Hamburg\, 22459\, Deutschland
CATEGORIES:Sonstiges
END:VEVENT
BEGIN:VEVENT
DTSTART;TZID=Europe/Berlin:20260519T180000
DTEND;TZID=Europe/Berlin:20260519T200000
DTSTAMP:20260421T161047
CREATED:20231120T174425Z
LAST-MODIFIED:20231120T174540Z
UID:10018037-1779213600-1779220800@eimsbuettel-senioren.de
SUMMARY:Häkelbüdelclub
DESCRIPTION:Der Häkelbüdelklub freut sich auf neue Teilnehmer/innen. \nHier wird gehäkelt\, gestrickt\, gebastelt und geschnackt. Und das alles gleichzeitig. \nDienstags\, 18:00 – 20:00 Uhr \nRaum 6\, Freizeitzentrum Schnelsen
URL:https://eimsbuettel-senioren.de/angebot/haekelbuedelclub/2026-05-19/
LOCATION:Freizeitzentrum Schnelsen e.V.\, Wählingsallee 16\, Hamburg\, Hamburg\, 22459\, Deutschland
CATEGORIES:Sonstiges
END:VEVENT
BEGIN:VEVENT
DTSTART;TZID=Europe/Berlin:20260526T180000
DTEND;TZID=Europe/Berlin:20260526T200000
DTSTAMP:20260421T161047
CREATED:20231120T174425Z
LAST-MODIFIED:20231120T174540Z
UID:10018038-1779818400-1779825600@eimsbuettel-senioren.de
SUMMARY:Häkelbüdelclub
DESCRIPTION:Der Häkelbüdelklub freut sich auf neue Teilnehmer/innen. \nHier wird gehäkelt\, gestrickt\, gebastelt und geschnackt. Und das alles gleichzeitig. \nDienstags\, 18:00 – 20:00 Uhr \nRaum 6\, Freizeitzentrum Schnelsen
URL:https://eimsbuettel-senioren.de/angebot/haekelbuedelclub/2026-05-26/
LOCATION:Freizeitzentrum Schnelsen e.V.\, Wählingsallee 16\, Hamburg\, Hamburg\, 22459\, Deutschland
CATEGORIES:Sonstiges
END:VEVENT
BEGIN:VEVENT
DTSTART;TZID=Europe/Berlin:20260602T180000
DTEND;TZID=Europe/Berlin:20260602T200000
DTSTAMP:20260421T161047
CREATED:20231120T174425Z
LAST-MODIFIED:20231120T174540Z
UID:10018039-1780423200-1780430400@eimsbuettel-senioren.de
SUMMARY:Häkelbüdelclub
DESCRIPTION:Der Häkelbüdelklub freut sich auf neue Teilnehmer/innen. \nHier wird gehäkelt\, gestrickt\, gebastelt und geschnackt. Und das alles gleichzeitig. \nDienstags\, 18:00 – 20:00 Uhr \nRaum 6\, Freizeitzentrum Schnelsen
URL:https://eimsbuettel-senioren.de/angebot/haekelbuedelclub/2026-06-02/
LOCATION:Freizeitzentrum Schnelsen e.V.\, Wählingsallee 16\, Hamburg\, Hamburg\, 22459\, Deutschland
CATEGORIES:Sonstiges
END:VEVENT
BEGIN:VEVENT
DTSTART;TZID=Europe/Berlin:20260609T180000
DTEND;TZID=Europe/Berlin:20260609T200000
DTSTAMP:20260421T161047
CREATED:20231120T174425Z
LAST-MODIFIED:20231120T174540Z
UID:10018040-1781028000-1781035200@eimsbuettel-senioren.de
SUMMARY:Häkelbüdelclub
DESCRIPTION:Der Häkelbüdelklub freut sich auf neue Teilnehmer/innen. \nHier wird gehäkelt\, gestrickt\, gebastelt und geschnackt. Und das alles gleichzeitig. \nDienstags\, 18:00 – 20:00 Uhr \nRaum 6\, Freizeitzentrum Schnelsen
URL:https://eimsbuettel-senioren.de/angebot/haekelbuedelclub/2026-06-09/
LOCATION:Freizeitzentrum Schnelsen e.V.\, Wählingsallee 16\, Hamburg\, Hamburg\, 22459\, Deutschland
CATEGORIES:Sonstiges
END:VEVENT
BEGIN:VEVENT
DTSTART;TZID=Europe/Berlin:20260616T180000
DTEND;TZID=Europe/Berlin:20260616T200000
DTSTAMP:20260421T161047
CREATED:20231120T174425Z
LAST-MODIFIED:20231120T174540Z
UID:10018041-1781632800-1781640000@eimsbuettel-senioren.de
SUMMARY:Häkelbüdelclub
DESCRIPTION:Der Häkelbüdelklub freut sich auf neue Teilnehmer/innen. \nHier wird gehäkelt\, gestrickt\, gebastelt und geschnackt. Und das alles gleichzeitig. \nDienstags\, 18:00 – 20:00 Uhr \nRaum 6\, Freizeitzentrum Schnelsen
URL:https://eimsbuettel-senioren.de/angebot/haekelbuedelclub/2026-06-16/
LOCATION:Freizeitzentrum Schnelsen e.V.\, Wählingsallee 16\, Hamburg\, Hamburg\, 22459\, Deutschland
CATEGORIES:Sonstiges
END:VEVENT
BEGIN:VEVENT
DTSTART;TZID=Europe/Berlin:20260623T180000
DTEND;TZID=Europe/Berlin:20260623T200000
DTSTAMP:20260421T161047
CREATED:20231120T174425Z
LAST-MODIFIED:20231120T174540Z
UID:10018042-1782237600-1782244800@eimsbuettel-senioren.de
SUMMARY:Häkelbüdelclub
DESCRIPTION:Der Häkelbüdelklub freut sich auf neue Teilnehmer/innen. \nHier wird gehäkelt\, gestrickt\, gebastelt und geschnackt. Und das alles gleichzeitig. \nDienstags\, 18:00 – 20:00 Uhr \nRaum 6\, Freizeitzentrum Schnelsen
URL:https://eimsbuettel-senioren.de/angebot/haekelbuedelclub/2026-06-23/
LOCATION:Freizeitzentrum Schnelsen e.V.\, Wählingsallee 16\, Hamburg\, Hamburg\, 22459\, Deutschland
CATEGORIES:Sonstiges
END:VEVENT
BEGIN:VEVENT
DTSTART;TZID=Europe/Berlin:20260630T180000
DTEND;TZID=Europe/Berlin:20260630T200000
DTSTAMP:20260421T161047
CREATED:20231120T174425Z
LAST-MODIFIED:20231120T174540Z
UID:10018043-1782842400-1782849600@eimsbuettel-senioren.de
SUMMARY:Häkelbüdelclub
DESCRIPTION:Der Häkelbüdelklub freut sich auf neue Teilnehmer/innen. \nHier wird gehäkelt\, gestrickt\, gebastelt und geschnackt. Und das alles gleichzeitig. \nDienstags\, 18:00 – 20:00 Uhr \nRaum 6\, Freizeitzentrum Schnelsen
URL:https://eimsbuettel-senioren.de/angebot/haekelbuedelclub/2026-06-30/
LOCATION:Freizeitzentrum Schnelsen e.V.\, Wählingsallee 16\, Hamburg\, Hamburg\, 22459\, Deutschland
CATEGORIES:Sonstiges
END:VEVENT
BEGIN:VEVENT
DTSTART;TZID=Europe/Berlin:20260707T180000
DTEND;TZID=Europe/Berlin:20260707T200000
DTSTAMP:20260421T161047
CREATED:20231120T174425Z
LAST-MODIFIED:20231120T174540Z
UID:10018044-1783447200-1783454400@eimsbuettel-senioren.de
SUMMARY:Häkelbüdelclub
DESCRIPTION:Der Häkelbüdelklub freut sich auf neue Teilnehmer/innen. \nHier wird gehäkelt\, gestrickt\, gebastelt und geschnackt. Und das alles gleichzeitig. \nDienstags\, 18:00 – 20:00 Uhr \nRaum 6\, Freizeitzentrum Schnelsen
URL:https://eimsbuettel-senioren.de/angebot/haekelbuedelclub/2026-07-07/
LOCATION:Freizeitzentrum Schnelsen e.V.\, Wählingsallee 16\, Hamburg\, Hamburg\, 22459\, Deutschland
CATEGORIES:Sonstiges
END:VEVENT
BEGIN:VEVENT
DTSTART;TZID=Europe/Berlin:20260714T180000
DTEND;TZID=Europe/Berlin:20260714T200000
DTSTAMP:20260421T161047
CREATED:20231120T174425Z
LAST-MODIFIED:20231120T174540Z
UID:10018045-1784052000-1784059200@eimsbuettel-senioren.de
SUMMARY:Häkelbüdelclub
DESCRIPTION:Der Häkelbüdelklub freut sich auf neue Teilnehmer/innen. \nHier wird gehäkelt\, gestrickt\, gebastelt und geschnackt. Und das alles gleichzeitig. \nDienstags\, 18:00 – 20:00 Uhr \nRaum 6\, Freizeitzentrum Schnelsen
URL:https://eimsbuettel-senioren.de/angebot/haekelbuedelclub/2026-07-14/
LOCATION:Freizeitzentrum Schnelsen e.V.\, Wählingsallee 16\, Hamburg\, Hamburg\, 22459\, Deutschland
CATEGORIES:Sonstiges
END:VEVENT
BEGIN:VEVENT
DTSTART;TZID=Europe/Berlin:20260721T180000
DTEND;TZID=Europe/Berlin:20260721T200000
DTSTAMP:20260421T161047
CREATED:20231120T174425Z
LAST-MODIFIED:20231120T174540Z
UID:10018046-1784656800-1784664000@eimsbuettel-senioren.de
SUMMARY:Häkelbüdelclub
DESCRIPTION:Der Häkelbüdelklub freut sich auf neue Teilnehmer/innen. \nHier wird gehäkelt\, gestrickt\, gebastelt und geschnackt. Und das alles gleichzeitig. \nDienstags\, 18:00 – 20:00 Uhr \nRaum 6\, Freizeitzentrum Schnelsen
URL:https://eimsbuettel-senioren.de/angebot/haekelbuedelclub/2026-07-21/
LOCATION:Freizeitzentrum Schnelsen e.V.\, Wählingsallee 16\, Hamburg\, Hamburg\, 22459\, Deutschland
CATEGORIES:Sonstiges
END:VEVENT
BEGIN:VEVENT
DTSTART;TZID=Europe/Berlin:20260728T180000
DTEND;TZID=Europe/Berlin:20260728T200000
DTSTAMP:20260421T161047
CREATED:20231120T174425Z
LAST-MODIFIED:20231120T174540Z
UID:10018047-1785261600-1785268800@eimsbuettel-senioren.de
SUMMARY:Häkelbüdelclub
DESCRIPTION:Der Häkelbüdelklub freut sich auf neue Teilnehmer/innen. \nHier wird gehäkelt\, gestrickt\, gebastelt und geschnackt. Und das alles gleichzeitig. \nDienstags\, 18:00 – 20:00 Uhr \nRaum 6\, Freizeitzentrum Schnelsen
URL:https://eimsbuettel-senioren.de/angebot/haekelbuedelclub/2026-07-28/
LOCATION:Freizeitzentrum Schnelsen e.V.\, Wählingsallee 16\, Hamburg\, Hamburg\, 22459\, Deutschland
CATEGORIES:Sonstiges
END:VEVENT
BEGIN:VEVENT
DTSTART;TZID=Europe/Berlin:20260804T180000
DTEND;TZID=Europe/Berlin:20260804T200000
DTSTAMP:20260421T161047
CREATED:20231120T174425Z
LAST-MODIFIED:20231120T174540Z
UID:10018048-1785866400-1785873600@eimsbuettel-senioren.de
SUMMARY:Häkelbüdelclub
DESCRIPTION:Der Häkelbüdelklub freut sich auf neue Teilnehmer/innen. \nHier wird gehäkelt\, gestrickt\, gebastelt und geschnackt. Und das alles gleichzeitig. \nDienstags\, 18:00 – 20:00 Uhr \nRaum 6\, Freizeitzentrum Schnelsen
URL:https://eimsbuettel-senioren.de/angebot/haekelbuedelclub/2026-08-04/
LOCATION:Freizeitzentrum Schnelsen e.V.\, Wählingsallee 16\, Hamburg\, Hamburg\, 22459\, Deutschland
CATEGORIES:Sonstiges
END:VEVENT
BEGIN:VEVENT
DTSTART;TZID=Europe/Berlin:20260811T180000
DTEND;TZID=Europe/Berlin:20260811T200000
DTSTAMP:20260421T161047
CREATED:20231120T174425Z
LAST-MODIFIED:20231120T174540Z
UID:10018049-1786471200-1786478400@eimsbuettel-senioren.de
SUMMARY:Häkelbüdelclub
DESCRIPTION:Der Häkelbüdelklub freut sich auf neue Teilnehmer/innen. \nHier wird gehäkelt\, gestrickt\, gebastelt und geschnackt. Und das alles gleichzeitig. \nDienstags\, 18:00 – 20:00 Uhr \nRaum 6\, Freizeitzentrum Schnelsen
URL:https://eimsbuettel-senioren.de/angebot/haekelbuedelclub/2026-08-11/
LOCATION:Freizeitzentrum Schnelsen e.V.\, Wählingsallee 16\, Hamburg\, Hamburg\, 22459\, Deutschland
CATEGORIES:Sonstiges
END:VEVENT
BEGIN:VEVENT
DTSTART;TZID=Europe/Berlin:20260818T180000
DTEND;TZID=Europe/Berlin:20260818T200000
DTSTAMP:20260421T161047
CREATED:20231120T174425Z
LAST-MODIFIED:20231120T174540Z
UID:10018050-1787076000-1787083200@eimsbuettel-senioren.de
SUMMARY:Häkelbüdelclub
DESCRIPTION:Der Häkelbüdelklub freut sich auf neue Teilnehmer/innen. \nHier wird gehäkelt\, gestrickt\, gebastelt und geschnackt. Und das alles gleichzeitig. \nDienstags\, 18:00 – 20:00 Uhr \nRaum 6\, Freizeitzentrum Schnelsen
URL:https://eimsbuettel-senioren.de/angebot/haekelbuedelclub/2026-08-18/
LOCATION:Freizeitzentrum Schnelsen e.V.\, Wählingsallee 16\, Hamburg\, Hamburg\, 22459\, Deutschland
CATEGORIES:Sonstiges
END:VEVENT
BEGIN:VEVENT
DTSTART;TZID=Europe/Berlin:20260825T180000
DTEND;TZID=Europe/Berlin:20260825T200000
DTSTAMP:20260421T161047
CREATED:20231120T174425Z
LAST-MODIFIED:20231120T174540Z
UID:10018051-1787680800-1787688000@eimsbuettel-senioren.de
SUMMARY:Häkelbüdelclub
DESCRIPTION:Der Häkelbüdelklub freut sich auf neue Teilnehmer/innen. \nHier wird gehäkelt\, gestrickt\, gebastelt und geschnackt. Und das alles gleichzeitig. \nDienstags\, 18:00 – 20:00 Uhr \nRaum 6\, Freizeitzentrum Schnelsen
URL:https://eimsbuettel-senioren.de/angebot/haekelbuedelclub/2026-08-25/
LOCATION:Freizeitzentrum Schnelsen e.V.\, Wählingsallee 16\, Hamburg\, Hamburg\, 22459\, Deutschland
CATEGORIES:Sonstiges
END:VEVENT
BEGIN:VEVENT
DTSTART;TZID=Europe/Berlin:20260901T180000
DTEND;TZID=Europe/Berlin:20260901T200000
DTSTAMP:20260421T161047
CREATED:20231120T174425Z
LAST-MODIFIED:20231120T174540Z
UID:10018052-1788285600-1788292800@eimsbuettel-senioren.de
SUMMARY:Häkelbüdelclub
DESCRIPTION:Der Häkelbüdelklub freut sich auf neue Teilnehmer/innen. \nHier wird gehäkelt\, gestrickt\, gebastelt und geschnackt. Und das alles gleichzeitig. \nDienstags\, 18:00 – 20:00 Uhr \nRaum 6\, Freizeitzentrum Schnelsen
URL:https://eimsbuettel-senioren.de/angebot/haekelbuedelclub/2026-09-01/
LOCATION:Freizeitzentrum Schnelsen e.V.\, Wählingsallee 16\, Hamburg\, Hamburg\, 22459\, Deutschland
CATEGORIES:Sonstiges
END:VEVENT
BEGIN:VEVENT
DTSTART;TZID=Europe/Berlin:20260908T180000
DTEND;TZID=Europe/Berlin:20260908T200000
DTSTAMP:20260421T161047
CREATED:20231120T174425Z
LAST-MODIFIED:20231120T174540Z
UID:10018053-1788890400-1788897600@eimsbuettel-senioren.de
SUMMARY:Häkelbüdelclub
DESCRIPTION:Der Häkelbüdelklub freut sich auf neue Teilnehmer/innen. \nHier wird gehäkelt\, gestrickt\, gebastelt und geschnackt. Und das alles gleichzeitig. \nDienstags\, 18:00 – 20:00 Uhr \nRaum 6\, Freizeitzentrum Schnelsen
URL:https://eimsbuettel-senioren.de/angebot/haekelbuedelclub/2026-09-08/
LOCATION:Freizeitzentrum Schnelsen e.V.\, Wählingsallee 16\, Hamburg\, Hamburg\, 22459\, Deutschland
CATEGORIES:Sonstiges
END:VEVENT
BEGIN:VEVENT
DTSTART;TZID=Europe/Berlin:20260915T180000
DTEND;TZID=Europe/Berlin:20260915T200000
DTSTAMP:20260421T161047
CREATED:20231120T174425Z
LAST-MODIFIED:20231120T174540Z
UID:10018054-1789495200-1789502400@eimsbuettel-senioren.de
SUMMARY:Häkelbüdelclub
DESCRIPTION:Der Häkelbüdelklub freut sich auf neue Teilnehmer/innen. \nHier wird gehäkelt\, gestrickt\, gebastelt und geschnackt. Und das alles gleichzeitig. \nDienstags\, 18:00 – 20:00 Uhr \nRaum 6\, Freizeitzentrum Schnelsen
URL:https://eimsbuettel-senioren.de/angebot/haekelbuedelclub/2026-09-15/
LOCATION:Freizeitzentrum Schnelsen e.V.\, Wählingsallee 16\, Hamburg\, Hamburg\, 22459\, Deutschland
CATEGORIES:Sonstiges
END:VEVENT
BEGIN:VEVENT
DTSTART;TZID=Europe/Berlin:20260922T180000
DTEND;TZID=Europe/Berlin:20260922T200000
DTSTAMP:20260421T161047
CREATED:20231120T174425Z
LAST-MODIFIED:20231120T174540Z
UID:10018055-1790100000-1790107200@eimsbuettel-senioren.de
SUMMARY:Häkelbüdelclub
DESCRIPTION:Der Häkelbüdelklub freut sich auf neue Teilnehmer/innen. \nHier wird gehäkelt\, gestrickt\, gebastelt und geschnackt. Und das alles gleichzeitig. \nDienstags\, 18:00 – 20:00 Uhr \nRaum 6\, Freizeitzentrum Schnelsen
URL:https://eimsbuettel-senioren.de/angebot/haekelbuedelclub/2026-09-22/
LOCATION:Freizeitzentrum Schnelsen e.V.\, Wählingsallee 16\, Hamburg\, Hamburg\, 22459\, Deutschland
CATEGORIES:Sonstiges
END:VEVENT
BEGIN:VEVENT
DTSTART;TZID=Europe/Berlin:20260929T180000
DTEND;TZID=Europe/Berlin:20260929T200000
DTSTAMP:20260421T161047
CREATED:20231120T174425Z
LAST-MODIFIED:20231120T174540Z
UID:10018056-1790704800-1790712000@eimsbuettel-senioren.de
SUMMARY:Häkelbüdelclub
DESCRIPTION:Der Häkelbüdelklub freut sich auf neue Teilnehmer/innen. \nHier wird gehäkelt\, gestrickt\, gebastelt und geschnackt. Und das alles gleichzeitig. \nDienstags\, 18:00 – 20:00 Uhr \nRaum 6\, Freizeitzentrum Schnelsen
URL:https://eimsbuettel-senioren.de/angebot/haekelbuedelclub/2026-09-29/
LOCATION:Freizeitzentrum Schnelsen e.V.\, Wählingsallee 16\, Hamburg\, Hamburg\, 22459\, Deutschland
CATEGORIES:Sonstiges
END:VEVENT
BEGIN:VEVENT
DTSTART;TZID=Europe/Berlin:20261006T180000
DTEND;TZID=Europe/Berlin:20261006T200000
DTSTAMP:20260421T161047
CREATED:20231120T174425Z
LAST-MODIFIED:20231120T174540Z
UID:10018057-1791309600-1791316800@eimsbuettel-senioren.de
SUMMARY:Häkelbüdelclub
DESCRIPTION:Der Häkelbüdelklub freut sich auf neue Teilnehmer/innen. \nHier wird gehäkelt\, gestrickt\, gebastelt und geschnackt. Und das alles gleichzeitig. \nDienstags\, 18:00 – 20:00 Uhr \nRaum 6\, Freizeitzentrum Schnelsen
URL:https://eimsbuettel-senioren.de/angebot/haekelbuedelclub/2026-10-06/
LOCATION:Freizeitzentrum Schnelsen e.V.\, Wählingsallee 16\, Hamburg\, Hamburg\, 22459\, Deutschland
CATEGORIES:Sonstiges
END:VEVENT
BEGIN:VEVENT
DTSTART;TZID=Europe/Berlin:20261013T180000
DTEND;TZID=Europe/Berlin:20261013T200000
DTSTAMP:20260421T161047
CREATED:20231120T174425Z
LAST-MODIFIED:20231120T174540Z
UID:10018058-1791914400-1791921600@eimsbuettel-senioren.de
SUMMARY:Häkelbüdelclub
DESCRIPTION:Der Häkelbüdelklub freut sich auf neue Teilnehmer/innen. \nHier wird gehäkelt\, gestrickt\, gebastelt und geschnackt. Und das alles gleichzeitig. \nDienstags\, 18:00 – 20:00 Uhr \nRaum 6\, Freizeitzentrum Schnelsen
URL:https://eimsbuettel-senioren.de/angebot/haekelbuedelclub/2026-10-13/
LOCATION:Freizeitzentrum Schnelsen e.V.\, Wählingsallee 16\, Hamburg\, Hamburg\, 22459\, Deutschland
CATEGORIES:Sonstiges
END:VEVENT
BEGIN:VEVENT
DTSTART;TZID=Europe/Berlin:20261020T180000
DTEND;TZID=Europe/Berlin:20261020T200000
DTSTAMP:20260421T161047
CREATED:20231120T174425Z
LAST-MODIFIED:20231120T174540Z
UID:10018059-1792519200-1792526400@eimsbuettel-senioren.de
SUMMARY:Häkelbüdelclub
DESCRIPTION:Der Häkelbüdelklub freut sich auf neue Teilnehmer/innen. \nHier wird gehäkelt\, gestrickt\, gebastelt und geschnackt. Und das alles gleichzeitig. \nDienstags\, 18:00 – 20:00 Uhr \nRaum 6\, Freizeitzentrum Schnelsen
URL:https://eimsbuettel-senioren.de/angebot/haekelbuedelclub/2026-10-20/
LOCATION:Freizeitzentrum Schnelsen e.V.\, Wählingsallee 16\, Hamburg\, Hamburg\, 22459\, Deutschland
CATEGORIES:Sonstiges
END:VEVENT
BEGIN:VEVENT
DTSTART;TZID=Europe/Berlin:20261027T180000
DTEND;TZID=Europe/Berlin:20261027T200000
DTSTAMP:20260421T161047
CREATED:20231120T174425Z
LAST-MODIFIED:20231120T174540Z
UID:10018060-1793124000-1793131200@eimsbuettel-senioren.de
SUMMARY:Häkelbüdelclub
DESCRIPTION:Der Häkelbüdelklub freut sich auf neue Teilnehmer/innen. \nHier wird gehäkelt\, gestrickt\, gebastelt und geschnackt. Und das alles gleichzeitig. \nDienstags\, 18:00 – 20:00 Uhr \nRaum 6\, Freizeitzentrum Schnelsen
URL:https://eimsbuettel-senioren.de/angebot/haekelbuedelclub/2026-10-27/
LOCATION:Freizeitzentrum Schnelsen e.V.\, Wählingsallee 16\, Hamburg\, Hamburg\, 22459\, Deutschland
CATEGORIES:Sonstiges
END:VEVENT
BEGIN:VEVENT
DTSTART;TZID=Europe/Berlin:20261103T180000
DTEND;TZID=Europe/Berlin:20261103T200000
DTSTAMP:20260421T161047
CREATED:20231120T174425Z
LAST-MODIFIED:20231120T174540Z
UID:10018061-1793728800-1793736000@eimsbuettel-senioren.de
SUMMARY:Häkelbüdelclub
DESCRIPTION:Der Häkelbüdelklub freut sich auf neue Teilnehmer/innen. \nHier wird gehäkelt\, gestrickt\, gebastelt und geschnackt. Und das alles gleichzeitig. \nDienstags\, 18:00 – 20:00 Uhr \nRaum 6\, Freizeitzentrum Schnelsen
URL:https://eimsbuettel-senioren.de/angebot/haekelbuedelclub/2026-11-03/
LOCATION:Freizeitzentrum Schnelsen e.V.\, Wählingsallee 16\, Hamburg\, Hamburg\, 22459\, Deutschland
CATEGORIES:Sonstiges
END:VEVENT
BEGIN:VEVENT
DTSTART;TZID=Europe/Berlin:20261110T180000
DTEND;TZID=Europe/Berlin:20261110T200000
DTSTAMP:20260421T161047
CREATED:20231120T174425Z
LAST-MODIFIED:20231120T174540Z
UID:10018062-1794333600-1794340800@eimsbuettel-senioren.de
SUMMARY:Häkelbüdelclub
DESCRIPTION:Der Häkelbüdelklub freut sich auf neue Teilnehmer/innen. \nHier wird gehäkelt\, gestrickt\, gebastelt und geschnackt. Und das alles gleichzeitig. \nDienstags\, 18:00 – 20:00 Uhr \nRaum 6\, Freizeitzentrum Schnelsen
URL:https://eimsbuettel-senioren.de/angebot/haekelbuedelclub/2026-11-10/
LOCATION:Freizeitzentrum Schnelsen e.V.\, Wählingsallee 16\, Hamburg\, Hamburg\, 22459\, Deutschland
CATEGORIES:Sonstiges
END:VEVENT
END:VCALENDAR