BEGIN:VCALENDAR
VERSION:2.0
PRODID:-//Angebote für Seniorinnen und Senioren im Bezirk Eimsbüttel - ECPv6.15.18//NONSGML v1.0//EN
CALSCALE:GREGORIAN
METHOD:PUBLISH
X-WR-CALNAME:Angebote für Seniorinnen und Senioren im Bezirk Eimsbüttel
X-ORIGINAL-URL:https://eimsbuettel-senioren.de
X-WR-CALDESC:Veranstaltungen für Angebote für Seniorinnen und Senioren im Bezirk Eimsbüttel
REFRESH-INTERVAL;VALUE=DURATION:PT1H
X-Robots-Tag:noindex
X-PUBLISHED-TTL:PT1H
BEGIN:VTIMEZONE
TZID:Europe/Berlin
BEGIN:DAYLIGHT
TZOFFSETFROM:+0100
TZOFFSETTO:+0200
TZNAME:CEST
DTSTART:20250330T010000
END:DAYLIGHT
BEGIN:STANDARD
TZOFFSETFROM:+0200
TZOFFSETTO:+0100
TZNAME:CET
DTSTART:20251026T010000
END:STANDARD
BEGIN:DAYLIGHT
TZOFFSETFROM:+0100
TZOFFSETTO:+0200
TZNAME:CEST
DTSTART:20260329T010000
END:DAYLIGHT
BEGIN:STANDARD
TZOFFSETFROM:+0200
TZOFFSETTO:+0100
TZNAME:CET
DTSTART:20261025T010000
END:STANDARD
BEGIN:DAYLIGHT
TZOFFSETFROM:+0100
TZOFFSETTO:+0200
TZNAME:CEST
DTSTART:20270328T010000
END:DAYLIGHT
BEGIN:STANDARD
TZOFFSETFROM:+0200
TZOFFSETTO:+0100
TZNAME:CET
DTSTART:20271031T010000
END:STANDARD
END:VTIMEZONE
BEGIN:VEVENT
DTSTART;TZID=Europe/Berlin:20260427T120000
DTEND;TZID=Europe/Berlin:20260427T124500
DTSTAMP:20260420T161000
CREATED:20231120T173809Z
LAST-MODIFIED:20231120T173809Z
UID:10017510-1777291200-1777293900@eimsbuettel-senioren.de
SUMMARY:AlterAktiv Gymnastik
DESCRIPTION:Gymnastik\, immer Montags von  12:00 – 12:45 Uhr im Forum \nmit Andreas Werling
URL:https://eimsbuettel-senioren.de/angebot/alteraktiv-gymnastik/2026-04-27/
LOCATION:Freizeitzentrum Schnelsen e.V.\, Wählingsallee 16\, Hamburg\, Hamburg\, 22459\, Deutschland
CATEGORIES:Bewegung / Gesundheit
END:VEVENT
BEGIN:VEVENT
DTSTART;TZID=Europe/Berlin:20260504T120000
DTEND;TZID=Europe/Berlin:20260504T124500
DTSTAMP:20260420T161000
CREATED:20231120T173809Z
LAST-MODIFIED:20231120T173809Z
UID:10017511-1777896000-1777898700@eimsbuettel-senioren.de
SUMMARY:AlterAktiv Gymnastik
DESCRIPTION:Gymnastik\, immer Montags von  12:00 – 12:45 Uhr im Forum \nmit Andreas Werling
URL:https://eimsbuettel-senioren.de/angebot/alteraktiv-gymnastik/2026-05-04/
LOCATION:Freizeitzentrum Schnelsen e.V.\, Wählingsallee 16\, Hamburg\, Hamburg\, 22459\, Deutschland
CATEGORIES:Bewegung / Gesundheit
END:VEVENT
BEGIN:VEVENT
DTSTART;TZID=Europe/Berlin:20260511T120000
DTEND;TZID=Europe/Berlin:20260511T124500
DTSTAMP:20260420T161000
CREATED:20231120T173809Z
LAST-MODIFIED:20231120T173809Z
UID:10017512-1778500800-1778503500@eimsbuettel-senioren.de
SUMMARY:AlterAktiv Gymnastik
DESCRIPTION:Gymnastik\, immer Montags von  12:00 – 12:45 Uhr im Forum \nmit Andreas Werling
URL:https://eimsbuettel-senioren.de/angebot/alteraktiv-gymnastik/2026-05-11/
LOCATION:Freizeitzentrum Schnelsen e.V.\, Wählingsallee 16\, Hamburg\, Hamburg\, 22459\, Deutschland
CATEGORIES:Bewegung / Gesundheit
END:VEVENT
BEGIN:VEVENT
DTSTART;TZID=Europe/Berlin:20260518T120000
DTEND;TZID=Europe/Berlin:20260518T124500
DTSTAMP:20260420T161000
CREATED:20231120T173809Z
LAST-MODIFIED:20231120T173809Z
UID:10017513-1779105600-1779108300@eimsbuettel-senioren.de
SUMMARY:AlterAktiv Gymnastik
DESCRIPTION:Gymnastik\, immer Montags von  12:00 – 12:45 Uhr im Forum \nmit Andreas Werling
URL:https://eimsbuettel-senioren.de/angebot/alteraktiv-gymnastik/2026-05-18/
LOCATION:Freizeitzentrum Schnelsen e.V.\, Wählingsallee 16\, Hamburg\, Hamburg\, 22459\, Deutschland
CATEGORIES:Bewegung / Gesundheit
END:VEVENT
BEGIN:VEVENT
DTSTART;TZID=Europe/Berlin:20260525T120000
DTEND;TZID=Europe/Berlin:20260525T124500
DTSTAMP:20260420T161000
CREATED:20231120T173809Z
LAST-MODIFIED:20231120T173809Z
UID:10017514-1779710400-1779713100@eimsbuettel-senioren.de
SUMMARY:AlterAktiv Gymnastik
DESCRIPTION:Gymnastik\, immer Montags von  12:00 – 12:45 Uhr im Forum \nmit Andreas Werling
URL:https://eimsbuettel-senioren.de/angebot/alteraktiv-gymnastik/2026-05-25/
LOCATION:Freizeitzentrum Schnelsen e.V.\, Wählingsallee 16\, Hamburg\, Hamburg\, 22459\, Deutschland
CATEGORIES:Bewegung / Gesundheit
END:VEVENT
BEGIN:VEVENT
DTSTART;TZID=Europe/Berlin:20260601T120000
DTEND;TZID=Europe/Berlin:20260601T124500
DTSTAMP:20260420T161000
CREATED:20231120T173809Z
LAST-MODIFIED:20231120T173809Z
UID:10017515-1780315200-1780317900@eimsbuettel-senioren.de
SUMMARY:AlterAktiv Gymnastik
DESCRIPTION:Gymnastik\, immer Montags von  12:00 – 12:45 Uhr im Forum \nmit Andreas Werling
URL:https://eimsbuettel-senioren.de/angebot/alteraktiv-gymnastik/2026-06-01/
LOCATION:Freizeitzentrum Schnelsen e.V.\, Wählingsallee 16\, Hamburg\, Hamburg\, 22459\, Deutschland
CATEGORIES:Bewegung / Gesundheit
END:VEVENT
BEGIN:VEVENT
DTSTART;TZID=Europe/Berlin:20260608T120000
DTEND;TZID=Europe/Berlin:20260608T124500
DTSTAMP:20260420T161000
CREATED:20231120T173809Z
LAST-MODIFIED:20231120T173809Z
UID:10017516-1780920000-1780922700@eimsbuettel-senioren.de
SUMMARY:AlterAktiv Gymnastik
DESCRIPTION:Gymnastik\, immer Montags von  12:00 – 12:45 Uhr im Forum \nmit Andreas Werling
URL:https://eimsbuettel-senioren.de/angebot/alteraktiv-gymnastik/2026-06-08/
LOCATION:Freizeitzentrum Schnelsen e.V.\, Wählingsallee 16\, Hamburg\, Hamburg\, 22459\, Deutschland
CATEGORIES:Bewegung / Gesundheit
END:VEVENT
BEGIN:VEVENT
DTSTART;TZID=Europe/Berlin:20260615T120000
DTEND;TZID=Europe/Berlin:20260615T124500
DTSTAMP:20260420T161000
CREATED:20231120T173809Z
LAST-MODIFIED:20231120T173809Z
UID:10017517-1781524800-1781527500@eimsbuettel-senioren.de
SUMMARY:AlterAktiv Gymnastik
DESCRIPTION:Gymnastik\, immer Montags von  12:00 – 12:45 Uhr im Forum \nmit Andreas Werling
URL:https://eimsbuettel-senioren.de/angebot/alteraktiv-gymnastik/2026-06-15/
LOCATION:Freizeitzentrum Schnelsen e.V.\, Wählingsallee 16\, Hamburg\, Hamburg\, 22459\, Deutschland
CATEGORIES:Bewegung / Gesundheit
END:VEVENT
BEGIN:VEVENT
DTSTART;TZID=Europe/Berlin:20260622T120000
DTEND;TZID=Europe/Berlin:20260622T124500
DTSTAMP:20260420T161000
CREATED:20231120T173809Z
LAST-MODIFIED:20231120T173809Z
UID:10017518-1782129600-1782132300@eimsbuettel-senioren.de
SUMMARY:AlterAktiv Gymnastik
DESCRIPTION:Gymnastik\, immer Montags von  12:00 – 12:45 Uhr im Forum \nmit Andreas Werling
URL:https://eimsbuettel-senioren.de/angebot/alteraktiv-gymnastik/2026-06-22/
LOCATION:Freizeitzentrum Schnelsen e.V.\, Wählingsallee 16\, Hamburg\, Hamburg\, 22459\, Deutschland
CATEGORIES:Bewegung / Gesundheit
END:VEVENT
BEGIN:VEVENT
DTSTART;TZID=Europe/Berlin:20260629T120000
DTEND;TZID=Europe/Berlin:20260629T124500
DTSTAMP:20260420T161000
CREATED:20231120T173809Z
LAST-MODIFIED:20231120T173809Z
UID:10017519-1782734400-1782737100@eimsbuettel-senioren.de
SUMMARY:AlterAktiv Gymnastik
DESCRIPTION:Gymnastik\, immer Montags von  12:00 – 12:45 Uhr im Forum \nmit Andreas Werling
URL:https://eimsbuettel-senioren.de/angebot/alteraktiv-gymnastik/2026-06-29/
LOCATION:Freizeitzentrum Schnelsen e.V.\, Wählingsallee 16\, Hamburg\, Hamburg\, 22459\, Deutschland
CATEGORIES:Bewegung / Gesundheit
END:VEVENT
BEGIN:VEVENT
DTSTART;TZID=Europe/Berlin:20260706T120000
DTEND;TZID=Europe/Berlin:20260706T124500
DTSTAMP:20260420T161000
CREATED:20231120T173809Z
LAST-MODIFIED:20231120T173809Z
UID:10017520-1783339200-1783341900@eimsbuettel-senioren.de
SUMMARY:AlterAktiv Gymnastik
DESCRIPTION:Gymnastik\, immer Montags von  12:00 – 12:45 Uhr im Forum \nmit Andreas Werling
URL:https://eimsbuettel-senioren.de/angebot/alteraktiv-gymnastik/2026-07-06/
LOCATION:Freizeitzentrum Schnelsen e.V.\, Wählingsallee 16\, Hamburg\, Hamburg\, 22459\, Deutschland
CATEGORIES:Bewegung / Gesundheit
END:VEVENT
BEGIN:VEVENT
DTSTART;TZID=Europe/Berlin:20260713T120000
DTEND;TZID=Europe/Berlin:20260713T124500
DTSTAMP:20260420T161000
CREATED:20231120T173809Z
LAST-MODIFIED:20231120T173809Z
UID:10017521-1783944000-1783946700@eimsbuettel-senioren.de
SUMMARY:AlterAktiv Gymnastik
DESCRIPTION:Gymnastik\, immer Montags von  12:00 – 12:45 Uhr im Forum \nmit Andreas Werling
URL:https://eimsbuettel-senioren.de/angebot/alteraktiv-gymnastik/2026-07-13/
LOCATION:Freizeitzentrum Schnelsen e.V.\, Wählingsallee 16\, Hamburg\, Hamburg\, 22459\, Deutschland
CATEGORIES:Bewegung / Gesundheit
END:VEVENT
BEGIN:VEVENT
DTSTART;TZID=Europe/Berlin:20260720T120000
DTEND;TZID=Europe/Berlin:20260720T124500
DTSTAMP:20260420T161000
CREATED:20231120T173809Z
LAST-MODIFIED:20231120T173809Z
UID:10017522-1784548800-1784551500@eimsbuettel-senioren.de
SUMMARY:AlterAktiv Gymnastik
DESCRIPTION:Gymnastik\, immer Montags von  12:00 – 12:45 Uhr im Forum \nmit Andreas Werling
URL:https://eimsbuettel-senioren.de/angebot/alteraktiv-gymnastik/2026-07-20/
LOCATION:Freizeitzentrum Schnelsen e.V.\, Wählingsallee 16\, Hamburg\, Hamburg\, 22459\, Deutschland
CATEGORIES:Bewegung / Gesundheit
END:VEVENT
BEGIN:VEVENT
DTSTART;TZID=Europe/Berlin:20260727T120000
DTEND;TZID=Europe/Berlin:20260727T124500
DTSTAMP:20260420T161000
CREATED:20231120T173809Z
LAST-MODIFIED:20231120T173809Z
UID:10017523-1785153600-1785156300@eimsbuettel-senioren.de
SUMMARY:AlterAktiv Gymnastik
DESCRIPTION:Gymnastik\, immer Montags von  12:00 – 12:45 Uhr im Forum \nmit Andreas Werling
URL:https://eimsbuettel-senioren.de/angebot/alteraktiv-gymnastik/2026-07-27/
LOCATION:Freizeitzentrum Schnelsen e.V.\, Wählingsallee 16\, Hamburg\, Hamburg\, 22459\, Deutschland
CATEGORIES:Bewegung / Gesundheit
END:VEVENT
BEGIN:VEVENT
DTSTART;TZID=Europe/Berlin:20260803T120000
DTEND;TZID=Europe/Berlin:20260803T124500
DTSTAMP:20260420T161000
CREATED:20231120T173809Z
LAST-MODIFIED:20231120T173809Z
UID:10017524-1785758400-1785761100@eimsbuettel-senioren.de
SUMMARY:AlterAktiv Gymnastik
DESCRIPTION:Gymnastik\, immer Montags von  12:00 – 12:45 Uhr im Forum \nmit Andreas Werling
URL:https://eimsbuettel-senioren.de/angebot/alteraktiv-gymnastik/2026-08-03/
LOCATION:Freizeitzentrum Schnelsen e.V.\, Wählingsallee 16\, Hamburg\, Hamburg\, 22459\, Deutschland
CATEGORIES:Bewegung / Gesundheit
END:VEVENT
BEGIN:VEVENT
DTSTART;TZID=Europe/Berlin:20260810T120000
DTEND;TZID=Europe/Berlin:20260810T124500
DTSTAMP:20260420T161000
CREATED:20231120T173809Z
LAST-MODIFIED:20231120T173809Z
UID:10017525-1786363200-1786365900@eimsbuettel-senioren.de
SUMMARY:AlterAktiv Gymnastik
DESCRIPTION:Gymnastik\, immer Montags von  12:00 – 12:45 Uhr im Forum \nmit Andreas Werling
URL:https://eimsbuettel-senioren.de/angebot/alteraktiv-gymnastik/2026-08-10/
LOCATION:Freizeitzentrum Schnelsen e.V.\, Wählingsallee 16\, Hamburg\, Hamburg\, 22459\, Deutschland
CATEGORIES:Bewegung / Gesundheit
END:VEVENT
BEGIN:VEVENT
DTSTART;TZID=Europe/Berlin:20260817T120000
DTEND;TZID=Europe/Berlin:20260817T124500
DTSTAMP:20260420T161000
CREATED:20231120T173809Z
LAST-MODIFIED:20231120T173809Z
UID:10017526-1786968000-1786970700@eimsbuettel-senioren.de
SUMMARY:AlterAktiv Gymnastik
DESCRIPTION:Gymnastik\, immer Montags von  12:00 – 12:45 Uhr im Forum \nmit Andreas Werling
URL:https://eimsbuettel-senioren.de/angebot/alteraktiv-gymnastik/2026-08-17/
LOCATION:Freizeitzentrum Schnelsen e.V.\, Wählingsallee 16\, Hamburg\, Hamburg\, 22459\, Deutschland
CATEGORIES:Bewegung / Gesundheit
END:VEVENT
BEGIN:VEVENT
DTSTART;TZID=Europe/Berlin:20260824T120000
DTEND;TZID=Europe/Berlin:20260824T124500
DTSTAMP:20260420T161000
CREATED:20231120T173809Z
LAST-MODIFIED:20231120T173809Z
UID:10017527-1787572800-1787575500@eimsbuettel-senioren.de
SUMMARY:AlterAktiv Gymnastik
DESCRIPTION:Gymnastik\, immer Montags von  12:00 – 12:45 Uhr im Forum \nmit Andreas Werling
URL:https://eimsbuettel-senioren.de/angebot/alteraktiv-gymnastik/2026-08-24/
LOCATION:Freizeitzentrum Schnelsen e.V.\, Wählingsallee 16\, Hamburg\, Hamburg\, 22459\, Deutschland
CATEGORIES:Bewegung / Gesundheit
END:VEVENT
BEGIN:VEVENT
DTSTART;TZID=Europe/Berlin:20260831T120000
DTEND;TZID=Europe/Berlin:20260831T124500
DTSTAMP:20260420T161000
CREATED:20231120T173809Z
LAST-MODIFIED:20231120T173809Z
UID:10017528-1788177600-1788180300@eimsbuettel-senioren.de
SUMMARY:AlterAktiv Gymnastik
DESCRIPTION:Gymnastik\, immer Montags von  12:00 – 12:45 Uhr im Forum \nmit Andreas Werling
URL:https://eimsbuettel-senioren.de/angebot/alteraktiv-gymnastik/2026-08-31/
LOCATION:Freizeitzentrum Schnelsen e.V.\, Wählingsallee 16\, Hamburg\, Hamburg\, 22459\, Deutschland
CATEGORIES:Bewegung / Gesundheit
END:VEVENT
BEGIN:VEVENT
DTSTART;TZID=Europe/Berlin:20260907T120000
DTEND;TZID=Europe/Berlin:20260907T124500
DTSTAMP:20260420T161000
CREATED:20231120T173809Z
LAST-MODIFIED:20231120T173809Z
UID:10017529-1788782400-1788785100@eimsbuettel-senioren.de
SUMMARY:AlterAktiv Gymnastik
DESCRIPTION:Gymnastik\, immer Montags von  12:00 – 12:45 Uhr im Forum \nmit Andreas Werling
URL:https://eimsbuettel-senioren.de/angebot/alteraktiv-gymnastik/2026-09-07/
LOCATION:Freizeitzentrum Schnelsen e.V.\, Wählingsallee 16\, Hamburg\, Hamburg\, 22459\, Deutschland
CATEGORIES:Bewegung / Gesundheit
END:VEVENT
BEGIN:VEVENT
DTSTART;TZID=Europe/Berlin:20260914T120000
DTEND;TZID=Europe/Berlin:20260914T124500
DTSTAMP:20260420T161000
CREATED:20231120T173809Z
LAST-MODIFIED:20231120T173809Z
UID:10017530-1789387200-1789389900@eimsbuettel-senioren.de
SUMMARY:AlterAktiv Gymnastik
DESCRIPTION:Gymnastik\, immer Montags von  12:00 – 12:45 Uhr im Forum \nmit Andreas Werling
URL:https://eimsbuettel-senioren.de/angebot/alteraktiv-gymnastik/2026-09-14/
LOCATION:Freizeitzentrum Schnelsen e.V.\, Wählingsallee 16\, Hamburg\, Hamburg\, 22459\, Deutschland
CATEGORIES:Bewegung / Gesundheit
END:VEVENT
BEGIN:VEVENT
DTSTART;TZID=Europe/Berlin:20260921T120000
DTEND;TZID=Europe/Berlin:20260921T124500
DTSTAMP:20260420T161000
CREATED:20231120T173809Z
LAST-MODIFIED:20231120T173809Z
UID:10017531-1789992000-1789994700@eimsbuettel-senioren.de
SUMMARY:AlterAktiv Gymnastik
DESCRIPTION:Gymnastik\, immer Montags von  12:00 – 12:45 Uhr im Forum \nmit Andreas Werling
URL:https://eimsbuettel-senioren.de/angebot/alteraktiv-gymnastik/2026-09-21/
LOCATION:Freizeitzentrum Schnelsen e.V.\, Wählingsallee 16\, Hamburg\, Hamburg\, 22459\, Deutschland
CATEGORIES:Bewegung / Gesundheit
END:VEVENT
BEGIN:VEVENT
DTSTART;TZID=Europe/Berlin:20260928T120000
DTEND;TZID=Europe/Berlin:20260928T124500
DTSTAMP:20260420T161000
CREATED:20231120T173809Z
LAST-MODIFIED:20231120T173809Z
UID:10017532-1790596800-1790599500@eimsbuettel-senioren.de
SUMMARY:AlterAktiv Gymnastik
DESCRIPTION:Gymnastik\, immer Montags von  12:00 – 12:45 Uhr im Forum \nmit Andreas Werling
URL:https://eimsbuettel-senioren.de/angebot/alteraktiv-gymnastik/2026-09-28/
LOCATION:Freizeitzentrum Schnelsen e.V.\, Wählingsallee 16\, Hamburg\, Hamburg\, 22459\, Deutschland
CATEGORIES:Bewegung / Gesundheit
END:VEVENT
BEGIN:VEVENT
DTSTART;TZID=Europe/Berlin:20261005T120000
DTEND;TZID=Europe/Berlin:20261005T124500
DTSTAMP:20260420T161000
CREATED:20231120T173809Z
LAST-MODIFIED:20231120T173809Z
UID:10017533-1791201600-1791204300@eimsbuettel-senioren.de
SUMMARY:AlterAktiv Gymnastik
DESCRIPTION:Gymnastik\, immer Montags von  12:00 – 12:45 Uhr im Forum \nmit Andreas Werling
URL:https://eimsbuettel-senioren.de/angebot/alteraktiv-gymnastik/2026-10-05/
LOCATION:Freizeitzentrum Schnelsen e.V.\, Wählingsallee 16\, Hamburg\, Hamburg\, 22459\, Deutschland
CATEGORIES:Bewegung / Gesundheit
END:VEVENT
BEGIN:VEVENT
DTSTART;TZID=Europe/Berlin:20261012T120000
DTEND;TZID=Europe/Berlin:20261012T124500
DTSTAMP:20260420T161000
CREATED:20231120T173809Z
LAST-MODIFIED:20231120T173809Z
UID:10017534-1791806400-1791809100@eimsbuettel-senioren.de
SUMMARY:AlterAktiv Gymnastik
DESCRIPTION:Gymnastik\, immer Montags von  12:00 – 12:45 Uhr im Forum \nmit Andreas Werling
URL:https://eimsbuettel-senioren.de/angebot/alteraktiv-gymnastik/2026-10-12/
LOCATION:Freizeitzentrum Schnelsen e.V.\, Wählingsallee 16\, Hamburg\, Hamburg\, 22459\, Deutschland
CATEGORIES:Bewegung / Gesundheit
END:VEVENT
BEGIN:VEVENT
DTSTART;TZID=Europe/Berlin:20261019T120000
DTEND;TZID=Europe/Berlin:20261019T124500
DTSTAMP:20260420T161000
CREATED:20231120T173809Z
LAST-MODIFIED:20231120T173809Z
UID:10017535-1792411200-1792413900@eimsbuettel-senioren.de
SUMMARY:AlterAktiv Gymnastik
DESCRIPTION:Gymnastik\, immer Montags von  12:00 – 12:45 Uhr im Forum \nmit Andreas Werling
URL:https://eimsbuettel-senioren.de/angebot/alteraktiv-gymnastik/2026-10-19/
LOCATION:Freizeitzentrum Schnelsen e.V.\, Wählingsallee 16\, Hamburg\, Hamburg\, 22459\, Deutschland
CATEGORIES:Bewegung / Gesundheit
END:VEVENT
BEGIN:VEVENT
DTSTART;TZID=Europe/Berlin:20261026T120000
DTEND;TZID=Europe/Berlin:20261026T124500
DTSTAMP:20260420T161000
CREATED:20231120T173809Z
LAST-MODIFIED:20231120T173809Z
UID:10017536-1793016000-1793018700@eimsbuettel-senioren.de
SUMMARY:AlterAktiv Gymnastik
DESCRIPTION:Gymnastik\, immer Montags von  12:00 – 12:45 Uhr im Forum \nmit Andreas Werling
URL:https://eimsbuettel-senioren.de/angebot/alteraktiv-gymnastik/2026-10-26/
LOCATION:Freizeitzentrum Schnelsen e.V.\, Wählingsallee 16\, Hamburg\, Hamburg\, 22459\, Deutschland
CATEGORIES:Bewegung / Gesundheit
END:VEVENT
BEGIN:VEVENT
DTSTART;TZID=Europe/Berlin:20261102T120000
DTEND;TZID=Europe/Berlin:20261102T124500
DTSTAMP:20260420T161000
CREATED:20231120T173809Z
LAST-MODIFIED:20231120T173809Z
UID:10017537-1793620800-1793623500@eimsbuettel-senioren.de
SUMMARY:AlterAktiv Gymnastik
DESCRIPTION:Gymnastik\, immer Montags von  12:00 – 12:45 Uhr im Forum \nmit Andreas Werling
URL:https://eimsbuettel-senioren.de/angebot/alteraktiv-gymnastik/2026-11-02/
LOCATION:Freizeitzentrum Schnelsen e.V.\, Wählingsallee 16\, Hamburg\, Hamburg\, 22459\, Deutschland
CATEGORIES:Bewegung / Gesundheit
END:VEVENT
BEGIN:VEVENT
DTSTART;TZID=Europe/Berlin:20261109T120000
DTEND;TZID=Europe/Berlin:20261109T124500
DTSTAMP:20260420T161000
CREATED:20231120T173809Z
LAST-MODIFIED:20231120T173809Z
UID:10017538-1794225600-1794228300@eimsbuettel-senioren.de
SUMMARY:AlterAktiv Gymnastik
DESCRIPTION:Gymnastik\, immer Montags von  12:00 – 12:45 Uhr im Forum \nmit Andreas Werling
URL:https://eimsbuettel-senioren.de/angebot/alteraktiv-gymnastik/2026-11-09/
LOCATION:Freizeitzentrum Schnelsen e.V.\, Wählingsallee 16\, Hamburg\, Hamburg\, 22459\, Deutschland
CATEGORIES:Bewegung / Gesundheit
END:VEVENT
BEGIN:VEVENT
DTSTART;TZID=Europe/Berlin:20261116T120000
DTEND;TZID=Europe/Berlin:20261116T124500
DTSTAMP:20260420T161000
CREATED:20231120T173809Z
LAST-MODIFIED:20231120T173809Z
UID:10017539-1794830400-1794833100@eimsbuettel-senioren.de
SUMMARY:AlterAktiv Gymnastik
DESCRIPTION:Gymnastik\, immer Montags von  12:00 – 12:45 Uhr im Forum \nmit Andreas Werling
URL:https://eimsbuettel-senioren.de/angebot/alteraktiv-gymnastik/2026-11-16/
LOCATION:Freizeitzentrum Schnelsen e.V.\, Wählingsallee 16\, Hamburg\, Hamburg\, 22459\, Deutschland
CATEGORIES:Bewegung / Gesundheit
END:VEVENT
END:VCALENDAR